Workbook

Sheet 1_PHIEU_TU_VAN
A1: LEGACY 66 | PHIẾU TƯ VẤN
A3: LƯU Ý: THÔNG TIN BÊN DƯỚI LÀ GIẢ ĐỊNH PHỤC VỤ TƯ VẤN. PHIẾU TÍNH GIÁ CHI TIẾT SẼ ĐƯỢC CẬP NHẬT KHI CHỦ ĐẦU TƯ BAN HÀNH BẢNG GIÁ CHÍNH THỨC
A5: VUI LÒNG NHẬP TAY VÀO Ô MÀU VÀNG
A6: 1 | THÔNG TIN KHÁCH QUAN TÂM & GIÁ RUMOR
A7: Chọn loại căn | B7: 2PN | D7: Nhập giá rumor (tỷ, chưa VAT) | F7: 8.9 | I7: Chọn Early Bird | K7: Có
A8: Nhập DT thông thủy (m²) | B8: 65.76 | D8: Đơn giá tim tường (trđ/m²) | F8: =IFERROR(F7*1000/B9,0) -> 119.12729 | I8: Chọn PTTT | K8: Chuẩn 24 tháng
A9: Nhập DT tim tường (m²) | B9: 74.71 | I9: Nhập ngày HĐMB dự kiến | K9: 46295
A10: Nhập mã căn quan tâm | I10: Nhập mốc nhận nhà dự kiến | K10: 46568
A11: Nhập số lượng căn | B11: 1
A13: 2 | PHƯƠNG ÁN ĐANG TƯ VẤN
A14: PTTT | B14: GIÁ SAU CK + VAT | D14: VỐN KH ĐẾN NHẬN NHÀ | F14: VỐN KH SAU NHẬN NHÀ | I14: PHÍ BẢO TRÌ | K14: GCN 5%
A15: =$K$8 -> Chuẩn 24 tháng | B15: =$F$7*(1-(IF($K$7="Có",'8_THAM_SO'!$B$16,0)))*(1-(INDEX('8_THAM_SO'!$B$4:$B$9,MATCH($K$8,'8_THAM_SO'!$A$4:$A$9,0))))*(1-(IF($B$11>=5,'8_THAM_SO'!$B$19,IF($B$11>=3,'8_THAM_SO'!$B$18,IF($B$11=2,'8_THAM_SO'!$B$17,0)))))*(1+'8_THAM_SO'!$B$14) -> 9.306374 | D15: =IF($K$8="Vay ngân hàng",$B$15*'8_THAM_SO'!$E$13,$B$15*INDEX('8_THAM_SO'!$C$4:$C$9,MATCH($K$8,'8_THAM_SO'!$A$4:$A$9,0))) -> 4.653187 | F15: =IF($K$8="Vay ngân hàng",0,$B$15*INDEX('8_THAM_SO'!$D$4:$D$9,MATCH($K$8,'8_THAM_SO'!$A$4:$A$9,0))) -> 4.1878683 | I15: =$F$7*(1-(IF($K$7="Có",'8_THAM_SO'!$B$16,0))-(IF($B$11>=5,'8_THAM_SO'!$B$19,IF($B$11>=3,'8_THAM_SO'!$B$18,IF($B$11=2,'8_THAM_SO'!$B$17,0))))-(INDEX('8_THAM_SO'!$B$4:$B$9,MATCH($K$8,'8_THAM_SO'!$A$4:$A$9,0))))*'8_THAM_SO'!$B$15 -> 0.1691 | K15: =$B$15*0.05 -> 0.4653187
A18: 3 | SO SÁNH NHANH CÁC PHƯƠNG ÁN THANH TOÁN
A19: PTTT | B19: CK PTTT | C19: Tổng CK dự kiến | D19: Giá sau CK chưa VAT | E19: Giá sau CK + VAT | F19: Vốn KH đến nhận nhà | G19: Vốn KH sau nhận nhà | H19: Phí bảo trì | I19: GCN 5% | J19: Gợi ý
A20: ='8_THAM_SO'!A9 -> Vay ngân hàng | B20: ='8_THAM_SO'!B9 -> 0 | C20: =1-(1-(IF($K$7="Có",'8_THAM_SO'!$B$16,0)))*(1-B20)*(1-(IF($B$11>=5,'8_THAM_SO'!$B$19,IF($B$11>=3,'8_THAM_SO'!$B$18,IF($B$11=2,'8_THAM_SO'!$B$17,0))))) -> 0.03 | D20: =$F$7*(1-(IF($K$7="Có",'8_THAM_SO'!$B$16,0)))*(1-B20)*(1-(IF($B$11>=5,'8_THAM_SO'!$B$19,IF($B$11>=3,'8_THAM_SO'!$B$18,IF($B$11=2,'8_THAM_SO'!$B$17,0))))) -> 8.633 | E20: =D20*(1+'8_THAM_SO'!$B$14) -> 9.4963 | F20: =IF(A20="Vay ngân hàng",E20*'8_THAM_SO'!$E$13,E20*'8_THAM_SO'!C9) -> 2.84889 | G20: =IF(A20="Vay ngân hàng",0,E20*'8_THAM_SO'!D9) -> 0 | H20: =D20*'8_THAM_SO'!$B$15 -> 0.17266 | I20: =E20*'8_THAM_SO'!E9 -> 0.474815 | J20: ='8_THAM_SO'!F9 -> Giảm vốn tự có nhờ ngân hàng
A21: ='8_THAM_SO'!A7 -> Nhanh 50 | B21: ='8_THAM_SO'!B7 -> 0.05 | C21: =1-(1-(IF($K$7="Có",'8_THAM_SO'!$B$16,0)))*(1-B21)*(1-(IF($B$11>=5,'8_THAM_SO'!$B$19,IF($B$11>=3,'8_THAM_SO'!$B$18,IF($B$11=2,'8_THAM_SO'!$B$17,0))))) -> 0.0785 | D21: =$F$7*(1-(IF($K$7="Có",'8_THAM_SO'!$B$16,0)))*(1-B21)*(1-(IF($B$11>=5,'8_THAM_SO'!$B$19,IF($B$11>=3,'8_THAM_SO'!$B$18,IF($B$11=2,'8_THAM_SO'!$B$17,0))))) -> 8.20135 | E21: =D21*(1+'8_THAM_SO'!$B$14) -> 9.021485 | F21: =IF(A21="Vay ngân hàng",E21*'8_THAM_SO'!$E$13,E21*'8_THAM_SO'!C7) -> 8.5704108 | G21: =IF(A21="Vay ngân hàng",0,E21*'8_THAM_SO'!D7) -> 0 | H21: =D21*'8_THAM_SO'!$B$15 -> 0.164027 | I21: =E21*'8_THAM_SO'!E7 -> 0.45107425 | J21: ='8_THAM_SO'!F7 -> Tối ưu giá, giữ vốn sau nhận nhà
A22: ='8_THAM_SO'!A8 -> Nhanh 70 | B22: ='8_THAM_SO'!B8 -> 0.06 | C22: =1-(1-(IF($K$7="Có",'8_THAM_SO'!$B$16,0)))*(1-B22)*(1-(IF($B$11>=5,'8_THAM_SO'!$B$19,IF($B$11>=3,'8_THAM_SO'!$B$18,IF($B$11=2,'8_THAM_SO'!$B$17,0))))) -> 0.0882 | D22: =$F$7*(1-(IF($K$7="Có",'8_THAM_SO'!$B$16,0)))*(1-B22)*(1-(IF($B$11>=5,'8_THAM_SO'!$B$19,IF($B$11>=3,'8_THAM_SO'!$B$18,IF($B$11=2,'8_THAM_SO'!$B$17,0))))) -> 8.11502 | E22: =D22*(1+'8_THAM_SO'!$B$14) -> 8.926522 | F22: =IF(A22="Vay ngân hàng",E22*'8_THAM_SO'!$E$13,E22*'8_THAM_SO'!C8) -> 8.4801959 | G22: =IF(A22="Vay ngân hàng",0,E22*'8_THAM_SO'!D8) -> 0 | H22: =D22*'8_THAM_SO'!$B$15 -> 0.1623004 | I22: =E22*'8_THAM_SO'!E8 -> 0.4463261 | J22: ='8_THAM_SO'!F8 -> Giá tốt nhất, vốn vào nhanh
A23: ='8_THAM_SO'!A6 -> Chuẩn 24 tháng | B23: ='8_THAM_SO'!B6 -> 0.02 | C23: =1-(1-(IF($K$7="Có",'8_THAM_SO'!$B$16,0)))*(1-B23)*(1-(IF($B$11>=5,'8_THAM_SO'!$B$19,IF($B$11>=3,'8_THAM_SO'!$B$18,IF($B$11=2,'8_THAM_SO'!$B$17,0))))) -> 0.0494 | D23: =$F$7*(1-(IF($K$7="Có",'8_THAM_SO'!$B$16,0)))*(1-B23)*(1-(IF($B$11>=5,'8_THAM_SO'!$B$19,IF($B$11>=3,'8_THAM_SO'!$B$18,IF($B$11=2,'8_THAM_SO'!$B$17,0))))) -> 8.46034 | E23: =D23*(1+'8_THAM_SO'!$B$14) -> 9.306374 | F23: =IF(A23="Vay ngân hàng",E23*'8_THAM_SO'!$E$13,E23*'8_THAM_SO'!C6) -> 4.653187 | G23: =IF(A23="Vay ngân hàng",0,E23*'8_THAM_SO'!D6) -> 4.1878683 | H23: =D23*'8_THAM_SO'!$B$15 -> 0.1692068 | I23: =E23*'8_THAM_SO'!E6 -> 0.4653187 | J23: ='8_THAM_SO'!F6 -> Cân bằng dòng tiền
A24: ='8_THAM_SO'!A5 -> 36 tháng | B24: ='8_THAM_SO'!B5 -> 0.01 | C24: =1-(1-(IF($K$7="Có",'8_THAM_SO'!$B$16,0)))*(1-B24)*(1-(IF($B$11>=5,'8_THAM_SO'!$B$19,IF($B$11>=3,'8_THAM_SO'!$B$18,IF($B$11=2,'8_THAM_SO'!$B$17,0))))) -> 0.0397 | D24: =$F$7*(1-(IF($K$7="Có",'8_THAM_SO'!$B$16,0)))*(1-B24)*(1-(IF($B$11>=5,'8_THAM_SO'!$B$19,IF($B$11>=3,'8_THAM_SO'!$B$18,IF($B$11=2,'8_THAM_SO'!$B$17,0))))) -> 8.54667 | E24: =D24*(1+'8_THAM_SO'!$B$14) -> 9.401337 | F24: =IF(A24="Vay ngân hàng",E24*'8_THAM_SO'!$E$13,E24*'8_THAM_SO'!C5) -> 2.8204011 | G24: =IF(A24="Vay ngân hàng",0,E24*'8_THAM_SO'!D5) -> 6.1108691 | H24: =D24*'8_THAM_SO'!$B$15 -> 0.1709334 | I24: =E24*'8_THAM_SO'!E5 -> 0.47006685 | J24: ='8_THAM_SO'!F5 -> Nhẹ dòng tiền
A25: ='8_THAM_SO'!A4 -> 48 tháng | B25: ='8_THAM_SO'!B4 -> 0 | C25: =1-(1-(IF($K$7="Có",'8_THAM_SO'!$B$16,0)))*(1-B25)*(1-(IF($B$11>=5,'8_THAM_SO'!$B$19,IF($B$11>=3,'8_THAM_SO'!$B$18,IF($B$11=2,'8_THAM_SO'!$B$17,0))))) -> 0.03 | D25: =$F$7*(1-(IF($K$7="Có",'8_THAM_SO'!$B$16,0)))*(1-B25)*(1-(IF($B$11>=5,'8_THAM_SO'!$B$19,IF($B$11>=3,'8_THAM_SO'!$B$18,IF($B$11=2,'8_THAM_SO'!$B$17,0))))) -> 8.633 | E25: =D25*(1+'8_THAM_SO'!$B$14) -> 9.4963 | F25: =IF(A25="Vay ngân hàng",E25*'8_THAM_SO'!$E$13,E25*'8_THAM_SO'!C4) -> 2.374075 | G25: =IF(A25="Vay ngân hàng",0,E25*'8_THAM_SO'!D4) -> 6.64741 | H25: =D25*'8_THAM_SO'!$B$15 -> 0.17266 | I25: =E25*'8_THAM_SO'!E4 -> 0.474815 | J25: ='8_THAM_SO'!F4 -> Nhẹ dòng tiền nhất
A27: 4 | THÔNG TIN LIÊN HỆ
A28: Chuyên viên tư vấn
A29: Số điện thoại
A30: Đại lý
A31: Email

Sheet 2_VAY_NH
A1: LEGACY 66 | PTTT VAY NGÂN HÀNG
A3: Loại căn | B3: ='1_PHIEU_TU_VAN'!B7 -> 2PN | C3: CK Early Bird | D3: =IF('1_PHIEU_TU_VAN'!K7="Có",'8_THAM_SO'!$B$16,0) -> 0.03 | F3: Giá rumor chưa VAT | G3: ='1_PHIEU_TU_VAN'!F7*1000000000 -> 8900000000
A4: DT Tim tường | B4: ='1_PHIEU_TU_VAN'!B9 -> 74.71 | C4: CK PTTT | D4: =INDEX('8_THAM_SO'!$B$4:$B$9,MATCH("Vay ngân hàng",'8_THAM_SO'!$A$4:$A$9,0)) -> 0 | F4: Giá sau CK chưa VAT | G4: =G3*(1-D3)*(1-D4)*(1-D5) -> 8633000000
A5: DT Thông thủy | B5: ='1_PHIEU_TU_VAN'!B8 -> 65.76 | C5: CK sỉ | D5: =IF('1_PHIEU_TU_VAN'!B11>=5,'8_THAM_SO'!$B$19,IF('1_PHIEU_TU_VAN'!B11>=3,'8_THAM_SO'!$B$18,IF('1_PHIEU_TU_VAN'!B11=2,'8_THAM_SO'!$B$17,0))) -> 0 | F5: Giá sau CK + VAT | G5: =G4*(1+'8_THAM_SO'!$B$14) -> 9496300000
C6: Tổng CK dự kiến | D6: =1-(1-D3)*(1-D4)*(1-D5) -> 0.03
A9: Đợt | B9: Ngày dự kiến | C9: Nội dung | D9: KH % | E9: NH % | F9: Tổng % | G9: KH thanh toán | H9: NH giải ngân | I9: THÀNH TIỀN LŨY KẾ | J9: Ghi chú
B10: ='1_PHIEU_TU_VAN'!$K$9-7 -> 46288 | C10: Ký Phiếu đặt cọc | G10: ='8_THAM_SO'!$B$13 -> 100000000 | I10: =G10 -> 100000000
A11: =IF(B11="","","Đợt "&COUNT($B$11:B11)) -> Đợt 1 | B11: ='1_PHIEU_TU_VAN'!$K$9 -> 46295 | C11: =IF(B11="","",IF(B11='1_PHIEU_TU_VAN'!$K$9,"Ký HĐMB",IF(B11='1_PHIEU_TU_VAN'!$K$10,"Nhận nhà dự kiến","Sau 00 tháng"))) -> Ký HĐMB | D11: =IF(B11="","",IF(B11='1_PHIEU_TU_VAN'!$K$10,MAX(0,'8_THAM_SO'!$E$13-5%-(0)),0.1)) -> 0.1 | E11: =IF(B11="","",IF(B11='1_PHIEU_TU_VAN'!$K$10,MAX(0,'8_THAM_SO'!$E$14-(0)),0)) -> 0 | F11: =IF(B11="","",D11+E11) -> 0.1 | G11: =IF(D11="","",$G$5*D11) -> 949630000 | H11: =IF(E11="","",$G$5*E11) -> 0 | I11: =IF(F11="","",$G$5*SUM($F$11:F11)) -> 949630000 | J11: =IF(B11="","",IF(B11='1_PHIEU_TU_VAN'!$K$9,"Đã bao gồm 100 triệu đặt cọc",IF(B11='1_PHIEU_TU_VAN'!$K$10,"Mốc nhận nhà dự kiến",""))) -> Đã bao gồm 100 triệu đặt cọc
A12: =IF(B12="","","Đợt "&COUNT($B$11:B12)) -> Đợt 2 | B12: =IF($B11='1_PHIEU_TU_VAN'!$K$10,"",MIN(EDATE('1_PHIEU_TU_VAN'!$K$9,1),'1_PHIEU_TU_VAN'!$K$10)) -> 46325 | C12: =IF(B12="","",IF(B12='1_PHIEU_TU_VAN'!$K$9,"Ký HĐMB",IF(B12='1_PHIEU_TU_VAN'!$K$10,"Nhận nhà dự kiến","Sau 01 tháng"))) -> Sau 01 tháng | D12: =IF(B12="","",IF(B12='1_PHIEU_TU_VAN'!$K$10,MAX(0,'8_THAM_SO'!$E$13-5%-(SUM($D$11:D11))),0.1)) -> 0.1 | E12: =IF(B12="","",IF(B12='1_PHIEU_TU_VAN'!$K$10,MAX(0,'8_THAM_SO'!$E$14-(SUM($E$11:E11))),0)) -> 0 | F12: =IF(B12="","",D12+E12) -> 0.1 | G12: =IF(D12="","",$G$5*D12) -> 949630000 | H12: =IF(E12="","",$G$5*E12) -> 0 | I12: =IF(F12="","",$G$5*SUM($F$11:F12)) -> 1899260000 | J12: =IF(B12="","",IF(B12='1_PHIEU_TU_VAN'!$K$9,"Đã bao gồm 100 triệu đặt cọc",IF(B12='1_PHIEU_TU_VAN'!$K$10,"Mốc nhận nhà dự kiến","")))
A13: =IF(B13="","","Đợt "&COUNT($B$11:B13)) -> Đợt 3 | B13: =IF($B12='1_PHIEU_TU_VAN'!$K$10,"",MIN(EDATE('1_PHIEU_TU_VAN'!$K$9,2),'1_PHIEU_TU_VAN'!$K$10)) -> 46356 | C13: =IF(B13="","",IF(B13='1_PHIEU_TU_VAN'!$K$9,"Ký HĐMB",IF(B13='1_PHIEU_TU_VAN'!$K$10,"Nhận nhà dự kiến","Sau 02 tháng"))) -> Sau 02 tháng | D13: =IF(B13="","",IF(B13='1_PHIEU_TU_VAN'!$K$10,MAX(0,'8_THAM_SO'!$E$13-5%-(SUM($D$11:D12))),0)) -> 0 | E13: =IF(B13="","",IF(B13='1_PHIEU_TU_VAN'!$K$10,MAX(0,'8_THAM_SO'!$E$14-(SUM($E$11:E12))),0.4)) -> 0.4 | F13: =IF(B13="","",D13+E13) -> 0.4 | G13: =IF(D13="","",$G$5*D13) -> 0 | H13: =IF(E13="","",$G$5*E13) -> 3798520000 | I13: =IF(F13="","",$G$5*SUM($F$11:F13)) -> 5.69778e+09 | J13: =IF(B13="","",IF(B13='1_PHIEU_TU_VAN'!$K$9,"Đã bao gồm 100 triệu đặt cọc",IF(B13='1_PHIEU_TU_VAN'!$K$10,"Mốc nhận nhà dự kiến","")))
A14: =IF(B14="","","Đợt "&COUNT($B$11:B14)) -> Đợt 4 | B14: =IF($B13='1_PHIEU_TU_VAN'!$K$10,"",MIN(EDATE('1_PHIEU_TU_VAN'!$K$9,9),'1_PHIEU_TU_VAN'!$K$10)) -> 46568 | C14: =IF(B14="","",IF(B14='1_PHIEU_TU_VAN'!$K$9,"Ký HĐMB",IF(B14='1_PHIEU_TU_VAN'!$K$10,"Nhận nhà dự kiến","Sau 06 tháng"))) -> Nhận nhà dự kiến | D14: =IF(B14="","",IF(B14='1_PHIEU_TU_VAN'!$K$10,MAX(0,'8_THAM_SO'!$E$13-5%-(SUM($D$11:D13))),0)) -> 0.05 | E14: =IF(B14="","",IF(B14='1_PHIEU_TU_VAN'!$K$10,MAX(0,'8_THAM_SO'!$E$14-(SUM($E$11:E13))),0)) -> 0.3 | F14: =IF(B14="","",D14+E14) -> 0.35 | G14: =IF(D14="","",$G$5*D14) -> 4.74815e+08 | H14: =IF(E14="","",$G$5*E14) -> 2.84889e+09 | I14: =IF(F14="","",$G$5*SUM($F$11:F14)) -> 9021485000 | J14: =IF(B14="","",IF(B14='1_PHIEU_TU_VAN'!$K$9,"Đã bao gồm 100 triệu đặt cọc",IF(B14='1_PHIEU_TU_VAN'!$K$10,"Mốc nhận nhà dự kiến",""))) -> Mốc nhận nhà dự kiến
A15: ="Đợt "&(COUNT($B$11:$B$14)+1) -> Đợt 5 | C15: Thông báo cấp GCN | D15: 0.05 | E15: 0 | F15: =D15+E15 -> 0.05 | G15: =$G$5*D15 -> 474815000 | H15: =0 -> 0 | I15: =$G$5 -> 9496300000
A16: TỔNG | D16: =SUM($D$11:$D$15) -> 0.3 | E16: =SUM($E$11:$E$15) -> 0.7 | F16: =SUM($F$11:$F$15) -> 1 | G16: =SUM($G$11:$G$15) -> 2848890000 | H16: =SUM($H$11:$H$15) -> 6647410000 | I16: =$G$16+$H$16 -> 9496300000 | J16: KH 30% | NH 70% | Chưa gồm phí bảo trì 2%

Sheet 3_NHANH_70
A1: LEGACY 66 | PTTT NHANH 70
A3: Loại căn | B3: ='1_PHIEU_TU_VAN'!B7 -> 2PN | C3: CK Early Bird | D3: =IF('1_PHIEU_TU_VAN'!K7="Có",'8_THAM_SO'!$B$16,0) -> 0.03 | F3: Giá rumor chưa VAT | G3: ='1_PHIEU_TU_VAN'!F7*1000000000 -> 8900000000
A4: DT Tim tường | B4: ='1_PHIEU_TU_VAN'!B9 -> 74.71 | C4: CK PTTT | D4: =INDEX('8_THAM_SO'!$B$4:$B$9,MATCH("Nhanh 70",'8_THAM_SO'!$A$4:$A$9,0)) -> 0.06 | F4: Giá sau CK chưa VAT | G4: =G3*(1-D3)*(1-D4)*(1-D5) -> 8115020000
A5: DT Thông thủy | B5: ='1_PHIEU_TU_VAN'!B8 -> 65.76 | C5: CK sỉ | D5: =IF('1_PHIEU_TU_VAN'!B11>=5,'8_THAM_SO'!$B$19,IF('1_PHIEU_TU_VAN'!B11>=3,'8_THAM_SO'!$B$18,IF('1_PHIEU_TU_VAN'!B11=2,'8_THAM_SO'!$B$17,0))) -> 0 | F5: Giá sau CK + VAT | G5: =G4*(1+'8_THAM_SO'!$B$14) -> 8926522000
C6: Tổng CK dự kiến | D6: =1-(1-D3)*(1-D4)*(1-D5) -> 0.0882
A9: Đợt | B9: Ngày dự kiến | C9: Nội dung | D9: Tỷ lệ | E9: Thành tiền | F9: THÀNH TIỀN LŨY KẾ | G9: Lũy kế % | H9: Ghi chú
B10: ='1_PHIEU_TU_VAN'!$K$9-7 -> 46288 | C10: Ký Phiếu đặt cọc | E10: ='8_THAM_SO'!$B$13 -> 100000000 | F10: =E10 -> 100000000
A11: =IF(B11="","","Đợt "&COUNT($B$11:B11)) -> Đợt 1 | B11: ='1_PHIEU_TU_VAN'!$K$9 -> 46295 | C11: =IF(B11="","",IF(B11='1_PHIEU_TU_VAN'!$K$9,"Ký HĐMB",IF(B11='1_PHIEU_TU_VAN'!$K$10,"Nhận nhà dự kiến","Sau 01 tháng"))) -> Ký HĐMB | D11: =IF(B11="","",IF(B11='1_PHIEU_TU_VAN'!$K$10,MAX(0,'8_THAM_SO'!$C$8-0),30%)) -> 0.3 | E11: =IF(D11="","",$G$5*D11) -> 2677956600 | F11: =IF(G11="","",$G$5*G11) -> 2677956600 | G11: =IF(D11="","",0+D11) -> 0.3 | H11: =IF(B11="","",IF(B11='1_PHIEU_TU_VAN'!$K$9,"Đã bao gồm 100 triệu đặt cọc",IF(B11='1_PHIEU_TU_VAN'!$K$10,"Mốc nhận nhà dự kiến",""))) -> Đã bao gồm 100 triệu đặt cọc
A12: =IF(B12="","","Đợt "&COUNT($B$11:B12)) -> Đợt 2 | B12: =IF($B11='1_PHIEU_TU_VAN'!$K$10,"",IF(AND($B11<'1_PHIEU_TU_VAN'!$K$10,N($G11)>=70%),'1_PHIEU_TU_VAN'!$K$10,MIN(EDATE('1_PHIEU_TU_VAN'!$K$9,1),'1_PHIEU_TU_VAN'!$K$10))) -> 46325 | C12: =IF(B12="","",IF(B12='1_PHIEU_TU_VAN'!$K$9,"Ký HĐMB",IF(B12='1_PHIEU_TU_VAN'!$K$10,"Nhận nhà dự kiến","Sau 01 tháng"))) -> Sau 01 tháng | D12: =IF(B12="","",IF(B12='1_PHIEU_TU_VAN'!$K$10,MAX(0,'8_THAM_SO'!$C$8-N($G11)),40%)) -> 0.4 | E12: =IF(D12="","",$G$5*D12) -> 3570608800 | F12: =IF(G12="","",$G$5*G12) -> 6248565400 | G12: =IF(D12="","",N($G11)+D12) -> 0.7 | H12: =IF(B12="","",IF(B12='1_PHIEU_TU_VAN'!$K$9,"Đã bao gồm 100 triệu đặt cọc",IF(B12='1_PHIEU_TU_VAN'!$K$10,"Mốc nhận nhà dự kiến","")))
A13: =IF(B13="","","Đợt "&COUNT($B$11:B13)) -> Đợt 3 | B13: =IF($B12='1_PHIEU_TU_VAN'!$K$10,"",IF(AND($B12<'1_PHIEU_TU_VAN'!$K$10,N($G12)>=70%),'1_PHIEU_TU_VAN'!$K$10,MIN(EDATE('1_PHIEU_TU_VAN'!$K$9,2),'1_PHIEU_TU_VAN'!$K$10))) -> 46568 | C13: =IF(B13="","",IF(B13='1_PHIEU_TU_VAN'!$K$9,"Ký HĐMB",IF(B13='1_PHIEU_TU_VAN'!$K$10,"Nhận nhà dự kiến","Sau 01 tháng"))) -> Nhận nhà dự kiến | D13: =IF(B13="","",IF(B13='1_PHIEU_TU_VAN'!$K$10,MAX(0,'8_THAM_SO'!$C$8-N($G12)),40%)) -> 0.25 | E13: =IF(D13="","",$G$5*D13) -> 2231630500 | F13: =IF(G13="","",$G$5*G13) -> 8480195900 | G13: =IF(D13="","",N($G12)+D13) -> 0.95 | H13: =IF(B13="","",IF(B13='1_PHIEU_TU_VAN'!$K$9,"Đã bao gồm 100 triệu đặt cọc",IF(B13='1_PHIEU_TU_VAN'!$K$10,"Mốc nhận nhà dự kiến",""))) -> Mốc nhận nhà dự kiến
A14: ="Đợt "&(COUNT($B$11:$B$13)+1) -> Đợt 4 | C14: Thông báo cấp GCN | D14: 0.05 | E14: =$G$5*D14 -> 446326100 | F14: =$G$5*G14 -> 8926522000 | G14: =MAX(G11:G13)+D14 -> 1
A15: TỔNG | D15: =SUM($D$11:$D$14) -> 1 | E15: =SUM($E$11:$E$14) -> 8926522000 | H15: Chưa gồm phí bảo trì 2%

Sheet 4_NHANH_50
A1: LEGACY 66 | PTTT NHANH 50
A3: Loại căn | B3: ='1_PHIEU_TU_VAN'!B7 -> 2PN | C3: CK Early Bird | D3: =IF('1_PHIEU_TU_VAN'!K7="Có",'8_THAM_SO'!$B$16,0) -> 0.03 | F3: Giá rumor chưa VAT | G3: ='1_PHIEU_TU_VAN'!F7*1000000000 -> 8900000000
A4: DT Tim tường | B4: ='1_PHIEU_TU_VAN'!B9 -> 74.71 | C4: CK PTTT | D4: =INDEX('8_THAM_SO'!$B$4:$B$9,MATCH("Nhanh 50",'8_THAM_SO'!$A$4:$A$9,0)) -> 0.05 | F4: Giá sau CK chưa VAT | G4: =G3*(1-D3)*(1-D4)*(1-D5) -> 8201350000
A5: DT Thông thủy | B5: ='1_PHIEU_TU_VAN'!B8 -> 65.76 | C5: CK sỉ | D5: =IF('1_PHIEU_TU_VAN'!B11>=5,'8_THAM_SO'!$B$19,IF('1_PHIEU_TU_VAN'!B11>=3,'8_THAM_SO'!$B$18,IF('1_PHIEU_TU_VAN'!B11=2,'8_THAM_SO'!$B$17,0))) -> 0 | F5: Giá sau CK + VAT | G5: =G4*(1+'8_THAM_SO'!$B$14) -> 9021485000
C6: Tổng CK dự kiến | D6: =1-(1-D3)*(1-D4)*(1-D5) -> 0.0785
A9: Đợt | B9: Ngày dự kiến | C9: Nội dung | D9: Tỷ lệ | E9: Thành tiền | F9: THÀNH TIỀN LŨY KẾ | G9: Lũy kế % | H9: Ghi chú
B10: ='1_PHIEU_TU_VAN'!$K$9-7 -> 46288 | C10: Ký Phiếu đặt cọc | E10: ='8_THAM_SO'!$B$13 -> 100000000 | F10: =E10 -> 100000000
A11: =IF(B11="","","Đợt "&COUNT($B$11:B11)) -> Đợt 1 | B11: ='1_PHIEU_TU_VAN'!$K$9 -> 46295 | C11: =IF(B11="","",IF(B11='1_PHIEU_TU_VAN'!$K$9,"Ký HĐMB",IF(B11='1_PHIEU_TU_VAN'!$K$10,"Nhận nhà dự kiến",IF(B11>'1_PHIEU_TU_VAN'!$K$10,"Sau nhận nhà","Sau 00 tháng")))) -> Ký HĐMB | D11: =IF(B11="","",IF(B11='1_PHIEU_TU_VAN'!$K$10,MAX(0,'8_THAM_SO'!$C$7-0),30%)) -> 0.3 | E11: =IF(B11="","",$G$5*N(D11)) -> 2706445500 | F11: =IF(B11="","",$G$5*G11) -> 2706445500 | G11: =IF(B11="","",0+N(D11)) -> 0.3 | H11: =IF(B11="","",IF(B11='1_PHIEU_TU_VAN'!$K$9,"Đã bao gồm 100 triệu đặt cọc",IF(B11='1_PHIEU_TU_VAN'!$K$10,"Mốc nhận nhà dự kiến",IF(B11>'1_PHIEU_TU_VAN'!$K$10,"25% sau nhận nhà","")))) -> Đã bao gồm 100 triệu đặt cọc
A12: =IF(B12="","","Đợt "&COUNT($B$11:B12)) -> Đợt 2 | B12: =IF(N($G11)>=95%,"",MIN(EDATE('1_PHIEU_TU_VAN'!$K$9,1),'1_PHIEU_TU_VAN'!$K$10)) -> 46325 | C12: =IF(B12="","",IF(B12='1_PHIEU_TU_VAN'!$K$9,"Ký HĐMB",IF(B12='1_PHIEU_TU_VAN'!$K$10,"Nhận nhà dự kiến",IF(B12>'1_PHIEU_TU_VAN'!$K$10,"Sau nhận nhà","Sau 01 tháng")))) -> Sau 01 tháng | D12: =IF(B12="","",IF(B12='1_PHIEU_TU_VAN'!$K$10,MAX(0,'8_THAM_SO'!$C$7-N($G11)),20%)) -> 0.2 | E12: =IF(B12="","",$G$5*N(D12)) -> 1804297000 | F12: =IF(B12="","",$G$5*G12) -> 4510742500 | G12: =IF(B12="","",N($G11)+N(D12)) -> 0.5 | H12: =IF(B12="","",IF(B12='1_PHIEU_TU_VAN'!$K$9,"Đã bao gồm 100 triệu đặt cọc",IF(B12='1_PHIEU_TU_VAN'!$K$10,"Mốc nhận nhà dự kiến",IF(B12>'1_PHIEU_TU_VAN'!$K$10,"25% sau nhận nhà",""))))
A13: =IF(B13="","","Đợt "&COUNT($B$11:B13)) -> Đợt 3 | B13: =IF(N($G12)>=95%,"",MIN(EDATE('1_PHIEU_TU_VAN'!$K$9,2),'1_PHIEU_TU_VAN'!$K$10)) -> 46356 | C13: =IF(B13="","",IF(B13='1_PHIEU_TU_VAN'!$K$9,"Ký HĐMB",IF(B13='1_PHIEU_TU_VAN'!$K$10,"Nhận nhà dự kiến",IF(B13>'1_PHIEU_TU_VAN'!$K$10,"Sau nhận nhà","Sau 02 tháng")))) -> Sau 02 tháng | D13: =IF(B13="","",IF(B13='1_PHIEU_TU_VAN'!$K$10,MAX(0,'8_THAM_SO'!$C$7-N($G12)),5%)) -> 0.05 | E13: =IF(B13="","",$G$5*N(D13)) -> 451074250 | F13: =IF(B13="","",$G$5*G13) -> 4961816750 | G13: =IF(B13="","",N($G12)+N(D13)) -> 0.55 | H13: =IF(B13="","",IF(B13='1_PHIEU_TU_VAN'!$K$9,"Đã bao gồm 100 triệu đặt cọc",IF(B13='1_PHIEU_TU_VAN'!$K$10,"Mốc nhận nhà dự kiến",IF(B13>'1_PHIEU_TU_VAN'!$K$10,"25% sau nhận nhà",""))))
A14: =IF(B14="","","Đợt "&COUNT($B$11:B14)) -> Đợt 4 | B14: =IF(N($G13)>=95%,"",MIN(EDATE('1_PHIEU_TU_VAN'!$K$9,3),'1_PHIEU_TU_VAN'!$K$10)) -> 46386 | C14: =IF(B14="","",IF(B14='1_PHIEU_TU_VAN'!$K$9,"Ký HĐMB",IF(B14='1_PHIEU_TU_VAN'!$K$10,"Nhận nhà dự kiến",IF(B14>'1_PHIEU_TU_VAN'!$K$10,"Sau nhận nhà","Sau 03 tháng")))) -> Sau 03 tháng | D14: =IF(B14="","",IF(B14='1_PHIEU_TU_VAN'!$K$10,MAX(0,'8_THAM_SO'!$C$7-N($G13)),5%)) -> 0.05 | E14: =IF(B14="","",$G$5*N(D14)) -> 451074250 | F14: =IF(B14="","",$G$5*G14) -> 5.412891e+09 | G14: =IF(B14="","",N($G13)+N(D14)) -> 0.6 | H14: =IF(B14="","",IF(B14='1_PHIEU_TU_VAN'!$K$9,"Đã bao gồm 100 triệu đặt cọc",IF(B14='1_PHIEU_TU_VAN'!$K$10,"Mốc nhận nhà dự kiến",IF(B14>'1_PHIEU_TU_VAN'!$K$10,"25% sau nhận nhà",""))))
A15: =IF(B15="","","Đợt "&COUNT($B$11:B15)) -> Đợt 5 | B15: =IF(N($G14)>=95%,"",MIN(EDATE('1_PHIEU_TU_VAN'!$K$9,4),'1_PHIEU_TU_VAN'!$K$10)) -> 46417 | C15: =IF(B15="","",IF(B15='1_PHIEU_TU_VAN'!$K$9,"Ký HĐMB",IF(B15='1_PHIEU_TU_VAN'!$K$10,"Nhận nhà dự kiến",IF(B15>'1_PHIEU_TU_VAN'!$K$10,"Sau nhận nhà","Sau 04 tháng")))) -> Sau 04 tháng | D15: =IF(B15="","",IF(B15='1_PHIEU_TU_VAN'!$K$10,MAX(0,'8_THAM_SO'!$C$7-N($G14)),5%)) -> 0.05 | E15: =IF(B15="","",$G$5*N(D15)) -> 451074250 | F15: =IF(B15="","",$G$5*G15) -> 5.8639653e+09 | G15: =IF(B15="","",N($G14)+N(D15)) -> 0.65 | H15: =IF(B15="","",IF(B15='1_PHIEU_TU_VAN'!$K$9,"Đã bao gồm 100 triệu đặt cọc",IF(B15='1_PHIEU_TU_VAN'!$K$10,"Mốc nhận nhà dự kiến",IF(B15>'1_PHIEU_TU_VAN'!$K$10,"25% sau nhận nhà",""))))
A16: =IF(B16="","","Đợt "&COUNT($B$11:B16)) -> Đợt 6 | B16: =IF(N($G15)>=95%,"",MIN(EDATE('1_PHIEU_TU_VAN'!$K$9,5),'1_PHIEU_TU_VAN'!$K$10)) -> 46446 | C16: =IF(B16="","",IF(B16='1_PHIEU_TU_VAN'!$K$9,"Ký HĐMB",IF(B16='1_PHIEU_TU_VAN'!$K$10,"Nhận nhà dự kiến",IF(B16>'1_PHIEU_TU_VAN'!$K$10,"Sau nhận nhà","Sau 05 tháng")))) -> Sau 05 tháng | D16: =IF(B16="","",IF(B16='1_PHIEU_TU_VAN'!$K$10,MAX(0,'8_THAM_SO'!$C$7-N($G15)),5%)) -> 0.05 | E16: =IF(B16="","",$G$5*N(D16)) -> 451074250 | F16: =IF(B16="","",$G$5*G16) -> 6.3150395e+09 | G16: =IF(B16="","",N($G15)+N(D16)) -> 0.7 | H16: =IF(B16="","",IF(B16='1_PHIEU_TU_VAN'!$K$9,"Đã bao gồm 100 triệu đặt cọc",IF(B16='1_PHIEU_TU_VAN'!$K$10,"Mốc nhận nhà dự kiến",IF(B16>'1_PHIEU_TU_VAN'!$K$10,"25% sau nhận nhà",""))))
A17: =IF(B17="","","Đợt "&COUNT($B$11:B17)) -> Đợt 7 | B17: =IF(N($G16)>=95%,"",'1_PHIEU_TU_VAN'!$K$10) -> 46568 | C17: =IF(B17="","",IF(B17='1_PHIEU_TU_VAN'!$K$9,"Ký HĐMB",IF(B17='1_PHIEU_TU_VAN'!$K$10,"Nhận nhà dự kiến",IF(B17>'1_PHIEU_TU_VAN'!$K$10,"Sau nhận nhà","Sau 06 tháng")))) -> Nhận nhà dự kiến | D17: =IF(B17="","",IF(B17='1_PHIEU_TU_VAN'!$K$10,MAX(0,'8_THAM_SO'!$C$7-N($G16)),0)) -> 0.25 | E17: =IF(B17="","",$G$5*N(D17)) -> 2.2553712e+09 | F17: =IF(B17="","",$G$5*G17) -> 8570410750 | G17: =IF(B17="","",N($G16)+N(D17)) -> 0.95 | H17: =IF(B17="","",IF(B17='1_PHIEU_TU_VAN'!$K$9,"Đã bao gồm 100 triệu đặt cọc",IF(B17='1_PHIEU_TU_VAN'!$K$10,"Mốc nhận nhà dự kiến",IF(B17>'1_PHIEU_TU_VAN'!$K$10,"25% sau nhận nhà","")))) -> Mốc nhận nhà dự kiến
A18: ="Đợt "&(COUNT($B$11:$B$17)+1) -> Đợt 8 | C18: Thông báo cấp GCN | D18: ='8_THAM_SO'!$E$7 -> 0.05 | E18: =$G$5*D18 -> 451074250 | F18: =$G$5*G18 -> 9021485000 | G18: =MAX(G11:G17)+D18 -> 1
A19: TỔNG | D19: =SUM($D$11:$D$18) -> 1 | E19: =SUM($E$11:$E$18) -> 9.021485e+09 | H19: Chưa gồm phí bảo trì 2%

Sheet 5_CHUAN_24T
A1: LEGACY 66 | PTTT CHUẨN 24 THÁNG
A3: Loại căn | B3: ='1_PHIEU_TU_VAN'!B7 -> 2PN | C3: CK Early Bird | D3: =IF('1_PHIEU_TU_VAN'!K7="Có",'8_THAM_SO'!$B$16,0) -> 0.03 | F3: Giá rumor chưa VAT | G3: ='1_PHIEU_TU_VAN'!F7*1000000000 -> 8900000000
A4: DT Tim tường | B4: ='1_PHIEU_TU_VAN'!B9 -> 74.71 | C4: CK PTTT | D4: =INDEX('8_THAM_SO'!$B$4:$B$9,MATCH("Chuẩn 24 tháng",'8_THAM_SO'!$A$4:$A$9,0)) -> 0.02 | F4: Giá sau CK chưa VAT | G4: =G3*(1-D3)*(1-D4)*(1-D5) -> 8460340000
A5: DT Thông thủy | B5: ='1_PHIEU_TU_VAN'!B8 -> 65.76 | C5: CK sỉ | D5: =IF('1_PHIEU_TU_VAN'!B11>=5,'8_THAM_SO'!$B$19,IF('1_PHIEU_TU_VAN'!B11>=3,'8_THAM_SO'!$B$18,IF('1_PHIEU_TU_VAN'!B11=2,'8_THAM_SO'!$B$17,0))) -> 0 | F5: Giá sau CK + VAT | G5: =G4*(1+'8_THAM_SO'!$B$14) -> 9306374000
C6: Tổng CK dự kiến | D6: =1-(1-D3)*(1-D4)*(1-D5) -> 0.0494
A9: Đợt | B9: Ngày dự kiến | C9: Nội dung | D9: Tỷ lệ | E9: Thành tiền | F9: THÀNH TIỀN LŨY KẾ | G9: Lũy kế % | H9: Ghi chú
B10: ='1_PHIEU_TU_VAN'!$K$9-7 -> 46288 | C10: Ký Phiếu đặt cọc | E10: ='8_THAM_SO'!$B$13 -> 100000000 | F10: =E10 -> 100000000
A11: =IF(B11="","","Đợt "&COUNT($B$11:B11)) -> Đợt 1 | B11: ='1_PHIEU_TU_VAN'!$K$9 -> 46295 | C11: =IF(B11="","",IF(B11='1_PHIEU_TU_VAN'!$K$9,"Ký HĐMB",IF(B11='1_PHIEU_TU_VAN'!$K$10,"Nhận nhà dự kiến",IF(B11<'1_PHIEU_TU_VAN'!$K$10,"Sau 00 tháng","Sau nhận nhà "&TEXT(COUNTIF($B$11:B11,">"&'1_PHIEU_TU_VAN'!$K$10),"00")&" tháng")))) -> Ký HĐMB | D11: =IF(B11="","",IF(B11='1_PHIEU_TU_VAN'!$K$10,MAX(0,'8_THAM_SO'!$C$6-0),IF(B11<'1_PHIEU_TU_VAN'!$K$10,10%,IF(0>=95%,0,MIN(3%,95%-0))))) -> 0.1 | E11: =IF(D11="","",$G$5*D11) -> 930637400 | F11: =IF(G11="","",$G$5*G11) -> 930637400 | G11: =IF(D11="","",0+D11) -> 0.1 | H11: =IF(B11="","",IF(B11='1_PHIEU_TU_VAN'!$K$9,"Đã bao gồm 100 triệu đặt cọc",IF(B11='1_PHIEU_TU_VAN'!$K$10,"Mốc nhận nhà dự kiến",""))) -> Đã bao gồm 100 triệu đặt cọc
A12: =IF(B12="","","Đợt "&COUNT($B$11:B12)) -> Đợt 2 | B12: =IF(N($G11)>=95%,"",IF(COUNTIF($B$11:$B11,'1_PHIEU_TU_VAN'!$K$10)>0,EDATE('1_PHIEU_TU_VAN'!$K$10,COUNTIF($B$11:$B11,">"&'1_PHIEU_TU_VAN'!$K$10)+1),MIN(EDATE('1_PHIEU_TU_VAN'!$K$9,1),'1_PHIEU_TU_VAN'!$K$10))) -> 46325 | C12: =IF(B12="","",IF(B12='1_PHIEU_TU_VAN'!$K$9,"Ký HĐMB",IF(B12='1_PHIEU_TU_VAN'!$K$10,"Nhận nhà dự kiến",IF(B12<'1_PHIEU_TU_VAN'!$K$10,"Sau 01 tháng","Sau nhận nhà "&TEXT(COUNTIF($B$11:B12,">"&'1_PHIEU_TU_VAN'!$K$10),"00")&" tháng")))) -> Sau 01 tháng | D12: =IF(B12="","",IF(B12='1_PHIEU_TU_VAN'!$K$10,MAX(0,'8_THAM_SO'!$C$6-N($G11)),IF(B12<'1_PHIEU_TU_VAN'!$K$10,5%,IF(N($G11)>=95%,0,MIN(3%,95%-N($G11)))))) -> 0.05 | E12: =IF(D12="","",$G$5*D12) -> 465318700 | F12: =IF(G12="","",$G$5*G12) -> 1.3959561e+09 | G12: =IF(D12="","",N($G11)+D12) -> 0.15 | H12: =IF(B12="","",IF(B12='1_PHIEU_TU_VAN'!$K$9,"Đã bao gồm 100 triệu đặt cọc",IF(B12='1_PHIEU_TU_VAN'!$K$10,"Mốc nhận nhà dự kiến","")))
A13: =IF(B13="","","Đợt "&COUNT($B$11:B13)) -> Đợt 3 | B13: =IF(N($G12)>=95%,"",IF(COUNTIF($B$11:$B12,'1_PHIEU_TU_VAN'!$K$10)>0,EDATE('1_PHIEU_TU_VAN'!$K$10,COUNTIF($B$11:$B12,">"&'1_PHIEU_TU_VAN'!$K$10)+1),MIN(EDATE('1_PHIEU_TU_VAN'!$K$9,2),'1_PHIEU_TU_VAN'!$K$10))) -> 46356 | C13: =IF(B13="","",IF(B13='1_PHIEU_TU_VAN'!$K$9,"Ký HĐMB",IF(B13='1_PHIEU_TU_VAN'!$K$10,"Nhận nhà dự kiến",IF(B13<'1_PHIEU_TU_VAN'!$K$10,"Sau 02 tháng","Sau nhận nhà "&TEXT(COUNTIF($B$11:B13,">"&'1_PHIEU_TU_VAN'!$K$10),"00")&" tháng")))) -> Sau 02 tháng | D13: =IF(B13="","",IF(B13='1_PHIEU_TU_VAN'!$K$10,MAX(0,'8_THAM_SO'!$C$6-N($G12)),IF(B13<'1_PHIEU_TU_VAN'!$K$10,5%,IF(N($G12)>=95%,0,MIN(3%,95%-N($G12)))))) -> 0.05 | E13: =IF(D13="","",$G$5*D13) -> 465318700 | F13: =IF(G13="","",$G$5*G13) -> 1861274800 | G13: =IF(D13="","",N($G12)+D13) -> 0.2 | H13: =IF(B13="","",IF(B13='1_PHIEU_TU_VAN'!$K$9,"Đã bao gồm 100 triệu đặt cọc",IF(B13='1_PHIEU_TU_VAN'!$K$10,"Mốc nhận nhà dự kiến","")))
A14: =IF(B14="","","Đợt "&COUNT($B$11:B14)) -> Đợt 4 | B14: =IF(N($G13)>=95%,"",IF(COUNTIF($B$11:$B13,'1_PHIEU_TU_VAN'!$K$10)>0,EDATE('1_PHIEU_TU_VAN'!$K$10,COUNTIF($B$11:$B13,">"&'1_PHIEU_TU_VAN'!$K$10)+1),MIN(EDATE('1_PHIEU_TU_VAN'!$K$9,3),'1_PHIEU_TU_VAN'!$K$10))) -> 46386 | C14: =IF(B14="","",IF(B14='1_PHIEU_TU_VAN'!$K$9,"Ký HĐMB",IF(B14='1_PHIEU_TU_VAN'!$K$10,"Nhận nhà dự kiến",IF(B14<'1_PHIEU_TU_VAN'!$K$10,"Sau 03 tháng","Sau nhận nhà "&TEXT(COUNTIF($B$11:B14,">"&'1_PHIEU_TU_VAN'!$K$10),"00")&" tháng")))) -> Sau 03 tháng | D14: =IF(B14="","",IF(B14='1_PHIEU_TU_VAN'!$K$10,MAX(0,'8_THAM_SO'!$C$6-N($G13)),IF(B14<'1_PHIEU_TU_VAN'!$K$10,4%,IF(N($G13)>=95%,0,MIN(3%,95%-N($G13)))))) -> 0.04 | E14: =IF(D14="","",$G$5*D14) -> 372254960 | F14: =IF(G14="","",$G$5*G14) -> 2233529760 | G14: =IF(D14="","",N($G13)+D14) -> 0.24 | H14: =IF(B14="","",IF(B14='1_PHIEU_TU_VAN'!$K$9,"Đã bao gồm 100 triệu đặt cọc",IF(B14='1_PHIEU_TU_VAN'!$K$10,"Mốc nhận nhà dự kiến","")))
A15: =IF(B15="","","Đợt "&COUNT($B$11:B15)) -> Đợt 5 | B15: =IF(N($G14)>=95%,"",IF(COUNTIF($B$11:$B14,'1_PHIEU_TU_VAN'!$K$10)>0,EDATE('1_PHIEU_TU_VAN'!$K$10,COUNTIF($B$11:$B14,">"&'1_PHIEU_TU_VAN'!$K$10)+1),MIN(EDATE('1_PHIEU_TU_VAN'!$K$9,4),'1_PHIEU_TU_VAN'!$K$10))) -> 46417 | C15: =IF(B15="","",IF(B15='1_PHIEU_TU_VAN'!$K$9,"Ký HĐMB",IF(B15='1_PHIEU_TU_VAN'!$K$10,"Nhận nhà dự kiến",IF(B15<'1_PHIEU_TU_VAN'!$K$10,"Sau 04 tháng","Sau nhận nhà "&TEXT(COUNTIF($B$11:B15,">"&'1_PHIEU_TU_VAN'!$K$10),"00")&" tháng")))) -> Sau 04 tháng | D15: =IF(B15="","",IF(B15='1_PHIEU_TU_VAN'!$K$10,MAX(0,'8_THAM_SO'!$C$6-N($G14)),IF(B15<'1_PHIEU_TU_VAN'!$K$10,4%,IF(N($G14)>=95%,0,MIN(3%,95%-N($G14)))))) -> 0.04 | E15: =IF(D15="","",$G$5*D15) -> 372254960 | F15: =IF(G15="","",$G$5*G15) -> 2.6057847e+09 | G15: =IF(D15="","",N($G14)+D15) -> 0.28 | H15: =IF(B15="","",IF(B15='1_PHIEU_TU_VAN'!$K$9,"Đã bao gồm 100 triệu đặt cọc",IF(B15='1_PHIEU_TU_VAN'!$K$10,"Mốc nhận nhà dự kiến","")))
A16: =IF(B16="","","Đợt "&COUNT($B$11:B16)) -> Đợt 6 | B16: =IF(N($G15)>=95%,"",IF(COUNTIF($B$11:$B15,'1_PHIEU_TU_VAN'!$K$10)>0,EDATE('1_PHIEU_TU_VAN'!$K$10,COUNTIF($B$11:$B15,">"&'1_PHIEU_TU_VAN'!$K$10)+1),MIN(EDATE('1_PHIEU_TU_VAN'!$K$9,5),'1_PHIEU_TU_VAN'!$K$10))) -> 46446 | C16: =IF(B16="","",IF(B16='1_PHIEU_TU_VAN'!$K$9,"Ký HĐMB",IF(B16='1_PHIEU_TU_VAN'!$K$10,"Nhận nhà dự kiến",IF(B16<'1_PHIEU_TU_VAN'!$K$10,"Sau 05 tháng","Sau nhận nhà "&TEXT(COUNTIF($B$11:B16,">"&'1_PHIEU_TU_VAN'!$K$10),"00")&" tháng")))) -> Sau 05 tháng | D16: =IF(B16="","",IF(B16='1_PHIEU_TU_VAN'!$K$10,MAX(0,'8_THAM_SO'!$C$6-N($G15)),IF(B16<'1_PHIEU_TU_VAN'!$K$10,4%,IF(N($G15)>=95%,0,MIN(3%,95%-N($G15)))))) -> 0.04 | E16: =IF(D16="","",$G$5*D16) -> 372254960 | F16: =IF(G16="","",$G$5*G16) -> 2978039680 | G16: =IF(D16="","",N($G15)+D16) -> 0.32 | H16: =IF(B16="","",IF(B16='1_PHIEU_TU_VAN'!$K$9,"Đã bao gồm 100 triệu đặt cọc",IF(B16='1_PHIEU_TU_VAN'!$K$10,"Mốc nhận nhà dự kiến","")))
A17: =IF(B17="","","Đợt "&COUNT($B$11:B17)) -> Đợt 7 | B17: =IF(N($G16)>=95%,"",IF(COUNTIF($B$11:$B16,'1_PHIEU_TU_VAN'!$K$10)>0,EDATE('1_PHIEU_TU_VAN'!$K$10,COUNTIF($B$11:$B16,">"&'1_PHIEU_TU_VAN'!$K$10)+1),MIN(EDATE('1_PHIEU_TU_VAN'!$K$9,6),'1_PHIEU_TU_VAN'!$K$10))) -> 46476 | C17: =IF(B17="","",IF(B17='1_PHIEU_TU_VAN'!$K$9,"Ký HĐMB",IF(B17='1_PHIEU_TU_VAN'!$K$10,"Nhận nhà dự kiến",IF(B17<'1_PHIEU_TU_VAN'!$K$10,"Sau 06 tháng","Sau nhận nhà "&TEXT(COUNTIF($B$11:B17,">"&'1_PHIEU_TU_VAN'!$K$10),"00")&" tháng")))) -> Sau 06 tháng | D17: =IF(B17="","",IF(B17='1_PHIEU_TU_VAN'!$K$10,MAX(0,'8_THAM_SO'!$C$6-N($G16)),IF(B17<'1_PHIEU_TU_VAN'!$K$10,4%,IF(N($G16)>=95%,0,MIN(3%,95%-N($G16)))))) -> 0.04 | E17: =IF(D17="","",$G$5*D17) -> 372254960 | F17: =IF(G17="","",$G$5*G17) -> 3350294640 | G17: =IF(D17="","",N($G16)+D17) -> 0.36 | H17: =IF(B17="","",IF(B17='1_PHIEU_TU_VAN'!$K$9,"Đã bao gồm 100 triệu đặt cọc",IF(B17='1_PHIEU_TU_VAN'!$K$10,"Mốc nhận nhà dự kiến","")))
A18: =IF(B18="","","Đợt "&COUNT($B$11:B18)) -> Đợt 8 | B18: =IF(N($G17)>=95%,"",IF(COUNTIF($B$11:$B17,'1_PHIEU_TU_VAN'!$K$10)>0,EDATE('1_PHIEU_TU_VAN'!$K$10,COUNTIF($B$11:$B17,">"&'1_PHIEU_TU_VAN'!$K$10)+1),MIN(EDATE('1_PHIEU_TU_VAN'!$K$9,7),'1_PHIEU_TU_VAN'!$K$10))) -> 46507 | C18: =IF(B18="","",IF(B18='1_PHIEU_TU_VAN'!$K$9,"Ký HĐMB",IF(B18='1_PHIEU_TU_VAN'!$K$10,"Nhận nhà dự kiến",IF(B18<'1_PHIEU_TU_VAN'!$K$10,"Sau 07 tháng","Sau nhận nhà "&TEXT(COUNTIF($B$11:B18,">"&'1_PHIEU_TU_VAN'!$K$10),"00")&" tháng")))) -> Sau 07 tháng | D18: =IF(B18="","",IF(B18='1_PHIEU_TU_VAN'!$K$10,MAX(0,'8_THAM_SO'!$C$6-N($G17)),IF(B18<'1_PHIEU_TU_VAN'!$K$10,4%,IF(N($G17)>=95%,0,MIN(3%,95%-N($G17)))))) -> 0.04 | E18: =IF(D18="","",$G$5*D18) -> 372254960 | F18: =IF(G18="","",$G$5*G18) -> 3.7225496e+09 | G18: =IF(D18="","",N($G17)+D18) -> 0.4 | H18: =IF(B18="","",IF(B18='1_PHIEU_TU_VAN'!$K$9,"Đã bao gồm 100 triệu đặt cọc",IF(B18='1_PHIEU_TU_VAN'!$K$10,"Mốc nhận nhà dự kiến","")))
A19: =IF(B19="","","Đợt "&COUNT($B$11:B19)) -> Đợt 9 | B19: =IF(N($G18)>=95%,"",IF(COUNTIF($B$11:$B18,'1_PHIEU_TU_VAN'!$K$10)>0,EDATE('1_PHIEU_TU_VAN'!$K$10,COUNTIF($B$11:$B18,">"&'1_PHIEU_TU_VAN'!$K$10)+1),MIN(EDATE('1_PHIEU_TU_VAN'!$K$9,8),'1_PHIEU_TU_VAN'!$K$10))) -> 46537 | C19: =IF(B19="","",IF(B19='1_PHIEU_TU_VAN'!$K$9,"Ký HĐMB",IF(B19='1_PHIEU_TU_VAN'!$K$10,"Nhận nhà dự kiến",IF(B19<'1_PHIEU_TU_VAN'!$K$10,"Sau 08 tháng","Sau nhận nhà "&TEXT(COUNTIF($B$11:B19,">"&'1_PHIEU_TU_VAN'!$K$10),"00")&" tháng")))) -> Sau 08 tháng | D19: =IF(B19="","",IF(B19='1_PHIEU_TU_VAN'!$K$10,MAX(0,'8_THAM_SO'!$C$6-N($G18)),IF(B19<'1_PHIEU_TU_VAN'!$K$10,4%,IF(N($G18)>=95%,0,MIN(3%,95%-N($G18)))))) -> 0.04 | E19: =IF(D19="","",$G$5*D19) -> 372254960 | F19: =IF(G19="","",$G$5*G19) -> 4.0948046e+09 | G19: =IF(D19="","",N($G18)+D19) -> 0.44 | H19: =IF(B19="","",IF(B19='1_PHIEU_TU_VAN'!$K$9,"Đã bao gồm 100 triệu đặt cọc",IF(B19='1_PHIEU_TU_VAN'!$K$10,"Mốc nhận nhà dự kiến","")))
A20: =IF(B20="","","Đợt "&COUNT($B$11:B20)) -> Đợt 10 | B20: =IF(N($G19)>=95%,"",IF(COUNTIF($B$11:$B19,'1_PHIEU_TU_VAN'!$K$10)>0,EDATE('1_PHIEU_TU_VAN'!$K$10,COUNTIF($B$11:$B19,">"&'1_PHIEU_TU_VAN'!$K$10)+1),MIN(EDATE('1_PHIEU_TU_VAN'!$K$9,9),'1_PHIEU_TU_VAN'!$K$10))) -> 46568 | C20: =IF(B20="","",IF(B20='1_PHIEU_TU_VAN'!$K$9,"Ký HĐMB",IF(B20='1_PHIEU_TU_VAN'!$K$10,"Nhận nhà dự kiến",IF(B20<'1_PHIEU_TU_VAN'!$K$10,"Sau 09 tháng","Sau nhận nhà "&TEXT(COUNTIF($B$11:B20,">"&'1_PHIEU_TU_VAN'!$K$10),"00")&" tháng")))) -> Nhận nhà dự kiến | D20: =IF(B20="","",IF(B20='1_PHIEU_TU_VAN'!$K$10,MAX(0,'8_THAM_SO'!$C$6-N($G19)),IF(B20<'1_PHIEU_TU_VAN'!$K$10,4%,IF(N($G19)>=95%,0,MIN(3%,95%-N($G19)))))) -> 0.06 | E20: =IF(D20="","",$G$5*D20) -> 5.5838244e+08 | F20: =IF(G20="","",$G$5*G20) -> 4653187000 | G20: =IF(D20="","",N($G19)+D20) -> 0.5 | H20: =IF(B20="","",IF(B20='1_PHIEU_TU_VAN'!$K$9,"Đã bao gồm 100 triệu đặt cọc",IF(B20='1_PHIEU_TU_VAN'!$K$10,"Mốc nhận nhà dự kiến",""))) -> Mốc nhận nhà dự kiến
A21: =IF(B21="","","Đợt "&COUNT($B$11:B21)) -> Đợt 11 | B21: =IF(N($G20)>=95%,"",IF(COUNTIF($B$11:$B20,'1_PHIEU_TU_VAN'!$K$10)>0,EDATE('1_PHIEU_TU_VAN'!$K$10,COUNTIF($B$11:$B20,">"&'1_PHIEU_TU_VAN'!$K$10)+1),MIN(EDATE('1_PHIEU_TU_VAN'!$K$9,10),'1_PHIEU_TU_VAN'!$K$10))) -> 46598 | C21: =IF(B21="","",IF(B21='1_PHIEU_TU_VAN'!$K$9,"Ký HĐMB",IF(B21='1_PHIEU_TU_VAN'!$K$10,"Nhận nhà dự kiến",IF(B21<'1_PHIEU_TU_VAN'!$K$10,"Sau 10 tháng","Sau nhận nhà "&TEXT(COUNTIF($B$11:B21,">"&'1_PHIEU_TU_VAN'!$K$10),"00")&" tháng")))) -> Sau nhận nhà 01 tháng | D21: =IF(B21="","",IF(B21='1_PHIEU_TU_VAN'!$K$10,MAX(0,'8_THAM_SO'!$C$6-N($G20)),IF(B21<'1_PHIEU_TU_VAN'!$K$10,4%,IF(N($G20)>=95%,0,MIN(3%,95%-N($G20)))))) -> 0.03 | E21: =IF(D21="","",$G$5*D21) -> 279191220 | F21: =IF(G21="","",$G$5*G21) -> 4932378220 | G21: =IF(D21="","",N($G20)+D21) -> 0.53 | H21: =IF(B21="","",IF(B21='1_PHIEU_TU_VAN'!$K$9,"Đã bao gồm 100 triệu đặt cọc",IF(B21='1_PHIEU_TU_VAN'!$K$10,"Mốc nhận nhà dự kiến","")))
A22: =IF(B22="","","Đợt "&COUNT($B$11:B22)) -> Đợt 12 | B22: =IF(N($G21)>=95%,"",IF(COUNTIF($B$11:$B21,'1_PHIEU_TU_VAN'!$K$10)>0,EDATE('1_PHIEU_TU_VAN'!$K$10,COUNTIF($B$11:$B21,">"&'1_PHIEU_TU_VAN'!$K$10)+1),MIN(EDATE('1_PHIEU_TU_VAN'!$K$9,11),'1_PHIEU_TU_VAN'!$K$10))) -> 46629 | C22: =IF(B22="","",IF(B22='1_PHIEU_TU_VAN'!$K$9,"Ký HĐMB",IF(B22='1_PHIEU_TU_VAN'!$K$10,"Nhận nhà dự kiến",IF(B22<'1_PHIEU_TU_VAN'!$K$10,"Sau 11 tháng","Sau nhận nhà "&TEXT(COUNTIF($B$11:B22,">"&'1_PHIEU_TU_VAN'!$K$10),"00")&" tháng")))) -> Sau nhận nhà 02 tháng | D22: =IF(B22="","",IF(B22='1_PHIEU_TU_VAN'!$K$10,MAX(0,'8_THAM_SO'!$C$6-N($G21)),IF(B22<'1_PHIEU_TU_VAN'!$K$10,4%,IF(N($G21)>=95%,0,MIN(3%,95%-N($G21)))))) -> 0.03 | E22: =IF(D22="","",$G$5*D22) -> 279191220 | F22: =IF(G22="","",$G$5*G22) -> 5.2115694e+09 | G22: =IF(D22="","",N($G21)+D22) -> 0.56 | H22: =IF(B22="","",IF(B22='1_PHIEU_TU_VAN'!$K$9,"Đã bao gồm 100 triệu đặt cọc",IF(B22='1_PHIEU_TU_VAN'!$K$10,"Mốc nhận nhà dự kiến","")))
A23: =IF(B23="","","Đợt "&COUNT($B$11:B23)) -> Đợt 13 | B23: =IF(N($G22)>=95%,"",IF(COUNTIF($B$11:$B22,'1_PHIEU_TU_VAN'!$K$10)>0,EDATE('1_PHIEU_TU_VAN'!$K$10,COUNTIF($B$11:$B22,">"&'1_PHIEU_TU_VAN'!$K$10)+1),MIN(EDATE('1_PHIEU_TU_VAN'!$K$9,12),'1_PHIEU_TU_VAN'!$K$10))) -> 46660 | C23: =IF(B23="","",IF(B23='1_PHIEU_TU_VAN'!$K$9,"Ký HĐMB",IF(B23='1_PHIEU_TU_VAN'!$K$10,"Nhận nhà dự kiến",IF(B23<'1_PHIEU_TU_VAN'!$K$10,"Sau 12 tháng","Sau nhận nhà "&TEXT(COUNTIF($B$11:B23,">"&'1_PHIEU_TU_VAN'!$K$10),"00")&" tháng")))) -> Sau nhận nhà 03 tháng | D23: =IF(B23="","",IF(B23='1_PHIEU_TU_VAN'!$K$10,MAX(0,'8_THAM_SO'!$C$6-N($G22)),IF(B23<'1_PHIEU_TU_VAN'!$K$10,4%,IF(N($G22)>=95%,0,MIN(3%,95%-N($G22)))))) -> 0.03 | E23: =IF(D23="","",$G$5*D23) -> 279191220 | F23: =IF(G23="","",$G$5*G23) -> 5.4907607e+09 | G23: =IF(D23="","",N($G22)+D23) -> 0.59 | H23: =IF(B23="","",IF(B23='1_PHIEU_TU_VAN'!$K$9,"Đã bao gồm 100 triệu đặt cọc",IF(B23='1_PHIEU_TU_VAN'!$K$10,"Mốc nhận nhà dự kiến","")))
A24: =IF(B24="","","Đợt "&COUNT($B$11:B24)) -> Đợt 14 | B24: =IF(N($G23)>=95%,"",IF(COUNTIF($B$11:$B23,'1_PHIEU_TU_VAN'!$K$10)>0,EDATE('1_PHIEU_TU_VAN'!$K$10,COUNTIF($B$11:$B23,">"&'1_PHIEU_TU_VAN'!$K$10)+1),MIN(EDATE('1_PHIEU_TU_VAN'!$K$9,13),'1_PHIEU_TU_VAN'!$K$10))) -> 46690 | C24: =IF(B24="","",IF(B24='1_PHIEU_TU_VAN'!$K$9,"Ký HĐMB",IF(B24='1_PHIEU_TU_VAN'!$K$10,"Nhận nhà dự kiến",IF(B24<'1_PHIEU_TU_VAN'!$K$10,"Sau 13 tháng","Sau nhận nhà "&TEXT(COUNTIF($B$11:B24,">"&'1_PHIEU_TU_VAN'!$K$10),"00")&" tháng")))) -> Sau nhận nhà 04 tháng | D24: =IF(B24="","",IF(B24='1_PHIEU_TU_VAN'!$K$10,MAX(0,'8_THAM_SO'!$C$6-N($G23)),IF(B24<'1_PHIEU_TU_VAN'!$K$10,4%,IF(N($G23)>=95%,0,MIN(3%,95%-N($G23)))))) -> 0.03 | E24: =IF(D24="","",$G$5*D24) -> 279191220 | F24: =IF(G24="","",$G$5*G24) -> 5.7699519e+09 | G24: =IF(D24="","",N($G23)+D24) -> 0.62 | H24: =IF(B24="","",IF(B24='1_PHIEU_TU_VAN'!$K$9,"Đã bao gồm 100 triệu đặt cọc",IF(B24='1_PHIEU_TU_VAN'!$K$10,"Mốc nhận nhà dự kiến","")))
A25: =IF(B25="","","Đợt "&COUNT($B$11:B25)) -> Đợt 15 | B25: =IF(N($G24)>=95%,"",IF(COUNTIF($B$11:$B24,'1_PHIEU_TU_VAN'!$K$10)>0,EDATE('1_PHIEU_TU_VAN'!$K$10,COUNTIF($B$11:$B24,">"&'1_PHIEU_TU_VAN'!$K$10)+1),MIN(EDATE('1_PHIEU_TU_VAN'!$K$9,14),'1_PHIEU_TU_VAN'!$K$10))) -> 46721 | C25: =IF(B25="","",IF(B25='1_PHIEU_TU_VAN'!$K$9,"Ký HĐMB",IF(B25='1_PHIEU_TU_VAN'!$K$10,"Nhận nhà dự kiến",IF(B25<'1_PHIEU_TU_VAN'!$K$10,"Sau 14 tháng","Sau nhận nhà "&TEXT(COUNTIF($B$11:B25,">"&'1_PHIEU_TU_VAN'!$K$10),"00")&" tháng")))) -> Sau nhận nhà 05 tháng | D25: =IF(B25="","",IF(B25='1_PHIEU_TU_VAN'!$K$10,MAX(0,'8_THAM_SO'!$C$6-N($G24)),IF(B25<'1_PHIEU_TU_VAN'!$K$10,4%,IF(N($G24)>=95%,0,MIN(3%,95%-N($G24)))))) -> 0.03 | E25: =IF(D25="","",$G$5*D25) -> 279191220 | F25: =IF(G25="","",$G$5*G25) -> 6.0491431e+09 | G25: =IF(D25="","",N($G24)+D25) -> 0.65 | H25: =IF(B25="","",IF(B25='1_PHIEU_TU_VAN'!$K$9,"Đã bao gồm 100 triệu đặt cọc",IF(B25='1_PHIEU_TU_VAN'!$K$10,"Mốc nhận nhà dự kiến","")))
A26: =IF(B26="","","Đợt "&COUNT($B$11:B26)) -> Đợt 16 | B26: =IF(N($G25)>=95%,"",IF(COUNTIF($B$11:$B25,'1_PHIEU_TU_VAN'!$K$10)>0,EDATE('1_PHIEU_TU_VAN'!$K$10,COUNTIF($B$11:$B25,">"&'1_PHIEU_TU_VAN'!$K$10)+1),MIN(EDATE('1_PHIEU_TU_VAN'!$K$9,15),'1_PHIEU_TU_VAN'!$K$10))) -> 46751 | C26: =IF(B26="","",IF(B26='1_PHIEU_TU_VAN'!$K$9,"Ký HĐMB",IF(B26='1_PHIEU_TU_VAN'!$K$10,"Nhận nhà dự kiến",IF(B26<'1_PHIEU_TU_VAN'!$K$10,"Sau 15 tháng","Sau nhận nhà "&TEXT(COUNTIF($B$11:B26,">"&'1_PHIEU_TU_VAN'!$K$10),"00")&" tháng")))) -> Sau nhận nhà 06 tháng | D26: =IF(B26="","",IF(B26='1_PHIEU_TU_VAN'!$K$10,MAX(0,'8_THAM_SO'!$C$6-N($G25)),IF(B26<'1_PHIEU_TU_VAN'!$K$10,4%,IF(N($G25)>=95%,0,MIN(3%,95%-N($G25)))))) -> 0.03 | E26: =IF(D26="","",$G$5*D26) -> 279191220 | F26: =IF(G26="","",$G$5*G26) -> 6.3283343e+09 | G26: =IF(D26="","",N($G25)+D26) -> 0.68 | H26: =IF(B26="","",IF(B26='1_PHIEU_TU_VAN'!$K$9,"Đã bao gồm 100 triệu đặt cọc",IF(B26='1_PHIEU_TU_VAN'!$K$10,"Mốc nhận nhà dự kiến","")))
A27: =IF(B27="","","Đợt "&COUNT($B$11:B27)) -> Đợt 17 | B27: =IF(N($G26)>=95%,"",IF(COUNTIF($B$11:$B26,'1_PHIEU_TU_VAN'!$K$10)>0,EDATE('1_PHIEU_TU_VAN'!$K$10,COUNTIF($B$11:$B26,">"&'1_PHIEU_TU_VAN'!$K$10)+1),MIN(EDATE('1_PHIEU_TU_VAN'!$K$9,16),'1_PHIEU_TU_VAN'!$K$10))) -> 46782 | C27: =IF(B27="","",IF(B27='1_PHIEU_TU_VAN'!$K$9,"Ký HĐMB",IF(B27='1_PHIEU_TU_VAN'!$K$10,"Nhận nhà dự kiến",IF(B27<'1_PHIEU_TU_VAN'!$K$10,"Sau 16 tháng","Sau nhận nhà "&TEXT(COUNTIF($B$11:B27,">"&'1_PHIEU_TU_VAN'!$K$10),"00")&" tháng")))) -> Sau nhận nhà 07 tháng | D27: =IF(B27="","",IF(B27='1_PHIEU_TU_VAN'!$K$10,MAX(0,'8_THAM_SO'!$C$6-N($G26)),IF(B27<'1_PHIEU_TU_VAN'!$K$10,4%,IF(N($G26)>=95%,0,MIN(3%,95%-N($G26)))))) -> 0.03 | E27: =IF(D27="","",$G$5*D27) -> 279191220 | F27: =IF(G27="","",$G$5*G27) -> 6.6075255e+09 | G27: =IF(D27="","",N($G26)+D27) -> 0.71 | H27: =IF(B27="","",IF(B27='1_PHIEU_TU_VAN'!$K$9,"Đã bao gồm 100 triệu đặt cọc",IF(B27='1_PHIEU_TU_VAN'!$K$10,"Mốc nhận nhà dự kiến","")))
A28: =IF(B28="","","Đợt "&COUNT($B$11:B28)) -> Đợt 18 | B28: =IF(N($G27)>=95%,"",IF(COUNTIF($B$11:$B27,'1_PHIEU_TU_VAN'!$K$10)>0,EDATE('1_PHIEU_TU_VAN'!$K$10,COUNTIF($B$11:$B27,">"&'1_PHIEU_TU_VAN'!$K$10)+1),MIN(EDATE('1_PHIEU_TU_VAN'!$K$9,17),'1_PHIEU_TU_VAN'!$K$10))) -> 46812 | C28: =IF(B28="","",IF(B28='1_PHIEU_TU_VAN'!$K$9,"Ký HĐMB",IF(B28='1_PHIEU_TU_VAN'!$K$10,"Nhận nhà dự kiến",IF(B28<'1_PHIEU_TU_VAN'!$K$10,"Sau 17 tháng","Sau nhận nhà "&TEXT(COUNTIF($B$11:B28,">"&'1_PHIEU_TU_VAN'!$K$10),"00")&" tháng")))) -> Sau nhận nhà 08 tháng | D28: =IF(B28="","",IF(B28='1_PHIEU_TU_VAN'!$K$10,MAX(0,'8_THAM_SO'!$C$6-N($G27)),IF(B28<'1_PHIEU_TU_VAN'!$K$10,4%,IF(N($G27)>=95%,0,MIN(3%,95%-N($G27)))))) -> 0.03 | E28: =IF(D28="","",$G$5*D28) -> 279191220 | F28: =IF(G28="","",$G$5*G28) -> 6.8867168e+09 | G28: =IF(D28="","",N($G27)+D28) -> 0.74 | H28: =IF(B28="","",IF(B28='1_PHIEU_TU_VAN'!$K$9,"Đã bao gồm 100 triệu đặt cọc",IF(B28='1_PHIEU_TU_VAN'!$K$10,"Mốc nhận nhà dự kiến","")))
A29: =IF(B29="","","Đợt "&COUNT($B$11:B29)) -> Đợt 19 | B29: =IF(N($G28)>=95%,"",IF(COUNTIF($B$11:$B28,'1_PHIEU_TU_VAN'!$K$10)>0,EDATE('1_PHIEU_TU_VAN'!$K$10,COUNTIF($B$11:$B28,">"&'1_PHIEU_TU_VAN'!$K$10)+1),MIN(EDATE('1_PHIEU_TU_VAN'!$K$9,18),'1_PHIEU_TU_VAN'!$K$10))) -> 46842 | C29: =IF(B29="","",IF(B29='1_PHIEU_TU_VAN'!$K$9,"Ký HĐMB",IF(B29='1_PHIEU_TU_VAN'!$K$10,"Nhận nhà dự kiến",IF(B29<'1_PHIEU_TU_VAN'!$K$10,"Sau 18 tháng","Sau nhận nhà "&TEXT(COUNTIF($B$11:B29,">"&'1_PHIEU_TU_VAN'!$K$10),"00")&" tháng")))) -> Sau nhận nhà 09 tháng | D29: =IF(B29="","",IF(B29='1_PHIEU_TU_VAN'!$K$10,MAX(0,'8_THAM_SO'!$C$6-N($G28)),IF(B29<'1_PHIEU_TU_VAN'!$K$10,4%,IF(N($G28)>=95%,0,MIN(3%,95%-N($G28)))))) -> 0.03 | E29: =IF(D29="","",$G$5*D29) -> 279191220 | F29: =IF(G29="","",$G$5*G29) -> 7.165908e+09 | G29: =IF(D29="","",N($G28)+D29) -> 0.77 | H29: =IF(B29="","",IF(B29='1_PHIEU_TU_VAN'!$K$9,"Đã bao gồm 100 triệu đặt cọc",IF(B29='1_PHIEU_TU_VAN'!$K$10,"Mốc nhận nhà dự kiến","")))
A30: =IF(B30="","","Đợt "&COUNT($B$11:B30)) -> Đợt 20 | B30: =IF(N($G29)>=95%,"",IF(COUNTIF($B$11:$B29,'1_PHIEU_TU_VAN'!$K$10)>0,EDATE('1_PHIEU_TU_VAN'!$K$10,COUNTIF($B$11:$B29,">"&'1_PHIEU_TU_VAN'!$K$10)+1),MIN(EDATE('1_PHIEU_TU_VAN'!$K$9,19),'1_PHIEU_TU_VAN'!$K$10))) -> 46873 | C30: =IF(B30="","",IF(B30='1_PHIEU_TU_VAN'!$K$9,"Ký HĐMB",IF(B30='1_PHIEU_TU_VAN'!$K$10,"Nhận nhà dự kiến",IF(B30<'1_PHIEU_TU_VAN'!$K$10,"Sau 19 tháng","Sau nhận nhà "&TEXT(COUNTIF($B$11:B30,">"&'1_PHIEU_TU_VAN'!$K$10),"00")&" tháng")))) -> Sau nhận nhà 10 tháng | D30: =IF(B30="","",IF(B30='1_PHIEU_TU_VAN'!$K$10,MAX(0,'8_THAM_SO'!$C$6-N($G29)),IF(B30<'1_PHIEU_TU_VAN'!$K$10,4%,IF(N($G29)>=95%,0,MIN(3%,95%-N($G29)))))) -> 0.03 | E30: =IF(D30="","",$G$5*D30) -> 279191220 | F30: =IF(G30="","",$G$5*G30) -> 7.4450992e+09 | G30: =IF(D30="","",N($G29)+D30) -> 0.8 | H30: =IF(B30="","",IF(B30='1_PHIEU_TU_VAN'!$K$9,"Đã bao gồm 100 triệu đặt cọc",IF(B30='1_PHIEU_TU_VAN'!$K$10,"Mốc nhận nhà dự kiến","")))
A31: =IF(B31="","","Đợt "&COUNT($B$11:B31)) -> Đợt 21 | B31: =IF(N($G30)>=95%,"",IF(COUNTIF($B$11:$B30,'1_PHIEU_TU_VAN'!$K$10)>0,EDATE('1_PHIEU_TU_VAN'!$K$10,COUNTIF($B$11:$B30,">"&'1_PHIEU_TU_VAN'!$K$10)+1),MIN(EDATE('1_PHIEU_TU_VAN'!$K$9,20),'1_PHIEU_TU_VAN'!$K$10))) -> 46903 | C31: =IF(B31="","",IF(B31='1_PHIEU_TU_VAN'!$K$9,"Ký HĐMB",IF(B31='1_PHIEU_TU_VAN'!$K$10,"Nhận nhà dự kiến",IF(B31<'1_PHIEU_TU_VAN'!$K$10,"Sau 20 tháng","Sau nhận nhà "&TEXT(COUNTIF($B$11:B31,">"&'1_PHIEU_TU_VAN'!$K$10),"00")&" tháng")))) -> Sau nhận nhà 11 tháng | D31: =IF(B31="","",IF(B31='1_PHIEU_TU_VAN'!$K$10,MAX(0,'8_THAM_SO'!$C$6-N($G30)),IF(B31<'1_PHIEU_TU_VAN'!$K$10,4%,IF(N($G30)>=95%,0,MIN(3%,95%-N($G30)))))) -> 0.03 | E31: =IF(D31="","",$G$5*D31) -> 279191220 | F31: =IF(G31="","",$G$5*G31) -> 7.7242904e+09 | G31: =IF(D31="","",N($G30)+D31) -> 0.83 | H31: =IF(B31="","",IF(B31='1_PHIEU_TU_VAN'!$K$9,"Đã bao gồm 100 triệu đặt cọc",IF(B31='1_PHIEU_TU_VAN'!$K$10,"Mốc nhận nhà dự kiến","")))
A32: =IF(B32="","","Đợt "&COUNT($B$11:B32)) -> Đợt 22 | B32: =IF(N($G31)>=95%,"",IF(COUNTIF($B$11:$B31,'1_PHIEU_TU_VAN'!$K$10)>0,EDATE('1_PHIEU_TU_VAN'!$K$10,COUNTIF($B$11:$B31,">"&'1_PHIEU_TU_VAN'!$K$10)+1),MIN(EDATE('1_PHIEU_TU_VAN'!$K$9,21),'1_PHIEU_TU_VAN'!$K$10))) -> 46934 | C32: =IF(B32="","",IF(B32='1_PHIEU_TU_VAN'!$K$9,"Ký HĐMB",IF(B32='1_PHIEU_TU_VAN'!$K$10,"Nhận nhà dự kiến",IF(B32<'1_PHIEU_TU_VAN'!$K$10,"Sau 21 tháng","Sau nhận nhà "&TEXT(COUNTIF($B$11:B32,">"&'1_PHIEU_TU_VAN'!$K$10),"00")&" tháng")))) -> Sau nhận nhà 12 tháng | D32: =IF(B32="","",IF(B32='1_PHIEU_TU_VAN'!$K$10,MAX(0,'8_THAM_SO'!$C$6-N($G31)),IF(B32<'1_PHIEU_TU_VAN'!$K$10,4%,IF(N($G31)>=95%,0,MIN(3%,95%-N($G31)))))) -> 0.03 | E32: =IF(D32="","",$G$5*D32) -> 279191220 | F32: =IF(G32="","",$G$5*G32) -> 8.0034816e+09 | G32: =IF(D32="","",N($G31)+D32) -> 0.86 | H32: =IF(B32="","",IF(B32='1_PHIEU_TU_VAN'!$K$9,"Đã bao gồm 100 triệu đặt cọc",IF(B32='1_PHIEU_TU_VAN'!$K$10,"Mốc nhận nhà dự kiến","")))
A33: =IF(B33="","","Đợt "&COUNT($B$11:B33)) -> Đợt 23 | B33: =IF(N($G32)>=95%,"",IF(COUNTIF($B$11:$B32,'1_PHIEU_TU_VAN'!$K$10)>0,EDATE('1_PHIEU_TU_VAN'!$K$10,COUNTIF($B$11:$B32,">"&'1_PHIEU_TU_VAN'!$K$10)+1),MIN(EDATE('1_PHIEU_TU_VAN'!$K$9,22),'1_PHIEU_TU_VAN'!$K$10))) -> 46964 | C33: =IF(B33="","",IF(B33='1_PHIEU_TU_VAN'!$K$9,"Ký HĐMB",IF(B33='1_PHIEU_TU_VAN'!$K$10,"Nhận nhà dự kiến",IF(B33<'1_PHIEU_TU_VAN'!$K$10,"Sau 22 tháng","Sau nhận nhà "&TEXT(COUNTIF($B$11:B33,">"&'1_PHIEU_TU_VAN'!$K$10),"00")&" tháng")))) -> Sau nhận nhà 13 tháng | D33: =IF(B33="","",IF(B33='1_PHIEU_TU_VAN'!$K$10,MAX(0,'8_THAM_SO'!$C$6-N($G32)),IF(B33<'1_PHIEU_TU_VAN'!$K$10,4%,IF(N($G32)>=95%,0,MIN(3%,95%-N($G32)))))) -> 0.03 | E33: =IF(D33="","",$G$5*D33) -> 279191220 | F33: =IF(G33="","",$G$5*G33) -> 8.2826729e+09 | G33: =IF(D33="","",N($G32)+D33) -> 0.89 | H33: =IF(B33="","",IF(B33='1_PHIEU_TU_VAN'!$K$9,"Đã bao gồm 100 triệu đặt cọc",IF(B33='1_PHIEU_TU_VAN'!$K$10,"Mốc nhận nhà dự kiến","")))
A34: =IF(B34="","","Đợt "&COUNT($B$11:B34)) -> Đợt 24 | B34: =IF(N($G33)>=95%,"",IF(COUNTIF($B$11:$B33,'1_PHIEU_TU_VAN'!$K$10)>0,EDATE('1_PHIEU_TU_VAN'!$K$10,COUNTIF($B$11:$B33,">"&'1_PHIEU_TU_VAN'!$K$10)+1),MIN(EDATE('1_PHIEU_TU_VAN'!$K$9,23),'1_PHIEU_TU_VAN'!$K$10))) -> 46995 | C34: =IF(B34="","",IF(B34='1_PHIEU_TU_VAN'!$K$9,"Ký HĐMB",IF(B34='1_PHIEU_TU_VAN'!$K$10,"Nhận nhà dự kiến",IF(B34<'1_PHIEU_TU_VAN'!$K$10,"Sau 23 tháng","Sau nhận nhà "&TEXT(COUNTIF($B$11:B34,">"&'1_PHIEU_TU_VAN'!$K$10),"00")&" tháng")))) -> Sau nhận nhà 14 tháng | D34: =IF(B34="","",IF(B34='1_PHIEU_TU_VAN'!$K$10,MAX(0,'8_THAM_SO'!$C$6-N($G33)),IF(B34<'1_PHIEU_TU_VAN'!$K$10,4%,IF(N($G33)>=95%,0,MIN(3%,95%-N($G33)))))) -> 0.03 | E34: =IF(D34="","",$G$5*D34) -> 279191220 | F34: =IF(G34="","",$G$5*G34) -> 8.5618641e+09 | G34: =IF(D34="","",N($G33)+D34) -> 0.92 | H34: =IF(B34="","",IF(B34='1_PHIEU_TU_VAN'!$K$9,"Đã bao gồm 100 triệu đặt cọc",IF(B34='1_PHIEU_TU_VAN'!$K$10,"Mốc nhận nhà dự kiến","")))
A35: =IF(B35="","","Đợt "&COUNT($B$11:B35)) -> Đợt 25 | B35: =IF(N($G34)>=95%,"",IF(COUNTIF($B$11:$B34,'1_PHIEU_TU_VAN'!$K$10)>0,EDATE('1_PHIEU_TU_VAN'!$K$10,COUNTIF($B$11:$B34,">"&'1_PHIEU_TU_VAN'!$K$10)+1),MIN(EDATE('1_PHIEU_TU_VAN'!$K$9,24),'1_PHIEU_TU_VAN'!$K$10))) -> 47026 | C35: =IF(B35="","",IF(B35='1_PHIEU_TU_VAN'!$K$9,"Ký HĐMB",IF(B35='1_PHIEU_TU_VAN'!$K$10,"Nhận nhà dự kiến",IF(B35<'1_PHIEU_TU_VAN'!$K$10,"Sau 24 tháng","Sau nhận nhà "&TEXT(COUNTIF($B$11:B35,">"&'1_PHIEU_TU_VAN'!$K$10),"00")&" tháng")))) -> Sau nhận nhà 15 tháng | D35: =IF(B35="","",IF(B35='1_PHIEU_TU_VAN'!$K$10,MAX(0,'8_THAM_SO'!$C$6-N($G34)),IF(B35<'1_PHIEU_TU_VAN'!$K$10,4%,IF(N($G34)>=95%,0,MIN(3%,95%-N($G34)))))) -> 0.03 | E35: =IF(D35="","",$G$5*D35) -> 2.7919122e+08 | F35: =IF(G35="","",$G$5*G35) -> 8841055300 | G35: =IF(D35="","",N($G34)+D35) -> 0.95 | H35: =IF(B35="","",IF(B35='1_PHIEU_TU_VAN'!$K$9,"Đã bao gồm 100 triệu đặt cọc",IF(B35='1_PHIEU_TU_VAN'!$K$10,"Mốc nhận nhà dự kiến","")))
A36: ="Đợt "&(COUNT($B$11:$B$35)+1) -> Đợt 26 | C36: Thông báo cấp GCN | D36: 0.05 | E36: =$G$5*D36 -> 465318700 | F36: =$G$5*G36 -> 9306374000 | G36: =MAX(G11:G35)+D36 -> 1
A37: TỔNG | D37: =SUM($D$11:$D$36) -> 1 | E37: =SUM($E$11:$E$36) -> 9.306374e+09 | H37: Chưa gồm phí bảo trì 2%

Sheet 6_36_THANG
A1: LEGACY 66 | PTTT 36 THÁNG
A3: Loại căn | B3: ='1_PHIEU_TU_VAN'!B7 -> 2PN | C3: CK Early Bird | D3: =IF('1_PHIEU_TU_VAN'!K7="Có",'8_THAM_SO'!$B$16,0) -> 0.03 | F3: Giá rumor chưa VAT | G3: ='1_PHIEU_TU_VAN'!F7*1000000000 -> 8900000000
A4: DT Tim tường | B4: ='1_PHIEU_TU_VAN'!B9 -> 74.71 | C4: CK PTTT | D4: =INDEX('8_THAM_SO'!$B$4:$B$9,MATCH("36 tháng",'8_THAM_SO'!$A$4:$A$9,0)) -> 0.01 | F4: Giá sau CK chưa VAT | G4: =G3*(1-D3)*(1-D4)*(1-D5) -> 8546670000
A5: DT Thông thủy | B5: ='1_PHIEU_TU_VAN'!B8 -> 65.76 | C5: CK sỉ | D5: =IF('1_PHIEU_TU_VAN'!B11>=5,'8_THAM_SO'!$B$19,IF('1_PHIEU_TU_VAN'!B11>=3,'8_THAM_SO'!$B$18,IF('1_PHIEU_TU_VAN'!B11=2,'8_THAM_SO'!$B$17,0))) -> 0 | F5: Giá sau CK + VAT | G5: =G4*(1+'8_THAM_SO'!$B$14) -> 9401337000
C6: Tổng CK dự kiến | D6: =1-(1-D3)*(1-D4)*(1-D5) -> 0.0397
A9: Đợt | B9: Ngày dự kiến | C9: Nội dung | D9: Tỷ lệ | E9: Thành tiền | F9: THÀNH TIỀN LŨY KẾ | G9: Lũy kế % | H9: Ghi chú
B10: ='1_PHIEU_TU_VAN'!$K$9-7 -> 46288 | C10: Ký Phiếu đặt cọc | E10: ='8_THAM_SO'!$B$13 -> 100000000 | F10: =E10 -> 100000000
A11: =IF(B11="","","Đợt "&COUNT($B$11:B11)) -> Đợt 1 | B11: ='1_PHIEU_TU_VAN'!$K$9 -> 46295 | C11: =IF(B11="","",IF(B11='1_PHIEU_TU_VAN'!$K$9,"Ký HĐMB",IF(B11='1_PHIEU_TU_VAN'!$K$10,"Nhận nhà dự kiến",IF(B11<'1_PHIEU_TU_VAN'!$K$10,"Sau 00 tháng","Sau nhận nhà "&TEXT(COUNTIF($B$11:B11,">"&'1_PHIEU_TU_VAN'!$K$10),"00")&" tháng")))) -> Ký HĐMB | D11: =IF(B11="","",IF(B11='1_PHIEU_TU_VAN'!$K$10,MAX(0,'8_THAM_SO'!$C$5-0),IF(B11<'1_PHIEU_TU_VAN'!$K$10,15%,IF(0>=95%,0,MIN(2.5%,95%-0))))) -> 0.15 | E11: =IF(D11="","",$G$5*D11) -> 1410200550 | F11: =IF(G11="","",$G$5*G11) -> 1410200550 | G11: =IF(D11="","",0+D11) -> 0.15 | H11: =IF(B11="","",IF(B11='1_PHIEU_TU_VAN'!$K$9,"Đã bao gồm 100 triệu đặt cọc",IF(B11='1_PHIEU_TU_VAN'!$K$10,"Mốc nhận nhà dự kiến",""))) -> Đã bao gồm 100 triệu đặt cọc
A12: =IF(B12="","","Đợt "&COUNT($B$11:B12)) -> Đợt 2 | B12: =IF(N($G11)>=95%,"",IF(COUNTIF($B$11:$B11,'1_PHIEU_TU_VAN'!$K$10)>0,EDATE('1_PHIEU_TU_VAN'!$K$10,COUNTIF($B$11:$B11,">"&'1_PHIEU_TU_VAN'!$K$10)+1),MIN(EDATE('1_PHIEU_TU_VAN'!$K$9,1),'1_PHIEU_TU_VAN'!$K$10))) -> 46325 | C12: =IF(B12="","",IF(B12='1_PHIEU_TU_VAN'!$K$9,"Ký HĐMB",IF(B12='1_PHIEU_TU_VAN'!$K$10,"Nhận nhà dự kiến",IF(B12<'1_PHIEU_TU_VAN'!$K$10,"Sau 01 tháng","Sau nhận nhà "&TEXT(COUNTIF($B$11:B12,">"&'1_PHIEU_TU_VAN'!$K$10),"00")&" tháng")))) -> Sau 01 tháng | D12: =IF(B12="","",IF(B12='1_PHIEU_TU_VAN'!$K$10,MAX(0,'8_THAM_SO'!$C$5-N($G11)),IF(B12<'1_PHIEU_TU_VAN'!$K$10,3%,IF(N($G11)>=95%,0,MIN(2.5%,95%-N($G11)))))) -> 0.03 | E12: =IF(D12="","",$G$5*D12) -> 282040110 | F12: =IF(G12="","",$G$5*G12) -> 1692240660 | G12: =IF(D12="","",N($G11)+D12) -> 0.18 | H12: =IF(B12="","",IF(B12='1_PHIEU_TU_VAN'!$K$9,"Đã bao gồm 100 triệu đặt cọc",IF(B12='1_PHIEU_TU_VAN'!$K$10,"Mốc nhận nhà dự kiến","")))
A13: =IF(B13="","","Đợt "&COUNT($B$11:B13)) -> Đợt 3 | B13: =IF(N($G12)>=95%,"",IF(COUNTIF($B$11:$B12,'1_PHIEU_TU_VAN'!$K$10)>0,EDATE('1_PHIEU_TU_VAN'!$K$10,COUNTIF($B$11:$B12,">"&'1_PHIEU_TU_VAN'!$K$10)+1),MIN(EDATE('1_PHIEU_TU_VAN'!$K$9,2),'1_PHIEU_TU_VAN'!$K$10))) -> 46356 | C13: =IF(B13="","",IF(B13='1_PHIEU_TU_VAN'!$K$9,"Ký HĐMB",IF(B13='1_PHIEU_TU_VAN'!$K$10,"Nhận nhà dự kiến",IF(B13<'1_PHIEU_TU_VAN'!$K$10,"Sau 02 tháng","Sau nhận nhà "&TEXT(COUNTIF($B$11:B13,">"&'1_PHIEU_TU_VAN'!$K$10),"00")&" tháng")))) -> Sau 02 tháng | D13: =IF(B13="","",IF(B13='1_PHIEU_TU_VAN'!$K$10,MAX(0,'8_THAM_SO'!$C$5-N($G12)),IF(B13<'1_PHIEU_TU_VAN'!$K$10,3%,IF(N($G12)>=95%,0,MIN(2.5%,95%-N($G12)))))) -> 0.03 | E13: =IF(D13="","",$G$5*D13) -> 282040110 | F13: =IF(G13="","",$G$5*G13) -> 1974280770 | G13: =IF(D13="","",N($G12)+D13) -> 0.21 | H13: =IF(B13="","",IF(B13='1_PHIEU_TU_VAN'!$K$9,"Đã bao gồm 100 triệu đặt cọc",IF(B13='1_PHIEU_TU_VAN'!$K$10,"Mốc nhận nhà dự kiến","")))
A14: =IF(B14="","","Đợt "&COUNT($B$11:B14)) -> Đợt 4 | B14: =IF(N($G13)>=95%,"",IF(COUNTIF($B$11:$B13,'1_PHIEU_TU_VAN'!$K$10)>0,EDATE('1_PHIEU_TU_VAN'!$K$10,COUNTIF($B$11:$B13,">"&'1_PHIEU_TU_VAN'!$K$10)+1),MIN(EDATE('1_PHIEU_TU_VAN'!$K$9,3),'1_PHIEU_TU_VAN'!$K$10))) -> 46386 | C14: =IF(B14="","",IF(B14='1_PHIEU_TU_VAN'!$K$9,"Ký HĐMB",IF(B14='1_PHIEU_TU_VAN'!$K$10,"Nhận nhà dự kiến",IF(B14<'1_PHIEU_TU_VAN'!$K$10,"Sau 03 tháng","Sau nhận nhà "&TEXT(COUNTIF($B$11:B14,">"&'1_PHIEU_TU_VAN'!$K$10),"00")&" tháng")))) -> Sau 03 tháng | D14: =IF(B14="","",IF(B14='1_PHIEU_TU_VAN'!$K$10,MAX(0,'8_THAM_SO'!$C$5-N($G13)),IF(B14<'1_PHIEU_TU_VAN'!$K$10,1%,IF(N($G13)>=95%,0,MIN(2.5%,95%-N($G13)))))) -> 0.01 | E14: =IF(D14="","",$G$5*D14) -> 94013370 | F14: =IF(G14="","",$G$5*G14) -> 2068294140 | G14: =IF(D14="","",N($G13)+D14) -> 0.22 | H14: =IF(B14="","",IF(B14='1_PHIEU_TU_VAN'!$K$9,"Đã bao gồm 100 triệu đặt cọc",IF(B14='1_PHIEU_TU_VAN'!$K$10,"Mốc nhận nhà dự kiến","")))
A15: =IF(B15="","","Đợt "&COUNT($B$11:B15)) -> Đợt 5 | B15: =IF(N($G14)>=95%,"",IF(COUNTIF($B$11:$B14,'1_PHIEU_TU_VAN'!$K$10)>0,EDATE('1_PHIEU_TU_VAN'!$K$10,COUNTIF($B$11:$B14,">"&'1_PHIEU_TU_VAN'!$K$10)+1),MIN(EDATE('1_PHIEU_TU_VAN'!$K$9,4),'1_PHIEU_TU_VAN'!$K$10))) -> 46417 | C15: =IF(B15="","",IF(B15='1_PHIEU_TU_VAN'!$K$9,"Ký HĐMB",IF(B15='1_PHIEU_TU_VAN'!$K$10,"Nhận nhà dự kiến",IF(B15<'1_PHIEU_TU_VAN'!$K$10,"Sau 04 tháng","Sau nhận nhà "&TEXT(COUNTIF($B$11:B15,">"&'1_PHIEU_TU_VAN'!$K$10),"00")&" tháng")))) -> Sau 04 tháng | D15: =IF(B15="","",IF(B15='1_PHIEU_TU_VAN'!$K$10,MAX(0,'8_THAM_SO'!$C$5-N($G14)),IF(B15<'1_PHIEU_TU_VAN'!$K$10,1%,IF(N($G14)>=95%,0,MIN(2.5%,95%-N($G14)))))) -> 0.01 | E15: =IF(D15="","",$G$5*D15) -> 94013370 | F15: =IF(G15="","",$G$5*G15) -> 2162307510 | G15: =IF(D15="","",N($G14)+D15) -> 0.23 | H15: =IF(B15="","",IF(B15='1_PHIEU_TU_VAN'!$K$9,"Đã bao gồm 100 triệu đặt cọc",IF(B15='1_PHIEU_TU_VAN'!$K$10,"Mốc nhận nhà dự kiến","")))
A16: =IF(B16="","","Đợt "&COUNT($B$11:B16)) -> Đợt 6 | B16: =IF(N($G15)>=95%,"",IF(COUNTIF($B$11:$B15,'1_PHIEU_TU_VAN'!$K$10)>0,EDATE('1_PHIEU_TU_VAN'!$K$10,COUNTIF($B$11:$B15,">"&'1_PHIEU_TU_VAN'!$K$10)+1),MIN(EDATE('1_PHIEU_TU_VAN'!$K$9,5),'1_PHIEU_TU_VAN'!$K$10))) -> 46446 | C16: =IF(B16="","",IF(B16='1_PHIEU_TU_VAN'!$K$9,"Ký HĐMB",IF(B16='1_PHIEU_TU_VAN'!$K$10,"Nhận nhà dự kiến",IF(B16<'1_PHIEU_TU_VAN'!$K$10,"Sau 05 tháng","Sau nhận nhà "&TEXT(COUNTIF($B$11:B16,">"&'1_PHIEU_TU_VAN'!$K$10),"00")&" tháng")))) -> Sau 05 tháng | D16: =IF(B16="","",IF(B16='1_PHIEU_TU_VAN'!$K$10,MAX(0,'8_THAM_SO'!$C$5-N($G15)),IF(B16<'1_PHIEU_TU_VAN'!$K$10,1%,IF(N($G15)>=95%,0,MIN(2.5%,95%-N($G15)))))) -> 0.01 | E16: =IF(D16="","",$G$5*D16) -> 94013370 | F16: =IF(G16="","",$G$5*G16) -> 2256320880 | G16: =IF(D16="","",N($G15)+D16) -> 0.24 | H16: =IF(B16="","",IF(B16='1_PHIEU_TU_VAN'!$K$9,"Đã bao gồm 100 triệu đặt cọc",IF(B16='1_PHIEU_TU_VAN'!$K$10,"Mốc nhận nhà dự kiến","")))
A17: =IF(B17="","","Đợt "&COUNT($B$11:B17)) -> Đợt 7 | B17: =IF(N($G16)>=95%,"",IF(COUNTIF($B$11:$B16,'1_PHIEU_TU_VAN'!$K$10)>0,EDATE('1_PHIEU_TU_VAN'!$K$10,COUNTIF($B$11:$B16,">"&'1_PHIEU_TU_VAN'!$K$10)+1),MIN(EDATE('1_PHIEU_TU_VAN'!$K$9,6),'1_PHIEU_TU_VAN'!$K$10))) -> 46476 | C17: =IF(B17="","",IF(B17='1_PHIEU_TU_VAN'!$K$9,"Ký HĐMB",IF(B17='1_PHIEU_TU_VAN'!$K$10,"Nhận nhà dự kiến",IF(B17<'1_PHIEU_TU_VAN'!$K$10,"Sau 06 tháng","Sau nhận nhà "&TEXT(COUNTIF($B$11:B17,">"&'1_PHIEU_TU_VAN'!$K$10),"00")&" tháng")))) -> Sau 06 tháng | D17: =IF(B17="","",IF(B17='1_PHIEU_TU_VAN'!$K$10,MAX(0,'8_THAM_SO'!$C$5-N($G16)),IF(B17<'1_PHIEU_TU_VAN'!$K$10,1%,IF(N($G16)>=95%,0,MIN(2.5%,95%-N($G16)))))) -> 0.01 | E17: =IF(D17="","",$G$5*D17) -> 94013370 | F17: =IF(G17="","",$G$5*G17) -> 2350334250 | G17: =IF(D17="","",N($G16)+D17) -> 0.25 | H17: =IF(B17="","",IF(B17='1_PHIEU_TU_VAN'!$K$9,"Đã bao gồm 100 triệu đặt cọc",IF(B17='1_PHIEU_TU_VAN'!$K$10,"Mốc nhận nhà dự kiến","")))
A18: =IF(B18="","","Đợt "&COUNT($B$11:B18)) -> Đợt 8 | B18: =IF(N($G17)>=95%,"",IF(COUNTIF($B$11:$B17,'1_PHIEU_TU_VAN'!$K$10)>0,EDATE('1_PHIEU_TU_VAN'!$K$10,COUNTIF($B$11:$B17,">"&'1_PHIEU_TU_VAN'!$K$10)+1),MIN(EDATE('1_PHIEU_TU_VAN'!$K$9,7),'1_PHIEU_TU_VAN'!$K$10))) -> 46507 | C18: =IF(B18="","",IF(B18='1_PHIEU_TU_VAN'!$K$9,"Ký HĐMB",IF(B18='1_PHIEU_TU_VAN'!$K$10,"Nhận nhà dự kiến",IF(B18<'1_PHIEU_TU_VAN'!$K$10,"Sau 07 tháng","Sau nhận nhà "&TEXT(COUNTIF($B$11:B18,">"&'1_PHIEU_TU_VAN'!$K$10),"00")&" tháng")))) -> Sau 07 tháng | D18: =IF(B18="","",IF(B18='1_PHIEU_TU_VAN'!$K$10,MAX(0,'8_THAM_SO'!$C$5-N($G17)),IF(B18<'1_PHIEU_TU_VAN'!$K$10,1%,IF(N($G17)>=95%,0,MIN(2.5%,95%-N($G17)))))) -> 0.01 | E18: =IF(D18="","",$G$5*D18) -> 94013370 | F18: =IF(G18="","",$G$5*G18) -> 2444347620 | G18: =IF(D18="","",N($G17)+D18) -> 0.26 | H18: =IF(B18="","",IF(B18='1_PHIEU_TU_VAN'!$K$9,"Đã bao gồm 100 triệu đặt cọc",IF(B18='1_PHIEU_TU_VAN'!$K$10,"Mốc nhận nhà dự kiến","")))
A19: =IF(B19="","","Đợt "&COUNT($B$11:B19)) -> Đợt 9 | B19: =IF(N($G18)>=95%,"",IF(COUNTIF($B$11:$B18,'1_PHIEU_TU_VAN'!$K$10)>0,EDATE('1_PHIEU_TU_VAN'!$K$10,COUNTIF($B$11:$B18,">"&'1_PHIEU_TU_VAN'!$K$10)+1),MIN(EDATE('1_PHIEU_TU_VAN'!$K$9,8),'1_PHIEU_TU_VAN'!$K$10))) -> 46537 | C19: =IF(B19="","",IF(B19='1_PHIEU_TU_VAN'!$K$9,"Ký HĐMB",IF(B19='1_PHIEU_TU_VAN'!$K$10,"Nhận nhà dự kiến",IF(B19<'1_PHIEU_TU_VAN'!$K$10,"Sau 08 tháng","Sau nhận nhà "&TEXT(COUNTIF($B$11:B19,">"&'1_PHIEU_TU_VAN'!$K$10),"00")&" tháng")))) -> Sau 08 tháng | D19: =IF(B19="","",IF(B19='1_PHIEU_TU_VAN'!$K$10,MAX(0,'8_THAM_SO'!$C$5-N($G18)),IF(B19<'1_PHIEU_TU_VAN'!$K$10,1%,IF(N($G18)>=95%,0,MIN(2.5%,95%-N($G18)))))) -> 0.01 | E19: =IF(D19="","",$G$5*D19) -> 94013370 | F19: =IF(G19="","",$G$5*G19) -> 2538360990 | G19: =IF(D19="","",N($G18)+D19) -> 0.27 | H19: =IF(B19="","",IF(B19='1_PHIEU_TU_VAN'!$K$9,"Đã bao gồm 100 triệu đặt cọc",IF(B19='1_PHIEU_TU_VAN'!$K$10,"Mốc nhận nhà dự kiến","")))
A20: =IF(B20="","","Đợt "&COUNT($B$11:B20)) -> Đợt 10 | B20: =IF(N($G19)>=95%,"",IF(COUNTIF($B$11:$B19,'1_PHIEU_TU_VAN'!$K$10)>0,EDATE('1_PHIEU_TU_VAN'!$K$10,COUNTIF($B$11:$B19,">"&'1_PHIEU_TU_VAN'!$K$10)+1),MIN(EDATE('1_PHIEU_TU_VAN'!$K$9,9),'1_PHIEU_TU_VAN'!$K$10))) -> 46568 | C20: =IF(B20="","",IF(B20='1_PHIEU_TU_VAN'!$K$9,"Ký HĐMB",IF(B20='1_PHIEU_TU_VAN'!$K$10,"Nhận nhà dự kiến",IF(B20<'1_PHIEU_TU_VAN'!$K$10,"Sau 09 tháng","Sau nhận nhà "&TEXT(COUNTIF($B$11:B20,">"&'1_PHIEU_TU_VAN'!$K$10),"00")&" tháng")))) -> Nhận nhà dự kiến | D20: =IF(B20="","",IF(B20='1_PHIEU_TU_VAN'!$K$10,MAX(0,'8_THAM_SO'!$C$5-N($G19)),IF(B20<'1_PHIEU_TU_VAN'!$K$10,1%,IF(N($G19)>=95%,0,MIN(2.5%,95%-N($G19)))))) -> 0.03 | E20: =IF(D20="","",$G$5*D20) -> 2.8204011e+08 | F20: =IF(G20="","",$G$5*G20) -> 2820401100 | G20: =IF(D20="","",N($G19)+D20) -> 0.3 | H20: =IF(B20="","",IF(B20='1_PHIEU_TU_VAN'!$K$9,"Đã bao gồm 100 triệu đặt cọc",IF(B20='1_PHIEU_TU_VAN'!$K$10,"Mốc nhận nhà dự kiến",""))) -> Mốc nhận nhà dự kiến
A21: =IF(B21="","","Đợt "&COUNT($B$11:B21)) -> Đợt 11 | B21: =IF(N($G20)>=95%,"",IF(COUNTIF($B$11:$B20,'1_PHIEU_TU_VAN'!$K$10)>0,EDATE('1_PHIEU_TU_VAN'!$K$10,COUNTIF($B$11:$B20,">"&'1_PHIEU_TU_VAN'!$K$10)+1),MIN(EDATE('1_PHIEU_TU_VAN'!$K$9,10),'1_PHIEU_TU_VAN'!$K$10))) -> 46598 | C21: =IF(B21="","",IF(B21='1_PHIEU_TU_VAN'!$K$9,"Ký HĐMB",IF(B21='1_PHIEU_TU_VAN'!$K$10,"Nhận nhà dự kiến",IF(B21<'1_PHIEU_TU_VAN'!$K$10,"Sau 10 tháng","Sau nhận nhà "&TEXT(COUNTIF($B$11:B21,">"&'1_PHIEU_TU_VAN'!$K$10),"00")&" tháng")))) -> Sau nhận nhà 01 tháng | D21: =IF(B21="","",IF(B21='1_PHIEU_TU_VAN'!$K$10,MAX(0,'8_THAM_SO'!$C$5-N($G20)),IF(B21<'1_PHIEU_TU_VAN'!$K$10,1%,IF(N($G20)>=95%,0,MIN(2.5%,95%-N($G20)))))) -> 0.025 | E21: =IF(D21="","",$G$5*D21) -> 235033425 | F21: =IF(G21="","",$G$5*G21) -> 3055434525 | G21: =IF(D21="","",N($G20)+D21) -> 0.325 | H21: =IF(B21="","",IF(B21='1_PHIEU_TU_VAN'!$K$9,"Đã bao gồm 100 triệu đặt cọc",IF(B21='1_PHIEU_TU_VAN'!$K$10,"Mốc nhận nhà dự kiến","")))
A22: =IF(B22="","","Đợt "&COUNT($B$11:B22)) -> Đợt 12 | B22: =IF(N($G21)>=95%,"",IF(COUNTIF($B$11:$B21,'1_PHIEU_TU_VAN'!$K$10)>0,EDATE('1_PHIEU_TU_VAN'!$K$10,COUNTIF($B$11:$B21,">"&'1_PHIEU_TU_VAN'!$K$10)+1),MIN(EDATE('1_PHIEU_TU_VAN'!$K$9,11),'1_PHIEU_TU_VAN'!$K$10))) -> 46629 | C22: =IF(B22="","",IF(B22='1_PHIEU_TU_VAN'!$K$9,"Ký HĐMB",IF(B22='1_PHIEU_TU_VAN'!$K$10,"Nhận nhà dự kiến",IF(B22<'1_PHIEU_TU_VAN'!$K$10,"Sau 11 tháng","Sau nhận nhà "&TEXT(COUNTIF($B$11:B22,">"&'1_PHIEU_TU_VAN'!$K$10),"00")&" tháng")))) -> Sau nhận nhà 02 tháng | D22: =IF(B22="","",IF(B22='1_PHIEU_TU_VAN'!$K$10,MAX(0,'8_THAM_SO'!$C$5-N($G21)),IF(B22<'1_PHIEU_TU_VAN'!$K$10,1%,IF(N($G21)>=95%,0,MIN(2.5%,95%-N($G21)))))) -> 0.025 | E22: =IF(D22="","",$G$5*D22) -> 235033425 | F22: =IF(G22="","",$G$5*G22) -> 3.290468e+09 | G22: =IF(D22="","",N($G21)+D22) -> 0.35 | H22: =IF(B22="","",IF(B22='1_PHIEU_TU_VAN'!$K$9,"Đã bao gồm 100 triệu đặt cọc",IF(B22='1_PHIEU_TU_VAN'!$K$10,"Mốc nhận nhà dự kiến","")))
A23: =IF(B23="","","Đợt "&COUNT($B$11:B23)) -> Đợt 13 | B23: =IF(N($G22)>=95%,"",IF(COUNTIF($B$11:$B22,'1_PHIEU_TU_VAN'!$K$10)>0,EDATE('1_PHIEU_TU_VAN'!$K$10,COUNTIF($B$11:$B22,">"&'1_PHIEU_TU_VAN'!$K$10)+1),MIN(EDATE('1_PHIEU_TU_VAN'!$K$9,12),'1_PHIEU_TU_VAN'!$K$10))) -> 46660 | C23: =IF(B23="","",IF(B23='1_PHIEU_TU_VAN'!$K$9,"Ký HĐMB",IF(B23='1_PHIEU_TU_VAN'!$K$10,"Nhận nhà dự kiến",IF(B23<'1_PHIEU_TU_VAN'!$K$10,"Sau 12 tháng","Sau nhận nhà "&TEXT(COUNTIF($B$11:B23,">"&'1_PHIEU_TU_VAN'!$K$10),"00")&" tháng")))) -> Sau nhận nhà 03 tháng | D23: =IF(B23="","",IF(B23='1_PHIEU_TU_VAN'!$K$10,MAX(0,'8_THAM_SO'!$C$5-N($G22)),IF(B23<'1_PHIEU_TU_VAN'!$K$10,1%,IF(N($G22)>=95%,0,MIN(2.5%,95%-N($G22)))))) -> 0.025 | E23: =IF(D23="","",$G$5*D23) -> 235033425 | F23: =IF(G23="","",$G$5*G23) -> 3.5255014e+09 | G23: =IF(D23="","",N($G22)+D23) -> 0.375 | H23: =IF(B23="","",IF(B23='1_PHIEU_TU_VAN'!$K$9,"Đã bao gồm 100 triệu đặt cọc",IF(B23='1_PHIEU_TU_VAN'!$K$10,"Mốc nhận nhà dự kiến","")))
A24: =IF(B24="","","Đợt "&COUNT($B$11:B24)) -> Đợt 14 | B24: =IF(N($G23)>=95%,"",IF(COUNTIF($B$11:$B23,'1_PHIEU_TU_VAN'!$K$10)>0,EDATE('1_PHIEU_TU_VAN'!$K$10,COUNTIF($B$11:$B23,">"&'1_PHIEU_TU_VAN'!$K$10)+1),MIN(EDATE('1_PHIEU_TU_VAN'!$K$9,13),'1_PHIEU_TU_VAN'!$K$10))) -> 46690 | C24: =IF(B24="","",IF(B24='1_PHIEU_TU_VAN'!$K$9,"Ký HĐMB",IF(B24='1_PHIEU_TU_VAN'!$K$10,"Nhận nhà dự kiến",IF(B24<'1_PHIEU_TU_VAN'!$K$10,"Sau 13 tháng","Sau nhận nhà "&TEXT(COUNTIF($B$11:B24,">"&'1_PHIEU_TU_VAN'!$K$10),"00")&" tháng")))) -> Sau nhận nhà 04 tháng | D24: =IF(B24="","",IF(B24='1_PHIEU_TU_VAN'!$K$10,MAX(0,'8_THAM_SO'!$C$5-N($G23)),IF(B24<'1_PHIEU_TU_VAN'!$K$10,1%,IF(N($G23)>=95%,0,MIN(2.5%,95%-N($G23)))))) -> 0.025 | E24: =IF(D24="","",$G$5*D24) -> 235033425 | F24: =IF(G24="","",$G$5*G24) -> 3.7605348e+09 | G24: =IF(D24="","",N($G23)+D24) -> 0.4 | H24: =IF(B24="","",IF(B24='1_PHIEU_TU_VAN'!$K$9,"Đã bao gồm 100 triệu đặt cọc",IF(B24='1_PHIEU_TU_VAN'!$K$10,"Mốc nhận nhà dự kiến","")))
A25: =IF(B25="","","Đợt "&COUNT($B$11:B25)) -> Đợt 15 | B25: =IF(N($G24)>=95%,"",IF(COUNTIF($B$11:$B24,'1_PHIEU_TU_VAN'!$K$10)>0,EDATE('1_PHIEU_TU_VAN'!$K$10,COUNTIF($B$11:$B24,">"&'1_PHIEU_TU_VAN'!$K$10)+1),MIN(EDATE('1_PHIEU_TU_VAN'!$K$9,14),'1_PHIEU_TU_VAN'!$K$10))) -> 46721 | C25: =IF(B25="","",IF(B25='1_PHIEU_TU_VAN'!$K$9,"Ký HĐMB",IF(B25='1_PHIEU_TU_VAN'!$K$10,"Nhận nhà dự kiến",IF(B25<'1_PHIEU_TU_VAN'!$K$10,"Sau 14 tháng","Sau nhận nhà "&TEXT(COUNTIF($B$11:B25,">"&'1_PHIEU_TU_VAN'!$K$10),"00")&" tháng")))) -> Sau nhận nhà 05 tháng | D25: =IF(B25="","",IF(B25='1_PHIEU_TU_VAN'!$K$10,MAX(0,'8_THAM_SO'!$C$5-N($G24)),IF(B25<'1_PHIEU_TU_VAN'!$K$10,1%,IF(N($G24)>=95%,0,MIN(2.5%,95%-N($G24)))))) -> 0.025 | E25: =IF(D25="","",$G$5*D25) -> 235033425 | F25: =IF(G25="","",$G$5*G25) -> 3.9955682e+09 | G25: =IF(D25="","",N($G24)+D25) -> 0.425 | H25: =IF(B25="","",IF(B25='1_PHIEU_TU_VAN'!$K$9,"Đã bao gồm 100 triệu đặt cọc",IF(B25='1_PHIEU_TU_VAN'!$K$10,"Mốc nhận nhà dự kiến","")))
A26: =IF(B26="","","Đợt "&COUNT($B$11:B26)) -> Đợt 16 | B26: =IF(N($G25)>=95%,"",IF(COUNTIF($B$11:$B25,'1_PHIEU_TU_VAN'!$K$10)>0,EDATE('1_PHIEU_TU_VAN'!$K$10,COUNTIF($B$11:$B25,">"&'1_PHIEU_TU_VAN'!$K$10)+1),MIN(EDATE('1_PHIEU_TU_VAN'!$K$9,15),'1_PHIEU_TU_VAN'!$K$10))) -> 46751 | C26: =IF(B26="","",IF(B26='1_PHIEU_TU_VAN'!$K$9,"Ký HĐMB",IF(B26='1_PHIEU_TU_VAN'!$K$10,"Nhận nhà dự kiến",IF(B26<'1_PHIEU_TU_VAN'!$K$10,"Sau 15 tháng","Sau nhận nhà "&TEXT(COUNTIF($B$11:B26,">"&'1_PHIEU_TU_VAN'!$K$10),"00")&" tháng")))) -> Sau nhận nhà 06 tháng | D26: =IF(B26="","",IF(B26='1_PHIEU_TU_VAN'!$K$10,MAX(0,'8_THAM_SO'!$C$5-N($G25)),IF(B26<'1_PHIEU_TU_VAN'!$K$10,1%,IF(N($G25)>=95%,0,MIN(2.5%,95%-N($G25)))))) -> 0.025 | E26: =IF(D26="","",$G$5*D26) -> 235033425 | F26: =IF(G26="","",$G$5*G26) -> 4.2306017e+09 | G26: =IF(D26="","",N($G25)+D26) -> 0.45 | H26: =IF(B26="","",IF(B26='1_PHIEU_TU_VAN'!$K$9,"Đã bao gồm 100 triệu đặt cọc",IF(B26='1_PHIEU_TU_VAN'!$K$10,"Mốc nhận nhà dự kiến","")))
A27: =IF(B27="","","Đợt "&COUNT($B$11:B27)) -> Đợt 17 | B27: =IF(N($G26)>=95%,"",IF(COUNTIF($B$11:$B26,'1_PHIEU_TU_VAN'!$K$10)>0,EDATE('1_PHIEU_TU_VAN'!$K$10,COUNTIF($B$11:$B26,">"&'1_PHIEU_TU_VAN'!$K$10)+1),MIN(EDATE('1_PHIEU_TU_VAN'!$K$9,16),'1_PHIEU_TU_VAN'!$K$10))) -> 46782 | C27: =IF(B27="","",IF(B27='1_PHIEU_TU_VAN'!$K$9,"Ký HĐMB",IF(B27='1_PHIEU_TU_VAN'!$K$10,"Nhận nhà dự kiến",IF(B27<'1_PHIEU_TU_VAN'!$K$10,"Sau 16 tháng","Sau nhận nhà "&TEXT(COUNTIF($B$11:B27,">"&'1_PHIEU_TU_VAN'!$K$10),"00")&" tháng")))) -> Sau nhận nhà 07 tháng | D27: =IF(B27="","",IF(B27='1_PHIEU_TU_VAN'!$K$10,MAX(0,'8_THAM_SO'!$C$5-N($G26)),IF(B27<'1_PHIEU_TU_VAN'!$K$10,1%,IF(N($G26)>=95%,0,MIN(2.5%,95%-N($G26)))))) -> 0.025 | E27: =IF(D27="","",$G$5*D27) -> 235033425 | F27: =IF(G27="","",$G$5*G27) -> 4.4656351e+09 | G27: =IF(D27="","",N($G26)+D27) -> 0.475 | H27: =IF(B27="","",IF(B27='1_PHIEU_TU_VAN'!$K$9,"Đã bao gồm 100 triệu đặt cọc",IF(B27='1_PHIEU_TU_VAN'!$K$10,"Mốc nhận nhà dự kiến","")))
A28: =IF(B28="","","Đợt "&COUNT($B$11:B28)) -> Đợt 18 | B28: =IF(N($G27)>=95%,"",IF(COUNTIF($B$11:$B27,'1_PHIEU_TU_VAN'!$K$10)>0,EDATE('1_PHIEU_TU_VAN'!$K$10,COUNTIF($B$11:$B27,">"&'1_PHIEU_TU_VAN'!$K$10)+1),MIN(EDATE('1_PHIEU_TU_VAN'!$K$9,17),'1_PHIEU_TU_VAN'!$K$10))) -> 46812 | C28: =IF(B28="","",IF(B28='1_PHIEU_TU_VAN'!$K$9,"Ký HĐMB",IF(B28='1_PHIEU_TU_VAN'!$K$10,"Nhận nhà dự kiến",IF(B28<'1_PHIEU_TU_VAN'!$K$10,"Sau 17 tháng","Sau nhận nhà "&TEXT(COUNTIF($B$11:B28,">"&'1_PHIEU_TU_VAN'!$K$10),"00")&" tháng")))) -> Sau nhận nhà 08 tháng | D28: =IF(B28="","",IF(B28='1_PHIEU_TU_VAN'!$K$10,MAX(0,'8_THAM_SO'!$C$5-N($G27)),IF(B28<'1_PHIEU_TU_VAN'!$K$10,1%,IF(N($G27)>=95%,0,MIN(2.5%,95%-N($G27)))))) -> 0.025 | E28: =IF(D28="","",$G$5*D28) -> 235033425 | F28: =IF(G28="","",$G$5*G28) -> 4.7006685e+09 | G28: =IF(D28="","",N($G27)+D28) -> 0.5 | H28: =IF(B28="","",IF(B28='1_PHIEU_TU_VAN'!$K$9,"Đã bao gồm 100 triệu đặt cọc",IF(B28='1_PHIEU_TU_VAN'!$K$10,"Mốc nhận nhà dự kiến","")))
A29: =IF(B29="","","Đợt "&COUNT($B$11:B29)) -> Đợt 19 | B29: =IF(N($G28)>=95%,"",IF(COUNTIF($B$11:$B28,'1_PHIEU_TU_VAN'!$K$10)>0,EDATE('1_PHIEU_TU_VAN'!$K$10,COUNTIF($B$11:$B28,">"&'1_PHIEU_TU_VAN'!$K$10)+1),MIN(EDATE('1_PHIEU_TU_VAN'!$K$9,18),'1_PHIEU_TU_VAN'!$K$10))) -> 46842 | C29: =IF(B29="","",IF(B29='1_PHIEU_TU_VAN'!$K$9,"Ký HĐMB",IF(B29='1_PHIEU_TU_VAN'!$K$10,"Nhận nhà dự kiến",IF(B29<'1_PHIEU_TU_VAN'!$K$10,"Sau 18 tháng","Sau nhận nhà "&TEXT(COUNTIF($B$11:B29,">"&'1_PHIEU_TU_VAN'!$K$10),"00")&" tháng")))) -> Sau nhận nhà 09 tháng | D29: =IF(B29="","",IF(B29='1_PHIEU_TU_VAN'!$K$10,MAX(0,'8_THAM_SO'!$C$5-N($G28)),IF(B29<'1_PHIEU_TU_VAN'!$K$10,1%,IF(N($G28)>=95%,0,MIN(2.5%,95%-N($G28)))))) -> 0.025 | E29: =IF(D29="","",$G$5*D29) -> 235033425 | F29: =IF(G29="","",$G$5*G29) -> 4.9357019e+09 | G29: =IF(D29="","",N($G28)+D29) -> 0.525 | H29: =IF(B29="","",IF(B29='1_PHIEU_TU_VAN'!$K$9,"Đã bao gồm 100 triệu đặt cọc",IF(B29='1_PHIEU_TU_VAN'!$K$10,"Mốc nhận nhà dự kiến","")))
A30: =IF(B30="","","Đợt "&COUNT($B$11:B30)) -> Đợt 20 | B30: =IF(N($G29)>=95%,"",IF(COUNTIF($B$11:$B29,'1_PHIEU_TU_VAN'!$K$10)>0,EDATE('1_PHIEU_TU_VAN'!$K$10,COUNTIF($B$11:$B29,">"&'1_PHIEU_TU_VAN'!$K$10)+1),MIN(EDATE('1_PHIEU_TU_VAN'!$K$9,19),'1_PHIEU_TU_VAN'!$K$10))) -> 46873 | C30: =IF(B30="","",IF(B30='1_PHIEU_TU_VAN'!$K$9,"Ký HĐMB",IF(B30='1_PHIEU_TU_VAN'!$K$10,"Nhận nhà dự kiến",IF(B30<'1_PHIEU_TU_VAN'!$K$10,"Sau 19 tháng","Sau nhận nhà "&TEXT(COUNTIF($B$11:B30,">"&'1_PHIEU_TU_VAN'!$K$10),"00")&" tháng")))) -> Sau nhận nhà 10 tháng | D30: =IF(B30="","",IF(B30='1_PHIEU_TU_VAN'!$K$10,MAX(0,'8_THAM_SO'!$C$5-N($G29)),IF(B30<'1_PHIEU_TU_VAN'!$K$10,1%,IF(N($G29)>=95%,0,MIN(2.5%,95%-N($G29)))))) -> 0.025 | E30: =IF(D30="","",$G$5*D30) -> 235033425 | F30: =IF(G30="","",$G$5*G30) -> 5.1707354e+09 | G30: =IF(D30="","",N($G29)+D30) -> 0.55 | H30: =IF(B30="","",IF(B30='1_PHIEU_TU_VAN'!$K$9,"Đã bao gồm 100 triệu đặt cọc",IF(B30='1_PHIEU_TU_VAN'!$K$10,"Mốc nhận nhà dự kiến","")))
A31: =IF(B31="","","Đợt "&COUNT($B$11:B31)) -> Đợt 21 | B31: =IF(N($G30)>=95%,"",IF(COUNTIF($B$11:$B30,'1_PHIEU_TU_VAN'!$K$10)>0,EDATE('1_PHIEU_TU_VAN'!$K$10,COUNTIF($B$11:$B30,">"&'1_PHIEU_TU_VAN'!$K$10)+1),MIN(EDATE('1_PHIEU_TU_VAN'!$K$9,20),'1_PHIEU_TU_VAN'!$K$10))) -> 46903 | C31: =IF(B31="","",IF(B31='1_PHIEU_TU_VAN'!$K$9,"Ký HĐMB",IF(B31='1_PHIEU_TU_VAN'!$K$10,"Nhận nhà dự kiến",IF(B31<'1_PHIEU_TU_VAN'!$K$10,"Sau 20 tháng","Sau nhận nhà "&TEXT(COUNTIF($B$11:B31,">"&'1_PHIEU_TU_VAN'!$K$10),"00")&" tháng")))) -> Sau nhận nhà 11 tháng | D31: =IF(B31="","",IF(B31='1_PHIEU_TU_VAN'!$K$10,MAX(0,'8_THAM_SO'!$C$5-N($G30)),IF(B31<'1_PHIEU_TU_VAN'!$K$10,1%,IF(N($G30)>=95%,0,MIN(2.5%,95%-N($G30)))))) -> 0.025 | E31: =IF(D31="","",$G$5*D31) -> 235033425 | F31: =IF(G31="","",$G$5*G31) -> 5.4057688e+09 | G31: =IF(D31="","",N($G30)+D31) -> 0.575 | H31: =IF(B31="","",IF(B31='1_PHIEU_TU_VAN'!$K$9,"Đã bao gồm 100 triệu đặt cọc",IF(B31='1_PHIEU_TU_VAN'!$K$10,"Mốc nhận nhà dự kiến","")))
A32: =IF(B32="","","Đợt "&COUNT($B$11:B32)) -> Đợt 22 | B32: =IF(N($G31)>=95%,"",IF(COUNTIF($B$11:$B31,'1_PHIEU_TU_VAN'!$K$10)>0,EDATE('1_PHIEU_TU_VAN'!$K$10,COUNTIF($B$11:$B31,">"&'1_PHIEU_TU_VAN'!$K$10)+1),MIN(EDATE('1_PHIEU_TU_VAN'!$K$9,21),'1_PHIEU_TU_VAN'!$K$10))) -> 46934 | C32: =IF(B32="","",IF(B32='1_PHIEU_TU_VAN'!$K$9,"Ký HĐMB",IF(B32='1_PHIEU_TU_VAN'!$K$10,"Nhận nhà dự kiến",IF(B32<'1_PHIEU_TU_VAN'!$K$10,"Sau 21 tháng","Sau nhận nhà "&TEXT(COUNTIF($B$11:B32,">"&'1_PHIEU_TU_VAN'!$K$10),"00")&" tháng")))) -> Sau nhận nhà 12 tháng | D32: =IF(B32="","",IF(B32='1_PHIEU_TU_VAN'!$K$10,MAX(0,'8_THAM_SO'!$C$5-N($G31)),IF(B32<'1_PHIEU_TU_VAN'!$K$10,1%,IF(N($G31)>=95%,0,MIN(2.5%,95%-N($G31)))))) -> 0.025 | E32: =IF(D32="","",$G$5*D32) -> 235033425 | F32: =IF(G32="","",$G$5*G32) -> 5.6408022e+09 | G32: =IF(D32="","",N($G31)+D32) -> 0.6 | H32: =IF(B32="","",IF(B32='1_PHIEU_TU_VAN'!$K$9,"Đã bao gồm 100 triệu đặt cọc",IF(B32='1_PHIEU_TU_VAN'!$K$10,"Mốc nhận nhà dự kiến","")))
A33: =IF(B33="","","Đợt "&COUNT($B$11:B33)) -> Đợt 23 | B33: =IF(N($G32)>=95%,"",IF(COUNTIF($B$11:$B32,'1_PHIEU_TU_VAN'!$K$10)>0,EDATE('1_PHIEU_TU_VAN'!$K$10,COUNTIF($B$11:$B32,">"&'1_PHIEU_TU_VAN'!$K$10)+1),MIN(EDATE('1_PHIEU_TU_VAN'!$K$9,22),'1_PHIEU_TU_VAN'!$K$10))) -> 46964 | C33: =IF(B33="","",IF(B33='1_PHIEU_TU_VAN'!$K$9,"Ký HĐMB",IF(B33='1_PHIEU_TU_VAN'!$K$10,"Nhận nhà dự kiến",IF(B33<'1_PHIEU_TU_VAN'!$K$10,"Sau 22 tháng","Sau nhận nhà "&TEXT(COUNTIF($B$11:B33,">"&'1_PHIEU_TU_VAN'!$K$10),"00")&" tháng")))) -> Sau nhận nhà 13 tháng | D33: =IF(B33="","",IF(B33='1_PHIEU_TU_VAN'!$K$10,MAX(0,'8_THAM_SO'!$C$5-N($G32)),IF(B33<'1_PHIEU_TU_VAN'!$K$10,1%,IF(N($G32)>=95%,0,MIN(2.5%,95%-N($G32)))))) -> 0.025 | E33: =IF(D33="","",$G$5*D33) -> 235033425 | F33: =IF(G33="","",$G$5*G33) -> 5.8758356e+09 | G33: =IF(D33="","",N($G32)+D33) -> 0.625 | H33: =IF(B33="","",IF(B33='1_PHIEU_TU_VAN'!$K$9,"Đã bao gồm 100 triệu đặt cọc",IF(B33='1_PHIEU_TU_VAN'!$K$10,"Mốc nhận nhà dự kiến","")))
A34: =IF(B34="","","Đợt "&COUNT($B$11:B34)) -> Đợt 24 | B34: =IF(N($G33)>=95%,"",IF(COUNTIF($B$11:$B33,'1_PHIEU_TU_VAN'!$K$10)>0,EDATE('1_PHIEU_TU_VAN'!$K$10,COUNTIF($B$11:$B33,">"&'1_PHIEU_TU_VAN'!$K$10)+1),MIN(EDATE('1_PHIEU_TU_VAN'!$K$9,23),'1_PHIEU_TU_VAN'!$K$10))) -> 46995 | C34: =IF(B34="","",IF(B34='1_PHIEU_TU_VAN'!$K$9,"Ký HĐMB",IF(B34='1_PHIEU_TU_VAN'!$K$10,"Nhận nhà dự kiến",IF(B34<'1_PHIEU_TU_VAN'!$K$10,"Sau 23 tháng","Sau nhận nhà "&TEXT(COUNTIF($B$11:B34,">"&'1_PHIEU_TU_VAN'!$K$10),"00")&" tháng")))) -> Sau nhận nhà 14 tháng | D34: =IF(B34="","",IF(B34='1_PHIEU_TU_VAN'!$K$10,MAX(0,'8_THAM_SO'!$C$5-N($G33)),IF(B34<'1_PHIEU_TU_VAN'!$K$10,1%,IF(N($G33)>=95%,0,MIN(2.5%,95%-N($G33)))))) -> 0.025 | E34: =IF(D34="","",$G$5*D34) -> 235033425 | F34: =IF(G34="","",$G$5*G34) -> 6.1108691e+09 | G34: =IF(D34="","",N($G33)+D34) -> 0.65 | H34: =IF(B34="","",IF(B34='1_PHIEU_TU_VAN'!$K$9,"Đã bao gồm 100 triệu đặt cọc",IF(B34='1_PHIEU_TU_VAN'!$K$10,"Mốc nhận nhà dự kiến","")))
A35: =IF(B35="","","Đợt "&COUNT($B$11:B35)) -> Đợt 25 | B35: =IF(N($G34)>=95%,"",IF(COUNTIF($B$11:$B34,'1_PHIEU_TU_VAN'!$K$10)>0,EDATE('1_PHIEU_TU_VAN'!$K$10,COUNTIF($B$11:$B34,">"&'1_PHIEU_TU_VAN'!$K$10)+1),MIN(EDATE('1_PHIEU_TU_VAN'!$K$9,24),'1_PHIEU_TU_VAN'!$K$10))) -> 47026 | C35: =IF(B35="","",IF(B35='1_PHIEU_TU_VAN'!$K$9,"Ký HĐMB",IF(B35='1_PHIEU_TU_VAN'!$K$10,"Nhận nhà dự kiến",IF(B35<'1_PHIEU_TU_VAN'!$K$10,"Sau 24 tháng","Sau nhận nhà "&TEXT(COUNTIF($B$11:B35,">"&'1_PHIEU_TU_VAN'!$K$10),"00")&" tháng")))) -> Sau nhận nhà 15 tháng | D35: =IF(B35="","",IF(B35='1_PHIEU_TU_VAN'!$K$10,MAX(0,'8_THAM_SO'!$C$5-N($G34)),IF(B35<'1_PHIEU_TU_VAN'!$K$10,1%,IF(N($G34)>=95%,0,MIN(2.5%,95%-N($G34)))))) -> 0.025 | E35: =IF(D35="","",$G$5*D35) -> 235033425 | F35: =IF(G35="","",$G$5*G35) -> 6.3459025e+09 | G35: =IF(D35="","",N($G34)+D35) -> 0.675 | H35: =IF(B35="","",IF(B35='1_PHIEU_TU_VAN'!$K$9,"Đã bao gồm 100 triệu đặt cọc",IF(B35='1_PHIEU_TU_VAN'!$K$10,"Mốc nhận nhà dự kiến","")))
A36: =IF(B36="","","Đợt "&COUNT($B$11:B36)) -> Đợt 26 | B36: =IF(N($G35)>=95%,"",IF(COUNTIF($B$11:$B35,'1_PHIEU_TU_VAN'!$K$10)>0,EDATE('1_PHIEU_TU_VAN'!$K$10,COUNTIF($B$11:$B35,">"&'1_PHIEU_TU_VAN'!$K$10)+1),MIN(EDATE('1_PHIEU_TU_VAN'!$K$9,25),'1_PHIEU_TU_VAN'!$K$10))) -> 47056 | C36: =IF(B36="","",IF(B36='1_PHIEU_TU_VAN'!$K$9,"Ký HĐMB",IF(B36='1_PHIEU_TU_VAN'!$K$10,"Nhận nhà dự kiến",IF(B36<'1_PHIEU_TU_VAN'!$K$10,"Sau 25 tháng","Sau nhận nhà "&TEXT(COUNTIF($B$11:B36,">"&'1_PHIEU_TU_VAN'!$K$10),"00")&" tháng")))) -> Sau nhận nhà 16 tháng | D36: =IF(B36="","",IF(B36='1_PHIEU_TU_VAN'!$K$10,MAX(0,'8_THAM_SO'!$C$5-N($G35)),IF(B36<'1_PHIEU_TU_VAN'!$K$10,1%,IF(N($G35)>=95%,0,MIN(2.5%,95%-N($G35)))))) -> 0.025 | E36: =IF(D36="","",$G$5*D36) -> 235033425 | F36: =IF(G36="","",$G$5*G36) -> 6.5809359e+09 | G36: =IF(D36="","",N($G35)+D36) -> 0.7 | H36: =IF(B36="","",IF(B36='1_PHIEU_TU_VAN'!$K$9,"Đã bao gồm 100 triệu đặt cọc",IF(B36='1_PHIEU_TU_VAN'!$K$10,"Mốc nhận nhà dự kiến","")))
A37: =IF(B37="","","Đợt "&COUNT($B$11:B37)) -> Đợt 27 | B37: =IF(N($G36)>=95%,"",IF(COUNTIF($B$11:$B36,'1_PHIEU_TU_VAN'!$K$10)>0,EDATE('1_PHIEU_TU_VAN'!$K$10,COUNTIF($B$11:$B36,">"&'1_PHIEU_TU_VAN'!$K$10)+1),MIN(EDATE('1_PHIEU_TU_VAN'!$K$9,26),'1_PHIEU_TU_VAN'!$K$10))) -> 47087 | C37: =IF(B37="","",IF(B37='1_PHIEU_TU_VAN'!$K$9,"Ký HĐMB",IF(B37='1_PHIEU_TU_VAN'!$K$10,"Nhận nhà dự kiến",IF(B37<'1_PHIEU_TU_VAN'!$K$10,"Sau 26 tháng","Sau nhận nhà "&TEXT(COUNTIF($B$11:B37,">"&'1_PHIEU_TU_VAN'!$K$10),"00")&" tháng")))) -> Sau nhận nhà 17 tháng | D37: =IF(B37="","",IF(B37='1_PHIEU_TU_VAN'!$K$10,MAX(0,'8_THAM_SO'!$C$5-N($G36)),IF(B37<'1_PHIEU_TU_VAN'!$K$10,1%,IF(N($G36)>=95%,0,MIN(2.5%,95%-N($G36)))))) -> 0.025 | E37: =IF(D37="","",$G$5*D37) -> 235033425 | F37: =IF(G37="","",$G$5*G37) -> 6.8159693e+09 | G37: =IF(D37="","",N($G36)+D37) -> 0.725 | H37: =IF(B37="","",IF(B37='1_PHIEU_TU_VAN'!$K$9,"Đã bao gồm 100 triệu đặt cọc",IF(B37='1_PHIEU_TU_VAN'!$K$10,"Mốc nhận nhà dự kiến","")))
A38: =IF(B38="","","Đợt "&COUNT($B$11:B38)) -> Đợt 28 | B38: =IF(N($G37)>=95%,"",IF(COUNTIF($B$11:$B37,'1_PHIEU_TU_VAN'!$K$10)>0,EDATE('1_PHIEU_TU_VAN'!$K$10,COUNTIF($B$11:$B37,">"&'1_PHIEU_TU_VAN'!$K$10)+1),MIN(EDATE('1_PHIEU_TU_VAN'!$K$9,27),'1_PHIEU_TU_VAN'!$K$10))) -> 47117 | C38: =IF(B38="","",IF(B38='1_PHIEU_TU_VAN'!$K$9,"Ký HĐMB",IF(B38='1_PHIEU_TU_VAN'!$K$10,"Nhận nhà dự kiến",IF(B38<'1_PHIEU_TU_VAN'!$K$10,"Sau 27 tháng","Sau nhận nhà "&TEXT(COUNTIF($B$11:B38,">"&'1_PHIEU_TU_VAN'!$K$10),"00")&" tháng")))) -> Sau nhận nhà 18 tháng | D38: =IF(B38="","",IF(B38='1_PHIEU_TU_VAN'!$K$10,MAX(0,'8_THAM_SO'!$C$5-N($G37)),IF(B38<'1_PHIEU_TU_VAN'!$K$10,1%,IF(N($G37)>=95%,0,MIN(2.5%,95%-N($G37)))))) -> 0.025 | E38: =IF(D38="","",$G$5*D38) -> 235033425 | F38: =IF(G38="","",$G$5*G38) -> 7.0510028e+09 | G38: =IF(D38="","",N($G37)+D38) -> 0.75 | H38: =IF(B38="","",IF(B38='1_PHIEU_TU_VAN'!$K$9,"Đã bao gồm 100 triệu đặt cọc",IF(B38='1_PHIEU_TU_VAN'!$K$10,"Mốc nhận nhà dự kiến","")))
A39: =IF(B39="","","Đợt "&COUNT($B$11:B39)) -> Đợt 29 | B39: =IF(N($G38)>=95%,"",IF(COUNTIF($B$11:$B38,'1_PHIEU_TU_VAN'!$K$10)>0,EDATE('1_PHIEU_TU_VAN'!$K$10,COUNTIF($B$11:$B38,">"&'1_PHIEU_TU_VAN'!$K$10)+1),MIN(EDATE('1_PHIEU_TU_VAN'!$K$9,28),'1_PHIEU_TU_VAN'!$K$10))) -> 47148 | C39: =IF(B39="","",IF(B39='1_PHIEU_TU_VAN'!$K$9,"Ký HĐMB",IF(B39='1_PHIEU_TU_VAN'!$K$10,"Nhận nhà dự kiến",IF(B39<'1_PHIEU_TU_VAN'!$K$10,"Sau 28 tháng","Sau nhận nhà "&TEXT(COUNTIF($B$11:B39,">"&'1_PHIEU_TU_VAN'!$K$10),"00")&" tháng")))) -> Sau nhận nhà 19 tháng | D39: =IF(B39="","",IF(B39='1_PHIEU_TU_VAN'!$K$10,MAX(0,'8_THAM_SO'!$C$5-N($G38)),IF(B39<'1_PHIEU_TU_VAN'!$K$10,1%,IF(N($G38)>=95%,0,MIN(2.5%,95%-N($G38)))))) -> 0.025 | E39: =IF(D39="","",$G$5*D39) -> 235033425 | F39: =IF(G39="","",$G$5*G39) -> 7.2860362e+09 | G39: =IF(D39="","",N($G38)+D39) -> 0.775 | H39: =IF(B39="","",IF(B39='1_PHIEU_TU_VAN'!$K$9,"Đã bao gồm 100 triệu đặt cọc",IF(B39='1_PHIEU_TU_VAN'!$K$10,"Mốc nhận nhà dự kiến","")))
A40: =IF(B40="","","Đợt "&COUNT($B$11:B40)) -> Đợt 30 | B40: =IF(N($G39)>=95%,"",IF(COUNTIF($B$11:$B39,'1_PHIEU_TU_VAN'!$K$10)>0,EDATE('1_PHIEU_TU_VAN'!$K$10,COUNTIF($B$11:$B39,">"&'1_PHIEU_TU_VAN'!$K$10)+1),MIN(EDATE('1_PHIEU_TU_VAN'!$K$9,29),'1_PHIEU_TU_VAN'!$K$10))) -> 47177 | C40: =IF(B40="","",IF(B40='1_PHIEU_TU_VAN'!$K$9,"Ký HĐMB",IF(B40='1_PHIEU_TU_VAN'!$K$10,"Nhận nhà dự kiến",IF(B40<'1_PHIEU_TU_VAN'!$K$10,"Sau 29 tháng","Sau nhận nhà "&TEXT(COUNTIF($B$11:B40,">"&'1_PHIEU_TU_VAN'!$K$10),"00")&" tháng")))) -> Sau nhận nhà 20 tháng | D40: =IF(B40="","",IF(B40='1_PHIEU_TU_VAN'!$K$10,MAX(0,'8_THAM_SO'!$C$5-N($G39)),IF(B40<'1_PHIEU_TU_VAN'!$K$10,1%,IF(N($G39)>=95%,0,MIN(2.5%,95%-N($G39)))))) -> 0.025 | E40: =IF(D40="","",$G$5*D40) -> 235033425 | F40: =IF(G40="","",$G$5*G40) -> 7.5210696e+09 | G40: =IF(D40="","",N($G39)+D40) -> 0.8 | H40: =IF(B40="","",IF(B40='1_PHIEU_TU_VAN'!$K$9,"Đã bao gồm 100 triệu đặt cọc",IF(B40='1_PHIEU_TU_VAN'!$K$10,"Mốc nhận nhà dự kiến","")))
A41: =IF(B41="","","Đợt "&COUNT($B$11:B41)) -> Đợt 31 | B41: =IF(N($G40)>=95%,"",IF(COUNTIF($B$11:$B40,'1_PHIEU_TU_VAN'!$K$10)>0,EDATE('1_PHIEU_TU_VAN'!$K$10,COUNTIF($B$11:$B40,">"&'1_PHIEU_TU_VAN'!$K$10)+1),MIN(EDATE('1_PHIEU_TU_VAN'!$K$9,30),'1_PHIEU_TU_VAN'!$K$10))) -> 47207 | C41: =IF(B41="","",IF(B41='1_PHIEU_TU_VAN'!$K$9,"Ký HĐMB",IF(B41='1_PHIEU_TU_VAN'!$K$10,"Nhận nhà dự kiến",IF(B41<'1_PHIEU_TU_VAN'!$K$10,"Sau 30 tháng","Sau nhận nhà "&TEXT(COUNTIF($B$11:B41,">"&'1_PHIEU_TU_VAN'!$K$10),"00")&" tháng")))) -> Sau nhận nhà 21 tháng | D41: =IF(B41="","",IF(B41='1_PHIEU_TU_VAN'!$K$10,MAX(0,'8_THAM_SO'!$C$5-N($G40)),IF(B41<'1_PHIEU_TU_VAN'!$K$10,1%,IF(N($G40)>=95%,0,MIN(2.5%,95%-N($G40)))))) -> 0.025 | E41: =IF(D41="","",$G$5*D41) -> 235033425 | F41: =IF(G41="","",$G$5*G41) -> 7.756103e+09 | G41: =IF(D41="","",N($G40)+D41) -> 0.825 | H41: =IF(B41="","",IF(B41='1_PHIEU_TU_VAN'!$K$9,"Đã bao gồm 100 triệu đặt cọc",IF(B41='1_PHIEU_TU_VAN'!$K$10,"Mốc nhận nhà dự kiến","")))
A42: =IF(B42="","","Đợt "&COUNT($B$11:B42)) -> Đợt 32 | B42: =IF(N($G41)>=95%,"",IF(COUNTIF($B$11:$B41,'1_PHIEU_TU_VAN'!$K$10)>0,EDATE('1_PHIEU_TU_VAN'!$K$10,COUNTIF($B$11:$B41,">"&'1_PHIEU_TU_VAN'!$K$10)+1),MIN(EDATE('1_PHIEU_TU_VAN'!$K$9,31),'1_PHIEU_TU_VAN'!$K$10))) -> 47238 | C42: =IF(B42="","",IF(B42='1_PHIEU_TU_VAN'!$K$9,"Ký HĐMB",IF(B42='1_PHIEU_TU_VAN'!$K$10,"Nhận nhà dự kiến",IF(B42<'1_PHIEU_TU_VAN'!$K$10,"Sau 31 tháng","Sau nhận nhà "&TEXT(COUNTIF($B$11:B42,">"&'1_PHIEU_TU_VAN'!$K$10),"00")&" tháng")))) -> Sau nhận nhà 22 tháng | D42: =IF(B42="","",IF(B42='1_PHIEU_TU_VAN'!$K$10,MAX(0,'8_THAM_SO'!$C$5-N($G41)),IF(B42<'1_PHIEU_TU_VAN'!$K$10,1%,IF(N($G41)>=95%,0,MIN(2.5%,95%-N($G41)))))) -> 0.025 | E42: =IF(D42="","",$G$5*D42) -> 235033425 | F42: =IF(G42="","",$G$5*G42) -> 7.9911365e+09 | G42: =IF(D42="","",N($G41)+D42) -> 0.85 | H42: =IF(B42="","",IF(B42='1_PHIEU_TU_VAN'!$K$9,"Đã bao gồm 100 triệu đặt cọc",IF(B42='1_PHIEU_TU_VAN'!$K$10,"Mốc nhận nhà dự kiến","")))
A43: =IF(B43="","","Đợt "&COUNT($B$11:B43)) -> Đợt 33 | B43: =IF(N($G42)>=95%,"",IF(COUNTIF($B$11:$B42,'1_PHIEU_TU_VAN'!$K$10)>0,EDATE('1_PHIEU_TU_VAN'!$K$10,COUNTIF($B$11:$B42,">"&'1_PHIEU_TU_VAN'!$K$10)+1),MIN(EDATE('1_PHIEU_TU_VAN'!$K$9,32),'1_PHIEU_TU_VAN'!$K$10))) -> 47268 | C43: =IF(B43="","",IF(B43='1_PHIEU_TU_VAN'!$K$9,"Ký HĐMB",IF(B43='1_PHIEU_TU_VAN'!$K$10,"Nhận nhà dự kiến",IF(B43<'1_PHIEU_TU_VAN'!$K$10,"Sau 32 tháng","Sau nhận nhà "&TEXT(COUNTIF($B$11:B43,">"&'1_PHIEU_TU_VAN'!$K$10),"00")&" tháng")))) -> Sau nhận nhà 23 tháng | D43: =IF(B43="","",IF(B43='1_PHIEU_TU_VAN'!$K$10,MAX(0,'8_THAM_SO'!$C$5-N($G42)),IF(B43<'1_PHIEU_TU_VAN'!$K$10,1%,IF(N($G42)>=95%,0,MIN(2.5%,95%-N($G42)))))) -> 0.025 | E43: =IF(D43="","",$G$5*D43) -> 235033425 | F43: =IF(G43="","",$G$5*G43) -> 8.2261699e+09 | G43: =IF(D43="","",N($G42)+D43) -> 0.875 | H43: =IF(B43="","",IF(B43='1_PHIEU_TU_VAN'!$K$9,"Đã bao gồm 100 triệu đặt cọc",IF(B43='1_PHIEU_TU_VAN'!$K$10,"Mốc nhận nhà dự kiến","")))
A44: =IF(B44="","","Đợt "&COUNT($B$11:B44)) -> Đợt 34 | B44: =IF(N($G43)>=95%,"",IF(COUNTIF($B$11:$B43,'1_PHIEU_TU_VAN'!$K$10)>0,EDATE('1_PHIEU_TU_VAN'!$K$10,COUNTIF($B$11:$B43,">"&'1_PHIEU_TU_VAN'!$K$10)+1),MIN(EDATE('1_PHIEU_TU_VAN'!$K$9,33),'1_PHIEU_TU_VAN'!$K$10))) -> 47299 | C44: =IF(B44="","",IF(B44='1_PHIEU_TU_VAN'!$K$9,"Ký HĐMB",IF(B44='1_PHIEU_TU_VAN'!$K$10,"Nhận nhà dự kiến",IF(B44<'1_PHIEU_TU_VAN'!$K$10,"Sau 33 tháng","Sau nhận nhà "&TEXT(COUNTIF($B$11:B44,">"&'1_PHIEU_TU_VAN'!$K$10),"00")&" tháng")))) -> Sau nhận nhà 24 tháng | D44: =IF(B44="","",IF(B44='1_PHIEU_TU_VAN'!$K$10,MAX(0,'8_THAM_SO'!$C$5-N($G43)),IF(B44<'1_PHIEU_TU_VAN'!$K$10,1%,IF(N($G43)>=95%,0,MIN(2.5%,95%-N($G43)))))) -> 0.025 | E44: =IF(D44="","",$G$5*D44) -> 235033425 | F44: =IF(G44="","",$G$5*G44) -> 8.4612033e+09 | G44: =IF(D44="","",N($G43)+D44) -> 0.9 | H44: =IF(B44="","",IF(B44='1_PHIEU_TU_VAN'!$K$9,"Đã bao gồm 100 triệu đặt cọc",IF(B44='1_PHIEU_TU_VAN'!$K$10,"Mốc nhận nhà dự kiến","")))
A45: =IF(B45="","","Đợt "&COUNT($B$11:B45)) -> Đợt 35 | B45: =IF(N($G44)>=95%,"",IF(COUNTIF($B$11:$B44,'1_PHIEU_TU_VAN'!$K$10)>0,EDATE('1_PHIEU_TU_VAN'!$K$10,COUNTIF($B$11:$B44,">"&'1_PHIEU_TU_VAN'!$K$10)+1),MIN(EDATE('1_PHIEU_TU_VAN'!$K$9,34),'1_PHIEU_TU_VAN'!$K$10))) -> 47329 | C45: =IF(B45="","",IF(B45='1_PHIEU_TU_VAN'!$K$9,"Ký HĐMB",IF(B45='1_PHIEU_TU_VAN'!$K$10,"Nhận nhà dự kiến",IF(B45<'1_PHIEU_TU_VAN'!$K$10,"Sau 34 tháng","Sau nhận nhà "&TEXT(COUNTIF($B$11:B45,">"&'1_PHIEU_TU_VAN'!$K$10),"00")&" tháng")))) -> Sau nhận nhà 25 tháng | D45: =IF(B45="","",IF(B45='1_PHIEU_TU_VAN'!$K$10,MAX(0,'8_THAM_SO'!$C$5-N($G44)),IF(B45<'1_PHIEU_TU_VAN'!$K$10,1%,IF(N($G44)>=95%,0,MIN(2.5%,95%-N($G44)))))) -> 0.025 | E45: =IF(D45="","",$G$5*D45) -> 235033425 | F45: =IF(G45="","",$G$5*G45) -> 8.6962367e+09 | G45: =IF(D45="","",N($G44)+D45) -> 0.925 | H45: =IF(B45="","",IF(B45='1_PHIEU_TU_VAN'!$K$9,"Đã bao gồm 100 triệu đặt cọc",IF(B45='1_PHIEU_TU_VAN'!$K$10,"Mốc nhận nhà dự kiến","")))
A46: =IF(B46="","","Đợt "&COUNT($B$11:B46)) -> Đợt 36 | B46: =IF(N($G45)>=95%,"",IF(COUNTIF($B$11:$B45,'1_PHIEU_TU_VAN'!$K$10)>0,EDATE('1_PHIEU_TU_VAN'!$K$10,COUNTIF($B$11:$B45,">"&'1_PHIEU_TU_VAN'!$K$10)+1),MIN(EDATE('1_PHIEU_TU_VAN'!$K$9,35),'1_PHIEU_TU_VAN'!$K$10))) -> 47360 | C46: =IF(B46="","",IF(B46='1_PHIEU_TU_VAN'!$K$9,"Ký HĐMB",IF(B46='1_PHIEU_TU_VAN'!$K$10,"Nhận nhà dự kiến",IF(B46<'1_PHIEU_TU_VAN'!$K$10,"Sau 35 tháng","Sau nhận nhà "&TEXT(COUNTIF($B$11:B46,">"&'1_PHIEU_TU_VAN'!$K$10),"00")&" tháng")))) -> Sau nhận nhà 26 tháng | D46: =IF(B46="","",IF(B46='1_PHIEU_TU_VAN'!$K$10,MAX(0,'8_THAM_SO'!$C$5-N($G45)),IF(B46<'1_PHIEU_TU_VAN'!$K$10,1%,IF(N($G45)>=95%,0,MIN(2.5%,95%-N($G45)))))) -> 0.025 | E46: =IF(D46="","",$G$5*D46) -> 2.3503342e+08 | F46: =IF(G46="","",$G$5*G46) -> 8931270150 | G46: =IF(D46="","",N($G45)+D46) -> 0.95 | H46: =IF(B46="","",IF(B46='1_PHIEU_TU_VAN'!$K$9,"Đã bao gồm 100 triệu đặt cọc",IF(B46='1_PHIEU_TU_VAN'!$K$10,"Mốc nhận nhà dự kiến","")))
A47: ="Đợt "&(COUNT($B$11:$B$46)+1) -> Đợt 37 | C47: Thông báo cấp GCN | D47: 0.05 | E47: =IF(D47="","",$G$5*D47) -> 470066850 | F47: =IF(G47="","",$G$5*G47) -> 9401337000 | G47: =IF(D47="","",N($G46)+D47) -> 1
A48: TỔNG | D48: =SUM($D$11:$D$47) -> 1 | E48: =SUM($E$11:$E$47) -> 9.401337e+09 | H48: Chưa gồm phí bảo trì 2%

Sheet 7_48_THANG
A1: LEGACY 66 | PTTT 48 THÁNG
A3: Loại căn | B3: ='1_PHIEU_TU_VAN'!B7 -> 2PN | C3: CK Early Bird | D3: =IF('1_PHIEU_TU_VAN'!K7="Có",'8_THAM_SO'!$B$16,0) -> 0.03 | F3: Giá rumor chưa VAT | G3: ='1_PHIEU_TU_VAN'!F7*1000000000 -> 8900000000
A4: DT Tim tường | B4: ='1_PHIEU_TU_VAN'!B9 -> 74.71 | C4: CK PTTT | D4: =INDEX('8_THAM_SO'!$B$4:$B$9,MATCH("48 tháng",'8_THAM_SO'!$A$4:$A$9,0)) -> 0 | F4: Giá sau CK chưa VAT | G4: =G3*(1-D3)*(1-D4)*(1-D5) -> 8633000000
A5: DT Thông thủy | B5: ='1_PHIEU_TU_VAN'!B8 -> 65.76 | C5: CK sỉ | D5: =IF('1_PHIEU_TU_VAN'!B11>=5,'8_THAM_SO'!$B$19,IF('1_PHIEU_TU_VAN'!B11>=3,'8_THAM_SO'!$B$18,IF('1_PHIEU_TU_VAN'!B11=2,'8_THAM_SO'!$B$17,0))) -> 0 | F5: Giá sau CK + VAT | G5: =G4*(1+'8_THAM_SO'!$B$14) -> 9496300000
C6: Tổng CK dự kiến | D6: =1-(1-D3)*(1-D4)*(1-D5) -> 0.03
A8: Đợt | B8: Ngày dự kiến | C8: Nội dung | D8: Tỷ lệ | E8: Thành tiền | F8: THÀNH TIỀN LŨY KẾ | G8: Lũy kế % | H8: Ghi chú
B9: ='1_PHIEU_TU_VAN'!$K$9-7 -> 46288 | C9: Ký Phiếu đặt cọc | E9: ='8_THAM_SO'!$B$13 -> 100000000 | F9: =E9 -> 100000000
A10: =IF(B10="","","Đợt "&COUNT($B$10:B10)) -> Đợt 1 | B10: ='1_PHIEU_TU_VAN'!$K$9 -> 46295 | C10: =IF(B10="","",IF(B10='1_PHIEU_TU_VAN'!$K$9,"Ký HĐMB",IF(B10='1_PHIEU_TU_VAN'!$K$10,"Nhận nhà dự kiến",IF(B10<'1_PHIEU_TU_VAN'!$K$10,"Sau 00 tháng","Sau nhận nhà "&TEXT(COUNTIF($B$10:B10,">"&'1_PHIEU_TU_VAN'!$K$10),"00")&" tháng")))) -> Ký HĐMB | D10: =IF(B10="","",IF(B10='1_PHIEU_TU_VAN'!$K$10,MAX(0,'8_THAM_SO'!$C$4-0),IF(B10<'1_PHIEU_TU_VAN'!$K$10,15%,IF(0>=95%,0,MIN(IF(COUNTIF($B$10:B10,">"&'1_PHIEU_TU_VAN'!$K$10)<=12,1.5%,2%),95%-0))))) -> 0.15 | E10: =IF(D10="","",$G$5*D10) -> 1424445000 | F10: =IF(G10="","",$G$5*G10) -> 1424445000 | G10: =IF(D10="","",0+D10) -> 0.15 | H10: =IF(B10="","",IF(B10='1_PHIEU_TU_VAN'!$K$9,"Đã bao gồm 100 triệu đặt cọc",IF(B10='1_PHIEU_TU_VAN'!$K$10,"Mốc nhận nhà dự kiến",""))) -> Đã bao gồm 100 triệu đặt cọc
A11: =IF(B11="","","Đợt "&COUNT($B$10:B11)) -> Đợt 2 | B11: =IF(N($G10)>=95%,"",IF(COUNTIF($B$10:$B10,'1_PHIEU_TU_VAN'!$K$10)>0,EDATE('1_PHIEU_TU_VAN'!$K$10,COUNTIF($B$10:$B10,">"&'1_PHIEU_TU_VAN'!$K$10)+1),MIN(EDATE('1_PHIEU_TU_VAN'!$K$9,1),'1_PHIEU_TU_VAN'!$K$10))) -> 46325 | C11: =IF(B11="","",IF(B11='1_PHIEU_TU_VAN'!$K$9,"Ký HĐMB",IF(B11='1_PHIEU_TU_VAN'!$K$10,"Nhận nhà dự kiến",IF(B11<'1_PHIEU_TU_VAN'!$K$10,"Sau 01 tháng","Sau nhận nhà "&TEXT(COUNTIF($B$10:B11,">"&'1_PHIEU_TU_VAN'!$K$10),"00")&" tháng")))) -> Sau 01 tháng | D11: =IF(B11="","",IF(B11='1_PHIEU_TU_VAN'!$K$10,MAX(0,'8_THAM_SO'!$C$4-N($G10)),IF(B11<'1_PHIEU_TU_VAN'!$K$10,2.5%,IF(N($G10)>=95%,0,MIN(IF(COUNTIF($B$10:B11,">"&'1_PHIEU_TU_VAN'!$K$10)<=12,1.5%,2%),95%-N($G10)))))) -> 0.025 | E11: =IF(D11="","",$G$5*D11) -> 237407500 | F11: =IF(G11="","",$G$5*G11) -> 1661852500 | G11: =IF(D11="","",N($G10)+D11) -> 0.175 | H11: =IF(B11="","",IF(B11='1_PHIEU_TU_VAN'!$K$9,"Đã bao gồm 100 triệu đặt cọc",IF(B11='1_PHIEU_TU_VAN'!$K$10,"Mốc nhận nhà dự kiến","")))
A12: =IF(B12="","","Đợt "&COUNT($B$10:B12)) -> Đợt 3 | B12: =IF(N($G11)>=95%,"",IF(COUNTIF($B$10:$B11,'1_PHIEU_TU_VAN'!$K$10)>0,EDATE('1_PHIEU_TU_VAN'!$K$10,COUNTIF($B$10:$B11,">"&'1_PHIEU_TU_VAN'!$K$10)+1),MIN(EDATE('1_PHIEU_TU_VAN'!$K$9,2),'1_PHIEU_TU_VAN'!$K$10))) -> 46356 | C12: =IF(B12="","",IF(B12='1_PHIEU_TU_VAN'!$K$9,"Ký HĐMB",IF(B12='1_PHIEU_TU_VAN'!$K$10,"Nhận nhà dự kiến",IF(B12<'1_PHIEU_TU_VAN'!$K$10,"Sau 02 tháng","Sau nhận nhà "&TEXT(COUNTIF($B$10:B12,">"&'1_PHIEU_TU_VAN'!$K$10),"00")&" tháng")))) -> Sau 02 tháng | D12: =IF(B12="","",IF(B12='1_PHIEU_TU_VAN'!$K$10,MAX(0,'8_THAM_SO'!$C$4-N($G11)),IF(B12<'1_PHIEU_TU_VAN'!$K$10,2.5%,IF(N($G11)>=95%,0,MIN(IF(COUNTIF($B$10:B12,">"&'1_PHIEU_TU_VAN'!$K$10)<=12,1.5%,2%),95%-N($G11)))))) -> 0.025 | E12: =IF(D12="","",$G$5*D12) -> 237407500 | F12: =IF(G12="","",$G$5*G12) -> 1.89926e+09 | G12: =IF(D12="","",N($G11)+D12) -> 0.2 | H12: =IF(B12="","",IF(B12='1_PHIEU_TU_VAN'!$K$9,"Đã bao gồm 100 triệu đặt cọc",IF(B12='1_PHIEU_TU_VAN'!$K$10,"Mốc nhận nhà dự kiến","")))
A13: =IF(B13="","","Đợt "&COUNT($B$10:B13)) -> Đợt 4 | B13: =IF(N($G12)>=95%,"",IF(COUNTIF($B$10:$B12,'1_PHIEU_TU_VAN'!$K$10)>0,EDATE('1_PHIEU_TU_VAN'!$K$10,COUNTIF($B$10:$B12,">"&'1_PHIEU_TU_VAN'!$K$10)+1),MIN(EDATE('1_PHIEU_TU_VAN'!$K$9,3),'1_PHIEU_TU_VAN'!$K$10))) -> 46386 | C13: =IF(B13="","",IF(B13='1_PHIEU_TU_VAN'!$K$9,"Ký HĐMB",IF(B13='1_PHIEU_TU_VAN'!$K$10,"Nhận nhà dự kiến",IF(B13<'1_PHIEU_TU_VAN'!$K$10,"Sau 03 tháng","Sau nhận nhà "&TEXT(COUNTIF($B$10:B13,">"&'1_PHIEU_TU_VAN'!$K$10),"00")&" tháng")))) -> Sau 03 tháng | D13: =IF(B13="","",IF(B13='1_PHIEU_TU_VAN'!$K$10,MAX(0,'8_THAM_SO'!$C$4-N($G12)),IF(B13<'1_PHIEU_TU_VAN'!$K$10,0.5%,IF(N($G12)>=95%,0,MIN(IF(COUNTIF($B$10:B13,">"&'1_PHIEU_TU_VAN'!$K$10)<=12,1.5%,2%),95%-N($G12)))))) -> 0.005 | E13: =IF(D13="","",$G$5*D13) -> 47481500 | F13: =IF(G13="","",$G$5*G13) -> 1946741500 | G13: =IF(D13="","",N($G12)+D13) -> 0.205 | H13: =IF(B13="","",IF(B13='1_PHIEU_TU_VAN'!$K$9,"Đã bao gồm 100 triệu đặt cọc",IF(B13='1_PHIEU_TU_VAN'!$K$10,"Mốc nhận nhà dự kiến","")))
A14: =IF(B14="","","Đợt "&COUNT($B$10:B14)) -> Đợt 5 | B14: =IF(N($G13)>=95%,"",IF(COUNTIF($B$10:$B13,'1_PHIEU_TU_VAN'!$K$10)>0,EDATE('1_PHIEU_TU_VAN'!$K$10,COUNTIF($B$10:$B13,">"&'1_PHIEU_TU_VAN'!$K$10)+1),MIN(EDATE('1_PHIEU_TU_VAN'!$K$9,4),'1_PHIEU_TU_VAN'!$K$10))) -> 46417 | C14: =IF(B14="","",IF(B14='1_PHIEU_TU_VAN'!$K$9,"Ký HĐMB",IF(B14='1_PHIEU_TU_VAN'!$K$10,"Nhận nhà dự kiến",IF(B14<'1_PHIEU_TU_VAN'!$K$10,"Sau 04 tháng","Sau nhận nhà "&TEXT(COUNTIF($B$10:B14,">"&'1_PHIEU_TU_VAN'!$K$10),"00")&" tháng")))) -> Sau 04 tháng | D14: =IF(B14="","",IF(B14='1_PHIEU_TU_VAN'!$K$10,MAX(0,'8_THAM_SO'!$C$4-N($G13)),IF(B14<'1_PHIEU_TU_VAN'!$K$10,0.5%,IF(N($G13)>=95%,0,MIN(IF(COUNTIF($B$10:B14,">"&'1_PHIEU_TU_VAN'!$K$10)<=12,1.5%,2%),95%-N($G13)))))) -> 0.005 | E14: =IF(D14="","",$G$5*D14) -> 47481500 | F14: =IF(G14="","",$G$5*G14) -> 1994223000 | G14: =IF(D14="","",N($G13)+D14) -> 0.21 | H14: =IF(B14="","",IF(B14='1_PHIEU_TU_VAN'!$K$9,"Đã bao gồm 100 triệu đặt cọc",IF(B14='1_PHIEU_TU_VAN'!$K$10,"Mốc nhận nhà dự kiến","")))
A15: =IF(B15="","","Đợt "&COUNT($B$10:B15)) -> Đợt 6 | B15: =IF(N($G14)>=95%,"",IF(COUNTIF($B$10:$B14,'1_PHIEU_TU_VAN'!$K$10)>0,EDATE('1_PHIEU_TU_VAN'!$K$10,COUNTIF($B$10:$B14,">"&'1_PHIEU_TU_VAN'!$K$10)+1),MIN(EDATE('1_PHIEU_TU_VAN'!$K$9,5),'1_PHIEU_TU_VAN'!$K$10))) -> 46446 | C15: =IF(B15="","",IF(B15='1_PHIEU_TU_VAN'!$K$9,"Ký HĐMB",IF(B15='1_PHIEU_TU_VAN'!$K$10,"Nhận nhà dự kiến",IF(B15<'1_PHIEU_TU_VAN'!$K$10,"Sau 05 tháng","Sau nhận nhà "&TEXT(COUNTIF($B$10:B15,">"&'1_PHIEU_TU_VAN'!$K$10),"00")&" tháng")))) -> Sau 05 tháng | D15: =IF(B15="","",IF(B15='1_PHIEU_TU_VAN'!$K$10,MAX(0,'8_THAM_SO'!$C$4-N($G14)),IF(B15<'1_PHIEU_TU_VAN'!$K$10,0.5%,IF(N($G14)>=95%,0,MIN(IF(COUNTIF($B$10:B15,">"&'1_PHIEU_TU_VAN'!$K$10)<=12,1.5%,2%),95%-N($G14)))))) -> 0.005 | E15: =IF(D15="","",$G$5*D15) -> 47481500 | F15: =IF(G15="","",$G$5*G15) -> 2041704500 | G15: =IF(D15="","",N($G14)+D15) -> 0.215 | H15: =IF(B15="","",IF(B15='1_PHIEU_TU_VAN'!$K$9,"Đã bao gồm 100 triệu đặt cọc",IF(B15='1_PHIEU_TU_VAN'!$K$10,"Mốc nhận nhà dự kiến","")))
A16: =IF(B16="","","Đợt "&COUNT($B$10:B16)) -> Đợt 7 | B16: =IF(N($G15)>=95%,"",IF(COUNTIF($B$10:$B15,'1_PHIEU_TU_VAN'!$K$10)>0,EDATE('1_PHIEU_TU_VAN'!$K$10,COUNTIF($B$10:$B15,">"&'1_PHIEU_TU_VAN'!$K$10)+1),MIN(EDATE('1_PHIEU_TU_VAN'!$K$9,6),'1_PHIEU_TU_VAN'!$K$10))) -> 46476 | C16: =IF(B16="","",IF(B16='1_PHIEU_TU_VAN'!$K$9,"Ký HĐMB",IF(B16='1_PHIEU_TU_VAN'!$K$10,"Nhận nhà dự kiến",IF(B16<'1_PHIEU_TU_VAN'!$K$10,"Sau 06 tháng","Sau nhận nhà "&TEXT(COUNTIF($B$10:B16,">"&'1_PHIEU_TU_VAN'!$K$10),"00")&" tháng")))) -> Sau 06 tháng | D16: =IF(B16="","",IF(B16='1_PHIEU_TU_VAN'!$K$10,MAX(0,'8_THAM_SO'!$C$4-N($G15)),IF(B16<'1_PHIEU_TU_VAN'!$K$10,0.5%,IF(N($G15)>=95%,0,MIN(IF(COUNTIF($B$10:B16,">"&'1_PHIEU_TU_VAN'!$K$10)<=12,1.5%,2%),95%-N($G15)))))) -> 0.005 | E16: =IF(D16="","",$G$5*D16) -> 47481500 | F16: =IF(G16="","",$G$5*G16) -> 2089186000 | G16: =IF(D16="","",N($G15)+D16) -> 0.22 | H16: =IF(B16="","",IF(B16='1_PHIEU_TU_VAN'!$K$9,"Đã bao gồm 100 triệu đặt cọc",IF(B16='1_PHIEU_TU_VAN'!$K$10,"Mốc nhận nhà dự kiến","")))
A17: =IF(B17="","","Đợt "&COUNT($B$10:B17)) -> Đợt 8 | B17: =IF(N($G16)>=95%,"",IF(COUNTIF($B$10:$B16,'1_PHIEU_TU_VAN'!$K$10)>0,EDATE('1_PHIEU_TU_VAN'!$K$10,COUNTIF($B$10:$B16,">"&'1_PHIEU_TU_VAN'!$K$10)+1),MIN(EDATE('1_PHIEU_TU_VAN'!$K$9,7),'1_PHIEU_TU_VAN'!$K$10))) -> 46507 | C17: =IF(B17="","",IF(B17='1_PHIEU_TU_VAN'!$K$9,"Ký HĐMB",IF(B17='1_PHIEU_TU_VAN'!$K$10,"Nhận nhà dự kiến",IF(B17<'1_PHIEU_TU_VAN'!$K$10,"Sau 07 tháng","Sau nhận nhà "&TEXT(COUNTIF($B$10:B17,">"&'1_PHIEU_TU_VAN'!$K$10),"00")&" tháng")))) -> Sau 07 tháng | D17: =IF(B17="","",IF(B17='1_PHIEU_TU_VAN'!$K$10,MAX(0,'8_THAM_SO'!$C$4-N($G16)),IF(B17<'1_PHIEU_TU_VAN'!$K$10,0.5%,IF(N($G16)>=95%,0,MIN(IF(COUNTIF($B$10:B17,">"&'1_PHIEU_TU_VAN'!$K$10)<=12,1.5%,2%),95%-N($G16)))))) -> 0.005 | E17: =IF(D17="","",$G$5*D17) -> 47481500 | F17: =IF(G17="","",$G$5*G17) -> 2136667500 | G17: =IF(D17="","",N($G16)+D17) -> 0.225 | H17: =IF(B17="","",IF(B17='1_PHIEU_TU_VAN'!$K$9,"Đã bao gồm 100 triệu đặt cọc",IF(B17='1_PHIEU_TU_VAN'!$K$10,"Mốc nhận nhà dự kiến","")))
A18: =IF(B18="","","Đợt "&COUNT($B$10:B18)) -> Đợt 9 | B18: =IF(N($G17)>=95%,"",IF(COUNTIF($B$10:$B17,'1_PHIEU_TU_VAN'!$K$10)>0,EDATE('1_PHIEU_TU_VAN'!$K$10,COUNTIF($B$10:$B17,">"&'1_PHIEU_TU_VAN'!$K$10)+1),MIN(EDATE('1_PHIEU_TU_VAN'!$K$9,8),'1_PHIEU_TU_VAN'!$K$10))) -> 46537 | C18: =IF(B18="","",IF(B18='1_PHIEU_TU_VAN'!$K$9,"Ký HĐMB",IF(B18='1_PHIEU_TU_VAN'!$K$10,"Nhận nhà dự kiến",IF(B18<'1_PHIEU_TU_VAN'!$K$10,"Sau 08 tháng","Sau nhận nhà "&TEXT(COUNTIF($B$10:B18,">"&'1_PHIEU_TU_VAN'!$K$10),"00")&" tháng")))) -> Sau 08 tháng | D18: =IF(B18="","",IF(B18='1_PHIEU_TU_VAN'!$K$10,MAX(0,'8_THAM_SO'!$C$4-N($G17)),IF(B18<'1_PHIEU_TU_VAN'!$K$10,0.5%,IF(N($G17)>=95%,0,MIN(IF(COUNTIF($B$10:B18,">"&'1_PHIEU_TU_VAN'!$K$10)<=12,1.5%,2%),95%-N($G17)))))) -> 0.005 | E18: =IF(D18="","",$G$5*D18) -> 47481500 | F18: =IF(G18="","",$G$5*G18) -> 2184149000 | G18: =IF(D18="","",N($G17)+D18) -> 0.23 | H18: =IF(B18="","",IF(B18='1_PHIEU_TU_VAN'!$K$9,"Đã bao gồm 100 triệu đặt cọc",IF(B18='1_PHIEU_TU_VAN'!$K$10,"Mốc nhận nhà dự kiến","")))
A19: =IF(B19="","","Đợt "&COUNT($B$10:B19)) -> Đợt 10 | B19: =IF(N($G18)>=95%,"",IF(COUNTIF($B$10:$B18,'1_PHIEU_TU_VAN'!$K$10)>0,EDATE('1_PHIEU_TU_VAN'!$K$10,COUNTIF($B$10:$B18,">"&'1_PHIEU_TU_VAN'!$K$10)+1),MIN(EDATE('1_PHIEU_TU_VAN'!$K$9,9),'1_PHIEU_TU_VAN'!$K$10))) -> 46568 | C19: =IF(B19="","",IF(B19='1_PHIEU_TU_VAN'!$K$9,"Ký HĐMB",IF(B19='1_PHIEU_TU_VAN'!$K$10,"Nhận nhà dự kiến",IF(B19<'1_PHIEU_TU_VAN'!$K$10,"Sau 09 tháng","Sau nhận nhà "&TEXT(COUNTIF($B$10:B19,">"&'1_PHIEU_TU_VAN'!$K$10),"00")&" tháng")))) -> Nhận nhà dự kiến | D19: =IF(B19="","",IF(B19='1_PHIEU_TU_VAN'!$K$10,MAX(0,'8_THAM_SO'!$C$4-N($G18)),IF(B19<'1_PHIEU_TU_VAN'!$K$10,0.5%,IF(N($G18)>=95%,0,MIN(IF(COUNTIF($B$10:B19,">"&'1_PHIEU_TU_VAN'!$K$10)<=12,1.5%,2%),95%-N($G18)))))) -> 0.02 | E19: =IF(D19="","",$G$5*D19) -> 1.89926e+08 | F19: =IF(G19="","",$G$5*G19) -> 2374075000 | G19: =IF(D19="","",N($G18)+D19) -> 0.25 | H19: =IF(B19="","",IF(B19='1_PHIEU_TU_VAN'!$K$9,"Đã bao gồm 100 triệu đặt cọc",IF(B19='1_PHIEU_TU_VAN'!$K$10,"Mốc nhận nhà dự kiến",""))) -> Mốc nhận nhà dự kiến
A20: =IF(B20="","","Đợt "&COUNT($B$10:B20)) -> Đợt 11 | B20: =IF(N($G19)>=95%,"",IF(COUNTIF($B$10:$B19,'1_PHIEU_TU_VAN'!$K$10)>0,EDATE('1_PHIEU_TU_VAN'!$K$10,COUNTIF($B$10:$B19,">"&'1_PHIEU_TU_VAN'!$K$10)+1),MIN(EDATE('1_PHIEU_TU_VAN'!$K$9,10),'1_PHIEU_TU_VAN'!$K$10))) -> 46598 | C20: =IF(B20="","",IF(B20='1_PHIEU_TU_VAN'!$K$9,"Ký HĐMB",IF(B20='1_PHIEU_TU_VAN'!$K$10,"Nhận nhà dự kiến",IF(B20<'1_PHIEU_TU_VAN'!$K$10,"Sau 10 tháng","Sau nhận nhà "&TEXT(COUNTIF($B$10:B20,">"&'1_PHIEU_TU_VAN'!$K$10),"00")&" tháng")))) -> Sau nhận nhà 01 tháng | D20: =IF(B20="","",IF(B20='1_PHIEU_TU_VAN'!$K$10,MAX(0,'8_THAM_SO'!$C$4-N($G19)),IF(B20<'1_PHIEU_TU_VAN'!$K$10,0.5%,IF(N($G19)>=95%,0,MIN(IF(COUNTIF($B$10:B20,">"&'1_PHIEU_TU_VAN'!$K$10)<=12,1.5%,2%),95%-N($G19)))))) -> 0.015 | E20: =IF(D20="","",$G$5*D20) -> 142444500 | F20: =IF(G20="","",$G$5*G20) -> 2516519500 | G20: =IF(D20="","",N($G19)+D20) -> 0.265 | H20: =IF(B20="","",IF(B20='1_PHIEU_TU_VAN'!$K$9,"Đã bao gồm 100 triệu đặt cọc",IF(B20='1_PHIEU_TU_VAN'!$K$10,"Mốc nhận nhà dự kiến","")))
A21: =IF(B21="","","Đợt "&COUNT($B$10:B21)) -> Đợt 12 | B21: =IF(N($G20)>=95%,"",IF(COUNTIF($B$10:$B20,'1_PHIEU_TU_VAN'!$K$10)>0,EDATE('1_PHIEU_TU_VAN'!$K$10,COUNTIF($B$10:$B20,">"&'1_PHIEU_TU_VAN'!$K$10)+1),MIN(EDATE('1_PHIEU_TU_VAN'!$K$9,11),'1_PHIEU_TU_VAN'!$K$10))) -> 46629 | C21: =IF(B21="","",IF(B21='1_PHIEU_TU_VAN'!$K$9,"Ký HĐMB",IF(B21='1_PHIEU_TU_VAN'!$K$10,"Nhận nhà dự kiến",IF(B21<'1_PHIEU_TU_VAN'!$K$10,"Sau 11 tháng","Sau nhận nhà "&TEXT(COUNTIF($B$10:B21,">"&'1_PHIEU_TU_VAN'!$K$10),"00")&" tháng")))) -> Sau nhận nhà 02 tháng | D21: =IF(B21="","",IF(B21='1_PHIEU_TU_VAN'!$K$10,MAX(0,'8_THAM_SO'!$C$4-N($G20)),IF(B21<'1_PHIEU_TU_VAN'!$K$10,0.5%,IF(N($G20)>=95%,0,MIN(IF(COUNTIF($B$10:B21,">"&'1_PHIEU_TU_VAN'!$K$10)<=12,1.5%,2%),95%-N($G20)))))) -> 0.015 | E21: =IF(D21="","",$G$5*D21) -> 142444500 | F21: =IF(G21="","",$G$5*G21) -> 2.658964e+09 | G21: =IF(D21="","",N($G20)+D21) -> 0.28 | H21: =IF(B21="","",IF(B21='1_PHIEU_TU_VAN'!$K$9,"Đã bao gồm 100 triệu đặt cọc",IF(B21='1_PHIEU_TU_VAN'!$K$10,"Mốc nhận nhà dự kiến","")))
A22: =IF(B22="","","Đợt "&COUNT($B$10:B22)) -> Đợt 13 | B22: =IF(N($G21)>=95%,"",IF(COUNTIF($B$10:$B21,'1_PHIEU_TU_VAN'!$K$10)>0,EDATE('1_PHIEU_TU_VAN'!$K$10,COUNTIF($B$10:$B21,">"&'1_PHIEU_TU_VAN'!$K$10)+1),MIN(EDATE('1_PHIEU_TU_VAN'!$K$9,12),'1_PHIEU_TU_VAN'!$K$10))) -> 46660 | C22: =IF(B22="","",IF(B22='1_PHIEU_TU_VAN'!$K$9,"Ký HĐMB",IF(B22='1_PHIEU_TU_VAN'!$K$10,"Nhận nhà dự kiến",IF(B22<'1_PHIEU_TU_VAN'!$K$10,"Sau 12 tháng","Sau nhận nhà "&TEXT(COUNTIF($B$10:B22,">"&'1_PHIEU_TU_VAN'!$K$10),"00")&" tháng")))) -> Sau nhận nhà 03 tháng | D22: =IF(B22="","",IF(B22='1_PHIEU_TU_VAN'!$K$10,MAX(0,'8_THAM_SO'!$C$4-N($G21)),IF(B22<'1_PHIEU_TU_VAN'!$K$10,0.5%,IF(N($G21)>=95%,0,MIN(IF(COUNTIF($B$10:B22,">"&'1_PHIEU_TU_VAN'!$K$10)<=12,1.5%,2%),95%-N($G21)))))) -> 0.015 | E22: =IF(D22="","",$G$5*D22) -> 142444500 | F22: =IF(G22="","",$G$5*G22) -> 2.8014085e+09 | G22: =IF(D22="","",N($G21)+D22) -> 0.295 | H22: =IF(B22="","",IF(B22='1_PHIEU_TU_VAN'!$K$9,"Đã bao gồm 100 triệu đặt cọc",IF(B22='1_PHIEU_TU_VAN'!$K$10,"Mốc nhận nhà dự kiến","")))
A23: =IF(B23="","","Đợt "&COUNT($B$10:B23)) -> Đợt 14 | B23: =IF(N($G22)>=95%,"",IF(COUNTIF($B$10:$B22,'1_PHIEU_TU_VAN'!$K$10)>0,EDATE('1_PHIEU_TU_VAN'!$K$10,COUNTIF($B$10:$B22,">"&'1_PHIEU_TU_VAN'!$K$10)+1),MIN(EDATE('1_PHIEU_TU_VAN'!$K$9,13),'1_PHIEU_TU_VAN'!$K$10))) -> 46690 | C23: =IF(B23="","",IF(B23='1_PHIEU_TU_VAN'!$K$9,"Ký HĐMB",IF(B23='1_PHIEU_TU_VAN'!$K$10,"Nhận nhà dự kiến",IF(B23<'1_PHIEU_TU_VAN'!$K$10,"Sau 13 tháng","Sau nhận nhà "&TEXT(COUNTIF($B$10:B23,">"&'1_PHIEU_TU_VAN'!$K$10),"00")&" tháng")))) -> Sau nhận nhà 04 tháng | D23: =IF(B23="","",IF(B23='1_PHIEU_TU_VAN'!$K$10,MAX(0,'8_THAM_SO'!$C$4-N($G22)),IF(B23<'1_PHIEU_TU_VAN'!$K$10,0.5%,IF(N($G22)>=95%,0,MIN(IF(COUNTIF($B$10:B23,">"&'1_PHIEU_TU_VAN'!$K$10)<=12,1.5%,2%),95%-N($G22)))))) -> 0.015 | E23: =IF(D23="","",$G$5*D23) -> 142444500 | F23: =IF(G23="","",$G$5*G23) -> 2.943853e+09 | G23: =IF(D23="","",N($G22)+D23) -> 0.31 | H23: =IF(B23="","",IF(B23='1_PHIEU_TU_VAN'!$K$9,"Đã bao gồm 100 triệu đặt cọc",IF(B23='1_PHIEU_TU_VAN'!$K$10,"Mốc nhận nhà dự kiến","")))
A24: =IF(B24="","","Đợt "&COUNT($B$10:B24)) -> Đợt 15 | B24: =IF(N($G23)>=95%,"",IF(COUNTIF($B$10:$B23,'1_PHIEU_TU_VAN'!$K$10)>0,EDATE('1_PHIEU_TU_VAN'!$K$10,COUNTIF($B$10:$B23,">"&'1_PHIEU_TU_VAN'!$K$10)+1),MIN(EDATE('1_PHIEU_TU_VAN'!$K$9,14),'1_PHIEU_TU_VAN'!$K$10))) -> 46721 | C24: =IF(B24="","",IF(B24='1_PHIEU_TU_VAN'!$K$9,"Ký HĐMB",IF(B24='1_PHIEU_TU_VAN'!$K$10,"Nhận nhà dự kiến",IF(B24<'1_PHIEU_TU_VAN'!$K$10,"Sau 14 tháng","Sau nhận nhà "&TEXT(COUNTIF($B$10:B24,">"&'1_PHIEU_TU_VAN'!$K$10),"00")&" tháng")))) -> Sau nhận nhà 05 tháng | D24: =IF(B24="","",IF(B24='1_PHIEU_TU_VAN'!$K$10,MAX(0,'8_THAM_SO'!$C$4-N($G23)),IF(B24<'1_PHIEU_TU_VAN'!$K$10,0.5%,IF(N($G23)>=95%,0,MIN(IF(COUNTIF($B$10:B24,">"&'1_PHIEU_TU_VAN'!$K$10)<=12,1.5%,2%),95%-N($G23)))))) -> 0.015 | E24: =IF(D24="","",$G$5*D24) -> 142444500 | F24: =IF(G24="","",$G$5*G24) -> 3.0862975e+09 | G24: =IF(D24="","",N($G23)+D24) -> 0.325 | H24: =IF(B24="","",IF(B24='1_PHIEU_TU_VAN'!$K$9,"Đã bao gồm 100 triệu đặt cọc",IF(B24='1_PHIEU_TU_VAN'!$K$10,"Mốc nhận nhà dự kiến","")))
A25: =IF(B25="","","Đợt "&COUNT($B$10:B25)) -> Đợt 16 | B25: =IF(N($G24)>=95%,"",IF(COUNTIF($B$10:$B24,'1_PHIEU_TU_VAN'!$K$10)>0,EDATE('1_PHIEU_TU_VAN'!$K$10,COUNTIF($B$10:$B24,">"&'1_PHIEU_TU_VAN'!$K$10)+1),MIN(EDATE('1_PHIEU_TU_VAN'!$K$9,15),'1_PHIEU_TU_VAN'!$K$10))) -> 46751 | C25: =IF(B25="","",IF(B25='1_PHIEU_TU_VAN'!$K$9,"Ký HĐMB",IF(B25='1_PHIEU_TU_VAN'!$K$10,"Nhận nhà dự kiến",IF(B25<'1_PHIEU_TU_VAN'!$K$10,"Sau 15 tháng","Sau nhận nhà "&TEXT(COUNTIF($B$10:B25,">"&'1_PHIEU_TU_VAN'!$K$10),"00")&" tháng")))) -> Sau nhận nhà 06 tháng | D25: =IF(B25="","",IF(B25='1_PHIEU_TU_VAN'!$K$10,MAX(0,'8_THAM_SO'!$C$4-N($G24)),IF(B25<'1_PHIEU_TU_VAN'!$K$10,0.5%,IF(N($G24)>=95%,0,MIN(IF(COUNTIF($B$10:B25,">"&'1_PHIEU_TU_VAN'!$K$10)<=12,1.5%,2%),95%-N($G24)))))) -> 0.015 | E25: =IF(D25="","",$G$5*D25) -> 142444500 | F25: =IF(G25="","",$G$5*G25) -> 3.228742e+09 | G25: =IF(D25="","",N($G24)+D25) -> 0.34 | H25: =IF(B25="","",IF(B25='1_PHIEU_TU_VAN'!$K$9,"Đã bao gồm 100 triệu đặt cọc",IF(B25='1_PHIEU_TU_VAN'!$K$10,"Mốc nhận nhà dự kiến","")))
A26: =IF(B26="","","Đợt "&COUNT($B$10:B26)) -> Đợt 17 | B26: =IF(N($G25)>=95%,"",IF(COUNTIF($B$10:$B25,'1_PHIEU_TU_VAN'!$K$10)>0,EDATE('1_PHIEU_TU_VAN'!$K$10,COUNTIF($B$10:$B25,">"&'1_PHIEU_TU_VAN'!$K$10)+1),MIN(EDATE('1_PHIEU_TU_VAN'!$K$9,16),'1_PHIEU_TU_VAN'!$K$10))) -> 46782 | C26: =IF(B26="","",IF(B26='1_PHIEU_TU_VAN'!$K$9,"Ký HĐMB",IF(B26='1_PHIEU_TU_VAN'!$K$10,"Nhận nhà dự kiến",IF(B26<'1_PHIEU_TU_VAN'!$K$10,"Sau 16 tháng","Sau nhận nhà "&TEXT(COUNTIF($B$10:B26,">"&'1_PHIEU_TU_VAN'!$K$10),"00")&" tháng")))) -> Sau nhận nhà 07 tháng | D26: =IF(B26="","",IF(B26='1_PHIEU_TU_VAN'!$K$10,MAX(0,'8_THAM_SO'!$C$4-N($G25)),IF(B26<'1_PHIEU_TU_VAN'!$K$10,0.5%,IF(N($G25)>=95%,0,MIN(IF(COUNTIF($B$10:B26,">"&'1_PHIEU_TU_VAN'!$K$10)<=12,1.5%,2%),95%-N($G25)))))) -> 0.015 | E26: =IF(D26="","",$G$5*D26) -> 142444500 | F26: =IF(G26="","",$G$5*G26) -> 3.3711865e+09 | G26: =IF(D26="","",N($G25)+D26) -> 0.355 | H26: =IF(B26="","",IF(B26='1_PHIEU_TU_VAN'!$K$9,"Đã bao gồm 100 triệu đặt cọc",IF(B26='1_PHIEU_TU_VAN'!$K$10,"Mốc nhận nhà dự kiến","")))
A27: =IF(B27="","","Đợt "&COUNT($B$10:B27)) -> Đợt 18 | B27: =IF(N($G26)>=95%,"",IF(COUNTIF($B$10:$B26,'1_PHIEU_TU_VAN'!$K$10)>0,EDATE('1_PHIEU_TU_VAN'!$K$10,COUNTIF($B$10:$B26,">"&'1_PHIEU_TU_VAN'!$K$10)+1),MIN(EDATE('1_PHIEU_TU_VAN'!$K$9,17),'1_PHIEU_TU_VAN'!$K$10))) -> 46812 | C27: =IF(B27="","",IF(B27='1_PHIEU_TU_VAN'!$K$9,"Ký HĐMB",IF(B27='1_PHIEU_TU_VAN'!$K$10,"Nhận nhà dự kiến",IF(B27<'1_PHIEU_TU_VAN'!$K$10,"Sau 17 tháng","Sau nhận nhà "&TEXT(COUNTIF($B$10:B27,">"&'1_PHIEU_TU_VAN'!$K$10),"00")&" tháng")))) -> Sau nhận nhà 08 tháng | D27: =IF(B27="","",IF(B27='1_PHIEU_TU_VAN'!$K$10,MAX(0,'8_THAM_SO'!$C$4-N($G26)),IF(B27<'1_PHIEU_TU_VAN'!$K$10,0.5%,IF(N($G26)>=95%,0,MIN(IF(COUNTIF($B$10:B27,">"&'1_PHIEU_TU_VAN'!$K$10)<=12,1.5%,2%),95%-N($G26)))))) -> 0.015 | E27: =IF(D27="","",$G$5*D27) -> 142444500 | F27: =IF(G27="","",$G$5*G27) -> 3.513631e+09 | G27: =IF(D27="","",N($G26)+D27) -> 0.37 | H27: =IF(B27="","",IF(B27='1_PHIEU_TU_VAN'!$K$9,"Đã bao gồm 100 triệu đặt cọc",IF(B27='1_PHIEU_TU_VAN'!$K$10,"Mốc nhận nhà dự kiến","")))
A28: =IF(B28="","","Đợt "&COUNT($B$10:B28)) -> Đợt 19 | B28: =IF(N($G27)>=95%,"",IF(COUNTIF($B$10:$B27,'1_PHIEU_TU_VAN'!$K$10)>0,EDATE('1_PHIEU_TU_VAN'!$K$10,COUNTIF($B$10:$B27,">"&'1_PHIEU_TU_VAN'!$K$10)+1),MIN(EDATE('1_PHIEU_TU_VAN'!$K$9,18),'1_PHIEU_TU_VAN'!$K$10))) -> 46842 | C28: =IF(B28="","",IF(B28='1_PHIEU_TU_VAN'!$K$9,"Ký HĐMB",IF(B28='1_PHIEU_TU_VAN'!$K$10,"Nhận nhà dự kiến",IF(B28<'1_PHIEU_TU_VAN'!$K$10,"Sau 18 tháng","Sau nhận nhà "&TEXT(COUNTIF($B$10:B28,">"&'1_PHIEU_TU_VAN'!$K$10),"00")&" tháng")))) -> Sau nhận nhà 09 tháng | D28: =IF(B28="","",IF(B28='1_PHIEU_TU_VAN'!$K$10,MAX(0,'8_THAM_SO'!$C$4-N($G27)),IF(B28<'1_PHIEU_TU_VAN'!$K$10,0.5%,IF(N($G27)>=95%,0,MIN(IF(COUNTIF($B$10:B28,">"&'1_PHIEU_TU_VAN'!$K$10)<=12,1.5%,2%),95%-N($G27)))))) -> 0.015 | E28: =IF(D28="","",$G$5*D28) -> 142444500 | F28: =IF(G28="","",$G$5*G28) -> 3.6560755e+09 | G28: =IF(D28="","",N($G27)+D28) -> 0.385 | H28: =IF(B28="","",IF(B28='1_PHIEU_TU_VAN'!$K$9,"Đã bao gồm 100 triệu đặt cọc",IF(B28='1_PHIEU_TU_VAN'!$K$10,"Mốc nhận nhà dự kiến","")))
A29: =IF(B29="","","Đợt "&COUNT($B$10:B29)) -> Đợt 20 | B29: =IF(N($G28)>=95%,"",IF(COUNTIF($B$10:$B28,'1_PHIEU_TU_VAN'!$K$10)>0,EDATE('1_PHIEU_TU_VAN'!$K$10,COUNTIF($B$10:$B28,">"&'1_PHIEU_TU_VAN'!$K$10)+1),MIN(EDATE('1_PHIEU_TU_VAN'!$K$9,19),'1_PHIEU_TU_VAN'!$K$10))) -> 46873 | C29: =IF(B29="","",IF(B29='1_PHIEU_TU_VAN'!$K$9,"Ký HĐMB",IF(B29='1_PHIEU_TU_VAN'!$K$10,"Nhận nhà dự kiến",IF(B29<'1_PHIEU_TU_VAN'!$K$10,"Sau 19 tháng","Sau nhận nhà "&TEXT(COUNTIF($B$10:B29,">"&'1_PHIEU_TU_VAN'!$K$10),"00")&" tháng")))) -> Sau nhận nhà 10 tháng | D29: =IF(B29="","",IF(B29='1_PHIEU_TU_VAN'!$K$10,MAX(0,'8_THAM_SO'!$C$4-N($G28)),IF(B29<'1_PHIEU_TU_VAN'!$K$10,0.5%,IF(N($G28)>=95%,0,MIN(IF(COUNTIF($B$10:B29,">"&'1_PHIEU_TU_VAN'!$K$10)<=12,1.5%,2%),95%-N($G28)))))) -> 0.015 | E29: =IF(D29="","",$G$5*D29) -> 142444500 | F29: =IF(G29="","",$G$5*G29) -> 3.79852e+09 | G29: =IF(D29="","",N($G28)+D29) -> 0.4 | H29: =IF(B29="","",IF(B29='1_PHIEU_TU_VAN'!$K$9,"Đã bao gồm 100 triệu đặt cọc",IF(B29='1_PHIEU_TU_VAN'!$K$10,"Mốc nhận nhà dự kiến","")))
A30: =IF(B30="","","Đợt "&COUNT($B$10:B30)) -> Đợt 21 | B30: =IF(N($G29)>=95%,"",IF(COUNTIF($B$10:$B29,'1_PHIEU_TU_VAN'!$K$10)>0,EDATE('1_PHIEU_TU_VAN'!$K$10,COUNTIF($B$10:$B29,">"&'1_PHIEU_TU_VAN'!$K$10)+1),MIN(EDATE('1_PHIEU_TU_VAN'!$K$9,20),'1_PHIEU_TU_VAN'!$K$10))) -> 46903 | C30: =IF(B30="","",IF(B30='1_PHIEU_TU_VAN'!$K$9,"Ký HĐMB",IF(B30='1_PHIEU_TU_VAN'!$K$10,"Nhận nhà dự kiến",IF(B30<'1_PHIEU_TU_VAN'!$K$10,"Sau 20 tháng","Sau nhận nhà "&TEXT(COUNTIF($B$10:B30,">"&'1_PHIEU_TU_VAN'!$K$10),"00")&" tháng")))) -> Sau nhận nhà 11 tháng | D30: =IF(B30="","",IF(B30='1_PHIEU_TU_VAN'!$K$10,MAX(0,'8_THAM_SO'!$C$4-N($G29)),IF(B30<'1_PHIEU_TU_VAN'!$K$10,0.5%,IF(N($G29)>=95%,0,MIN(IF(COUNTIF($B$10:B30,">"&'1_PHIEU_TU_VAN'!$K$10)<=12,1.5%,2%),95%-N($G29)))))) -> 0.015 | E30: =IF(D30="","",$G$5*D30) -> 142444500 | F30: =IF(G30="","",$G$5*G30) -> 3.9409645e+09 | G30: =IF(D30="","",N($G29)+D30) -> 0.415 | H30: =IF(B30="","",IF(B30='1_PHIEU_TU_VAN'!$K$9,"Đã bao gồm 100 triệu đặt cọc",IF(B30='1_PHIEU_TU_VAN'!$K$10,"Mốc nhận nhà dự kiến","")))
A31: =IF(B31="","","Đợt "&COUNT($B$10:B31)) -> Đợt 22 | B31: =IF(N($G30)>=95%,"",IF(COUNTIF($B$10:$B30,'1_PHIEU_TU_VAN'!$K$10)>0,EDATE('1_PHIEU_TU_VAN'!$K$10,COUNTIF($B$10:$B30,">"&'1_PHIEU_TU_VAN'!$K$10)+1),MIN(EDATE('1_PHIEU_TU_VAN'!$K$9,21),'1_PHIEU_TU_VAN'!$K$10))) -> 46934 | C31: =IF(B31="","",IF(B31='1_PHIEU_TU_VAN'!$K$9,"Ký HĐMB",IF(B31='1_PHIEU_TU_VAN'!$K$10,"Nhận nhà dự kiến",IF(B31<'1_PHIEU_TU_VAN'!$K$10,"Sau 21 tháng","Sau nhận nhà "&TEXT(COUNTIF($B$10:B31,">"&'1_PHIEU_TU_VAN'!$K$10),"00")&" tháng")))) -> Sau nhận nhà 12 tháng | D31: =IF(B31="","",IF(B31='1_PHIEU_TU_VAN'!$K$10,MAX(0,'8_THAM_SO'!$C$4-N($G30)),IF(B31<'1_PHIEU_TU_VAN'!$K$10,0.5%,IF(N($G30)>=95%,0,MIN(IF(COUNTIF($B$10:B31,">"&'1_PHIEU_TU_VAN'!$K$10)<=12,1.5%,2%),95%-N($G30)))))) -> 0.015 | E31: =IF(D31="","",$G$5*D31) -> 142444500 | F31: =IF(G31="","",$G$5*G31) -> 4.083409e+09 | G31: =IF(D31="","",N($G30)+D31) -> 0.43 | H31: =IF(B31="","",IF(B31='1_PHIEU_TU_VAN'!$K$9,"Đã bao gồm 100 triệu đặt cọc",IF(B31='1_PHIEU_TU_VAN'!$K$10,"Mốc nhận nhà dự kiến","")))
A32: =IF(B32="","","Đợt "&COUNT($B$10:B32)) -> Đợt 23 | B32: =IF(N($G31)>=95%,"",IF(COUNTIF($B$10:$B31,'1_PHIEU_TU_VAN'!$K$10)>0,EDATE('1_PHIEU_TU_VAN'!$K$10,COUNTIF($B$10:$B31,">"&'1_PHIEU_TU_VAN'!$K$10)+1),MIN(EDATE('1_PHIEU_TU_VAN'!$K$9,22),'1_PHIEU_TU_VAN'!$K$10))) -> 46964 | C32: =IF(B32="","",IF(B32='1_PHIEU_TU_VAN'!$K$9,"Ký HĐMB",IF(B32='1_PHIEU_TU_VAN'!$K$10,"Nhận nhà dự kiến",IF(B32<'1_PHIEU_TU_VAN'!$K$10,"Sau 22 tháng","Sau nhận nhà "&TEXT(COUNTIF($B$10:B32,">"&'1_PHIEU_TU_VAN'!$K$10),"00")&" tháng")))) -> Sau nhận nhà 13 tháng | D32: =IF(B32="","",IF(B32='1_PHIEU_TU_VAN'!$K$10,MAX(0,'8_THAM_SO'!$C$4-N($G31)),IF(B32<'1_PHIEU_TU_VAN'!$K$10,0.5%,IF(N($G31)>=95%,0,MIN(IF(COUNTIF($B$10:B32,">"&'1_PHIEU_TU_VAN'!$K$10)<=12,1.5%,2%),95%-N($G31)))))) -> 0.02 | E32: =IF(D32="","",$G$5*D32) -> 189926000 | F32: =IF(G32="","",$G$5*G32) -> 4.273335e+09 | G32: =IF(D32="","",N($G31)+D32) -> 0.45 | H32: =IF(B32="","",IF(B32='1_PHIEU_TU_VAN'!$K$9,"Đã bao gồm 100 triệu đặt cọc",IF(B32='1_PHIEU_TU_VAN'!$K$10,"Mốc nhận nhà dự kiến","")))
A33: =IF(B33="","","Đợt "&COUNT($B$10:B33)) -> Đợt 24 | B33: =IF(N($G32)>=95%,"",IF(COUNTIF($B$10:$B32,'1_PHIEU_TU_VAN'!$K$10)>0,EDATE('1_PHIEU_TU_VAN'!$K$10,COUNTIF($B$10:$B32,">"&'1_PHIEU_TU_VAN'!$K$10)+1),MIN(EDATE('1_PHIEU_TU_VAN'!$K$9,23),'1_PHIEU_TU_VAN'!$K$10))) -> 46995 | C33: =IF(B33="","",IF(B33='1_PHIEU_TU_VAN'!$K$9,"Ký HĐMB",IF(B33='1_PHIEU_TU_VAN'!$K$10,"Nhận nhà dự kiến",IF(B33<'1_PHIEU_TU_VAN'!$K$10,"Sau 23 tháng","Sau nhận nhà "&TEXT(COUNTIF($B$10:B33,">"&'1_PHIEU_TU_VAN'!$K$10),"00")&" tháng")))) -> Sau nhận nhà 14 tháng | D33: =IF(B33="","",IF(B33='1_PHIEU_TU_VAN'!$K$10,MAX(0,'8_THAM_SO'!$C$4-N($G32)),IF(B33<'1_PHIEU_TU_VAN'!$K$10,0.5%,IF(N($G32)>=95%,0,MIN(IF(COUNTIF($B$10:B33,">"&'1_PHIEU_TU_VAN'!$K$10)<=12,1.5%,2%),95%-N($G32)))))) -> 0.02 | E33: =IF(D33="","",$G$5*D33) -> 189926000 | F33: =IF(G33="","",$G$5*G33) -> 4.463261e+09 | G33: =IF(D33="","",N($G32)+D33) -> 0.47 | H33: =IF(B33="","",IF(B33='1_PHIEU_TU_VAN'!$K$9,"Đã bao gồm 100 triệu đặt cọc",IF(B33='1_PHIEU_TU_VAN'!$K$10,"Mốc nhận nhà dự kiến","")))
A34: =IF(B34="","","Đợt "&COUNT($B$10:B34)) -> Đợt 25 | B34: =IF(N($G33)>=95%,"",IF(COUNTIF($B$10:$B33,'1_PHIEU_TU_VAN'!$K$10)>0,EDATE('1_PHIEU_TU_VAN'!$K$10,COUNTIF($B$10:$B33,">"&'1_PHIEU_TU_VAN'!$K$10)+1),MIN(EDATE('1_PHIEU_TU_VAN'!$K$9,24),'1_PHIEU_TU_VAN'!$K$10))) -> 47026 | C34: =IF(B34="","",IF(B34='1_PHIEU_TU_VAN'!$K$9,"Ký HĐMB",IF(B34='1_PHIEU_TU_VAN'!$K$10,"Nhận nhà dự kiến",IF(B34<'1_PHIEU_TU_VAN'!$K$10,"Sau 24 tháng","Sau nhận nhà "&TEXT(COUNTIF($B$10:B34,">"&'1_PHIEU_TU_VAN'!$K$10),"00")&" tháng")))) -> Sau nhận nhà 15 tháng | D34: =IF(B34="","",IF(B34='1_PHIEU_TU_VAN'!$K$10,MAX(0,'8_THAM_SO'!$C$4-N($G33)),IF(B34<'1_PHIEU_TU_VAN'!$K$10,0.5%,IF(N($G33)>=95%,0,MIN(IF(COUNTIF($B$10:B34,">"&'1_PHIEU_TU_VAN'!$K$10)<=12,1.5%,2%),95%-N($G33)))))) -> 0.02 | E34: =IF(D34="","",$G$5*D34) -> 189926000 | F34: =IF(G34="","",$G$5*G34) -> 4.653187e+09 | G34: =IF(D34="","",N($G33)+D34) -> 0.49 | H34: =IF(B34="","",IF(B34='1_PHIEU_TU_VAN'!$K$9,"Đã bao gồm 100 triệu đặt cọc",IF(B34='1_PHIEU_TU_VAN'!$K$10,"Mốc nhận nhà dự kiến","")))
A35: =IF(B35="","","Đợt "&COUNT($B$10:B35)) -> Đợt 26 | B35: =IF(N($G34)>=95%,"",IF(COUNTIF($B$10:$B34,'1_PHIEU_TU_VAN'!$K$10)>0,EDATE('1_PHIEU_TU_VAN'!$K$10,COUNTIF($B$10:$B34,">"&'1_PHIEU_TU_VAN'!$K$10)+1),MIN(EDATE('1_PHIEU_TU_VAN'!$K$9,25),'1_PHIEU_TU_VAN'!$K$10))) -> 47056 | C35: =IF(B35="","",IF(B35='1_PHIEU_TU_VAN'!$K$9,"Ký HĐMB",IF(B35='1_PHIEU_TU_VAN'!$K$10,"Nhận nhà dự kiến",IF(B35<'1_PHIEU_TU_VAN'!$K$10,"Sau 25 tháng","Sau nhận nhà "&TEXT(COUNTIF($B$10:B35,">"&'1_PHIEU_TU_VAN'!$K$10),"00")&" tháng")))) -> Sau nhận nhà 16 tháng | D35: =IF(B35="","",IF(B35='1_PHIEU_TU_VAN'!$K$10,MAX(0,'8_THAM_SO'!$C$4-N($G34)),IF(B35<'1_PHIEU_TU_VAN'!$K$10,0.5%,IF(N($G34)>=95%,0,MIN(IF(COUNTIF($B$10:B35,">"&'1_PHIEU_TU_VAN'!$K$10)<=12,1.5%,2%),95%-N($G34)))))) -> 0.02 | E35: =IF(D35="","",$G$5*D35) -> 189926000 | F35: =IF(G35="","",$G$5*G35) -> 4.843113e+09 | G35: =IF(D35="","",N($G34)+D35) -> 0.51 | H35: =IF(B35="","",IF(B35='1_PHIEU_TU_VAN'!$K$9,"Đã bao gồm 100 triệu đặt cọc",IF(B35='1_PHIEU_TU_VAN'!$K$10,"Mốc nhận nhà dự kiến","")))
A36: =IF(B36="","","Đợt "&COUNT($B$10:B36)) -> Đợt 27 | B36: =IF(N($G35)>=95%,"",IF(COUNTIF($B$10:$B35,'1_PHIEU_TU_VAN'!$K$10)>0,EDATE('1_PHIEU_TU_VAN'!$K$10,COUNTIF($B$10:$B35,">"&'1_PHIEU_TU_VAN'!$K$10)+1),MIN(EDATE('1_PHIEU_TU_VAN'!$K$9,26),'1_PHIEU_TU_VAN'!$K$10))) -> 47087 | C36: =IF(B36="","",IF(B36='1_PHIEU_TU_VAN'!$K$9,"Ký HĐMB",IF(B36='1_PHIEU_TU_VAN'!$K$10,"Nhận nhà dự kiến",IF(B36<'1_PHIEU_TU_VAN'!$K$10,"Sau 26 tháng","Sau nhận nhà "&TEXT(COUNTIF($B$10:B36,">"&'1_PHIEU_TU_VAN'!$K$10),"00")&" tháng")))) -> Sau nhận nhà 17 tháng | D36: =IF(B36="","",IF(B36='1_PHIEU_TU_VAN'!$K$10,MAX(0,'8_THAM_SO'!$C$4-N($G35)),IF(B36<'1_PHIEU_TU_VAN'!$K$10,0.5%,IF(N($G35)>=95%,0,MIN(IF(COUNTIF($B$10:B36,">"&'1_PHIEU_TU_VAN'!$K$10)<=12,1.5%,2%),95%-N($G35)))))) -> 0.02 | E36: =IF(D36="","",$G$5*D36) -> 189926000 | F36: =IF(G36="","",$G$5*G36) -> 5.033039e+09 | G36: =IF(D36="","",N($G35)+D36) -> 0.53 | H36: =IF(B36="","",IF(B36='1_PHIEU_TU_VAN'!$K$9,"Đã bao gồm 100 triệu đặt cọc",IF(B36='1_PHIEU_TU_VAN'!$K$10,"Mốc nhận nhà dự kiến","")))
A37: =IF(B37="","","Đợt "&COUNT($B$10:B37)) -> Đợt 28 | B37: =IF(N($G36)>=95%,"",IF(COUNTIF($B$10:$B36,'1_PHIEU_TU_VAN'!$K$10)>0,EDATE('1_PHIEU_TU_VAN'!$K$10,COUNTIF($B$10:$B36,">"&'1_PHIEU_TU_VAN'!$K$10)+1),MIN(EDATE('1_PHIEU_TU_VAN'!$K$9,27),'1_PHIEU_TU_VAN'!$K$10))) -> 47117 | C37: =IF(B37="","",IF(B37='1_PHIEU_TU_VAN'!$K$9,"Ký HĐMB",IF(B37='1_PHIEU_TU_VAN'!$K$10,"Nhận nhà dự kiến",IF(B37<'1_PHIEU_TU_VAN'!$K$10,"Sau 27 tháng","Sau nhận nhà "&TEXT(COUNTIF($B$10:B37,">"&'1_PHIEU_TU_VAN'!$K$10),"00")&" tháng")))) -> Sau nhận nhà 18 tháng | D37: =IF(B37="","",IF(B37='1_PHIEU_TU_VAN'!$K$10,MAX(0,'8_THAM_SO'!$C$4-N($G36)),IF(B37<'1_PHIEU_TU_VAN'!$K$10,0.5%,IF(N($G36)>=95%,0,MIN(IF(COUNTIF($B$10:B37,">"&'1_PHIEU_TU_VAN'!$K$10)<=12,1.5%,2%),95%-N($G36)))))) -> 0.02 | E37: =IF(D37="","",$G$5*D37) -> 189926000 | F37: =IF(G37="","",$G$5*G37) -> 5.222965e+09 | G37: =IF(D37="","",N($G36)+D37) -> 0.55 | H37: =IF(B37="","",IF(B37='1_PHIEU_TU_VAN'!$K$9,"Đã bao gồm 100 triệu đặt cọc",IF(B37='1_PHIEU_TU_VAN'!$K$10,"Mốc nhận nhà dự kiến","")))
A38: =IF(B38="","","Đợt "&COUNT($B$10:B38)) -> Đợt 29 | B38: =IF(N($G37)>=95%,"",IF(COUNTIF($B$10:$B37,'1_PHIEU_TU_VAN'!$K$10)>0,EDATE('1_PHIEU_TU_VAN'!$K$10,COUNTIF($B$10:$B37,">"&'1_PHIEU_TU_VAN'!$K$10)+1),MIN(EDATE('1_PHIEU_TU_VAN'!$K$9,28),'1_PHIEU_TU_VAN'!$K$10))) -> 47148 | C38: =IF(B38="","",IF(B38='1_PHIEU_TU_VAN'!$K$9,"Ký HĐMB",IF(B38='1_PHIEU_TU_VAN'!$K$10,"Nhận nhà dự kiến",IF(B38<'1_PHIEU_TU_VAN'!$K$10,"Sau 28 tháng","Sau nhận nhà "&TEXT(COUNTIF($B$10:B38,">"&'1_PHIEU_TU_VAN'!$K$10),"00")&" tháng")))) -> Sau nhận nhà 19 tháng | D38: =IF(B38="","",IF(B38='1_PHIEU_TU_VAN'!$K$10,MAX(0,'8_THAM_SO'!$C$4-N($G37)),IF(B38<'1_PHIEU_TU_VAN'!$K$10,0.5%,IF(N($G37)>=95%,0,MIN(IF(COUNTIF($B$10:B38,">"&'1_PHIEU_TU_VAN'!$K$10)<=12,1.5%,2%),95%-N($G37)))))) -> 0.02 | E38: =IF(D38="","",$G$5*D38) -> 189926000 | F38: =IF(G38="","",$G$5*G38) -> 5.412891e+09 | G38: =IF(D38="","",N($G37)+D38) -> 0.57 | H38: =IF(B38="","",IF(B38='1_PHIEU_TU_VAN'!$K$9,"Đã bao gồm 100 triệu đặt cọc",IF(B38='1_PHIEU_TU_VAN'!$K$10,"Mốc nhận nhà dự kiến","")))
A39: =IF(B39="","","Đợt "&COUNT($B$10:B39)) -> Đợt 30 | B39: =IF(N($G38)>=95%,"",IF(COUNTIF($B$10:$B38,'1_PHIEU_TU_VAN'!$K$10)>0,EDATE('1_PHIEU_TU_VAN'!$K$10,COUNTIF($B$10:$B38,">"&'1_PHIEU_TU_VAN'!$K$10)+1),MIN(EDATE('1_PHIEU_TU_VAN'!$K$9,29),'1_PHIEU_TU_VAN'!$K$10))) -> 47177 | C39: =IF(B39="","",IF(B39='1_PHIEU_TU_VAN'!$K$9,"Ký HĐMB",IF(B39='1_PHIEU_TU_VAN'!$K$10,"Nhận nhà dự kiến",IF(B39<'1_PHIEU_TU_VAN'!$K$10,"Sau 29 tháng","Sau nhận nhà "&TEXT(COUNTIF($B$10:B39,">"&'1_PHIEU_TU_VAN'!$K$10),"00")&" tháng")))) -> Sau nhận nhà 20 tháng | D39: =IF(B39="","",IF(B39='1_PHIEU_TU_VAN'!$K$10,MAX(0,'8_THAM_SO'!$C$4-N($G38)),IF(B39<'1_PHIEU_TU_VAN'!$K$10,0.5%,IF(N($G38)>=95%,0,MIN(IF(COUNTIF($B$10:B39,">"&'1_PHIEU_TU_VAN'!$K$10)<=12,1.5%,2%),95%-N($G38)))))) -> 0.02 | E39: =IF(D39="","",$G$5*D39) -> 189926000 | F39: =IF(G39="","",$G$5*G39) -> 5.602817e+09 | G39: =IF(D39="","",N($G38)+D39) -> 0.59 | H39: =IF(B39="","",IF(B39='1_PHIEU_TU_VAN'!$K$9,"Đã bao gồm 100 triệu đặt cọc",IF(B39='1_PHIEU_TU_VAN'!$K$10,"Mốc nhận nhà dự kiến","")))
A40: =IF(B40="","","Đợt "&COUNT($B$10:B40)) -> Đợt 31 | B40: =IF(N($G39)>=95%,"",IF(COUNTIF($B$10:$B39,'1_PHIEU_TU_VAN'!$K$10)>0,EDATE('1_PHIEU_TU_VAN'!$K$10,COUNTIF($B$10:$B39,">"&'1_PHIEU_TU_VAN'!$K$10)+1),MIN(EDATE('1_PHIEU_TU_VAN'!$K$9,30),'1_PHIEU_TU_VAN'!$K$10))) -> 47207 | C40: =IF(B40="","",IF(B40='1_PHIEU_TU_VAN'!$K$9,"Ký HĐMB",IF(B40='1_PHIEU_TU_VAN'!$K$10,"Nhận nhà dự kiến",IF(B40<'1_PHIEU_TU_VAN'!$K$10,"Sau 30 tháng","Sau nhận nhà "&TEXT(COUNTIF($B$10:B40,">"&'1_PHIEU_TU_VAN'!$K$10),"00")&" tháng")))) -> Sau nhận nhà 21 tháng | D40: =IF(B40="","",IF(B40='1_PHIEU_TU_VAN'!$K$10,MAX(0,'8_THAM_SO'!$C$4-N($G39)),IF(B40<'1_PHIEU_TU_VAN'!$K$10,0.5%,IF(N($G39)>=95%,0,MIN(IF(COUNTIF($B$10:B40,">"&'1_PHIEU_TU_VAN'!$K$10)<=12,1.5%,2%),95%-N($G39)))))) -> 0.02 | E40: =IF(D40="","",$G$5*D40) -> 189926000 | F40: =IF(G40="","",$G$5*G40) -> 5.792743e+09 | G40: =IF(D40="","",N($G39)+D40) -> 0.61 | H40: =IF(B40="","",IF(B40='1_PHIEU_TU_VAN'!$K$9,"Đã bao gồm 100 triệu đặt cọc",IF(B40='1_PHIEU_TU_VAN'!$K$10,"Mốc nhận nhà dự kiến","")))
A41: =IF(B41="","","Đợt "&COUNT($B$10:B41)) -> Đợt 32 | B41: =IF(N($G40)>=95%,"",IF(COUNTIF($B$10:$B40,'1_PHIEU_TU_VAN'!$K$10)>0,EDATE('1_PHIEU_TU_VAN'!$K$10,COUNTIF($B$10:$B40,">"&'1_PHIEU_TU_VAN'!$K$10)+1),MIN(EDATE('1_PHIEU_TU_VAN'!$K$9,31),'1_PHIEU_TU_VAN'!$K$10))) -> 47238 | C41: =IF(B41="","",IF(B41='1_PHIEU_TU_VAN'!$K$9,"Ký HĐMB",IF(B41='1_PHIEU_TU_VAN'!$K$10,"Nhận nhà dự kiến",IF(B41<'1_PHIEU_TU_VAN'!$K$10,"Sau 31 tháng","Sau nhận nhà "&TEXT(COUNTIF($B$10:B41,">"&'1_PHIEU_TU_VAN'!$K$10),"00")&" tháng")))) -> Sau nhận nhà 22 tháng | D41: =IF(B41="","",IF(B41='1_PHIEU_TU_VAN'!$K$10,MAX(0,'8_THAM_SO'!$C$4-N($G40)),IF(B41<'1_PHIEU_TU_VAN'!$K$10,0.5%,IF(N($G40)>=95%,0,MIN(IF(COUNTIF($B$10:B41,">"&'1_PHIEU_TU_VAN'!$K$10)<=12,1.5%,2%),95%-N($G40)))))) -> 0.02 | E41: =IF(D41="","",$G$5*D41) -> 189926000 | F41: =IF(G41="","",$G$5*G41) -> 5.982669e+09 | G41: =IF(D41="","",N($G40)+D41) -> 0.63 | H41: =IF(B41="","",IF(B41='1_PHIEU_TU_VAN'!$K$9,"Đã bao gồm 100 triệu đặt cọc",IF(B41='1_PHIEU_TU_VAN'!$K$10,"Mốc nhận nhà dự kiến","")))
A42: =IF(B42="","","Đợt "&COUNT($B$10:B42)) -> Đợt 33 | B42: =IF(N($G41)>=95%,"",IF(COUNTIF($B$10:$B41,'1_PHIEU_TU_VAN'!$K$10)>0,EDATE('1_PHIEU_TU_VAN'!$K$10,COUNTIF($B$10:$B41,">"&'1_PHIEU_TU_VAN'!$K$10)+1),MIN(EDATE('1_PHIEU_TU_VAN'!$K$9,32),'1_PHIEU_TU_VAN'!$K$10))) -> 47268 | C42: =IF(B42="","",IF(B42='1_PHIEU_TU_VAN'!$K$9,"Ký HĐMB",IF(B42='1_PHIEU_TU_VAN'!$K$10,"Nhận nhà dự kiến",IF(B42<'1_PHIEU_TU_VAN'!$K$10,"Sau 32 tháng","Sau nhận nhà "&TEXT(COUNTIF($B$10:B42,">"&'1_PHIEU_TU_VAN'!$K$10),"00")&" tháng")))) -> Sau nhận nhà 23 tháng | D42: =IF(B42="","",IF(B42='1_PHIEU_TU_VAN'!$K$10,MAX(0,'8_THAM_SO'!$C$4-N($G41)),IF(B42<'1_PHIEU_TU_VAN'!$K$10,0.5%,IF(N($G41)>=95%,0,MIN(IF(COUNTIF($B$10:B42,">"&'1_PHIEU_TU_VAN'!$K$10)<=12,1.5%,2%),95%-N($G41)))))) -> 0.02 | E42: =IF(D42="","",$G$5*D42) -> 189926000 | F42: =IF(G42="","",$G$5*G42) -> 6.172595e+09 | G42: =IF(D42="","",N($G41)+D42) -> 0.65 | H42: =IF(B42="","",IF(B42='1_PHIEU_TU_VAN'!$K$9,"Đã bao gồm 100 triệu đặt cọc",IF(B42='1_PHIEU_TU_VAN'!$K$10,"Mốc nhận nhà dự kiến","")))
A43: =IF(B43="","","Đợt "&COUNT($B$10:B43)) -> Đợt 34 | B43: =IF(N($G42)>=95%,"",IF(COUNTIF($B$10:$B42,'1_PHIEU_TU_VAN'!$K$10)>0,EDATE('1_PHIEU_TU_VAN'!$K$10,COUNTIF($B$10:$B42,">"&'1_PHIEU_TU_VAN'!$K$10)+1),MIN(EDATE('1_PHIEU_TU_VAN'!$K$9,33),'1_PHIEU_TU_VAN'!$K$10))) -> 47299 | C43: =IF(B43="","",IF(B43='1_PHIEU_TU_VAN'!$K$9,"Ký HĐMB",IF(B43='1_PHIEU_TU_VAN'!$K$10,"Nhận nhà dự kiến",IF(B43<'1_PHIEU_TU_VAN'!$K$10,"Sau 33 tháng","Sau nhận nhà "&TEXT(COUNTIF($B$10:B43,">"&'1_PHIEU_TU_VAN'!$K$10),"00")&" tháng")))) -> Sau nhận nhà 24 tháng | D43: =IF(B43="","",IF(B43='1_PHIEU_TU_VAN'!$K$10,MAX(0,'8_THAM_SO'!$C$4-N($G42)),IF(B43<'1_PHIEU_TU_VAN'!$K$10,0.5%,IF(N($G42)>=95%,0,MIN(IF(COUNTIF($B$10:B43,">"&'1_PHIEU_TU_VAN'!$K$10)<=12,1.5%,2%),95%-N($G42)))))) -> 0.02 | E43: =IF(D43="","",$G$5*D43) -> 189926000 | F43: =IF(G43="","",$G$5*G43) -> 6.362521e+09 | G43: =IF(D43="","",N($G42)+D43) -> 0.67 | H43: =IF(B43="","",IF(B43='1_PHIEU_TU_VAN'!$K$9,"Đã bao gồm 100 triệu đặt cọc",IF(B43='1_PHIEU_TU_VAN'!$K$10,"Mốc nhận nhà dự kiến","")))
A44: =IF(B44="","","Đợt "&COUNT($B$10:B44)) -> Đợt 35 | B44: =IF(N($G43)>=95%,"",IF(COUNTIF($B$10:$B43,'1_PHIEU_TU_VAN'!$K$10)>0,EDATE('1_PHIEU_TU_VAN'!$K$10,COUNTIF($B$10:$B43,">"&'1_PHIEU_TU_VAN'!$K$10)+1),MIN(EDATE('1_PHIEU_TU_VAN'!$K$9,34),'1_PHIEU_TU_VAN'!$K$10))) -> 47329 | C44: =IF(B44="","",IF(B44='1_PHIEU_TU_VAN'!$K$9,"Ký HĐMB",IF(B44='1_PHIEU_TU_VAN'!$K$10,"Nhận nhà dự kiến",IF(B44<'1_PHIEU_TU_VAN'!$K$10,"Sau 34 tháng","Sau nhận nhà "&TEXT(COUNTIF($B$10:B44,">"&'1_PHIEU_TU_VAN'!$K$10),"00")&" tháng")))) -> Sau nhận nhà 25 tháng | D44: =IF(B44="","",IF(B44='1_PHIEU_TU_VAN'!$K$10,MAX(0,'8_THAM_SO'!$C$4-N($G43)),IF(B44<'1_PHIEU_TU_VAN'!$K$10,0.5%,IF(N($G43)>=95%,0,MIN(IF(COUNTIF($B$10:B44,">"&'1_PHIEU_TU_VAN'!$K$10)<=12,1.5%,2%),95%-N($G43)))))) -> 0.02 | E44: =IF(D44="","",$G$5*D44) -> 189926000 | F44: =IF(G44="","",$G$5*G44) -> 6.552447e+09 | G44: =IF(D44="","",N($G43)+D44) -> 0.69 | H44: =IF(B44="","",IF(B44='1_PHIEU_TU_VAN'!$K$9,"Đã bao gồm 100 triệu đặt cọc",IF(B44='1_PHIEU_TU_VAN'!$K$10,"Mốc nhận nhà dự kiến","")))
A45: =IF(B45="","","Đợt "&COUNT($B$10:B45)) -> Đợt 36 | B45: =IF(N($G44)>=95%,"",IF(COUNTIF($B$10:$B44,'1_PHIEU_TU_VAN'!$K$10)>0,EDATE('1_PHIEU_TU_VAN'!$K$10,COUNTIF($B$10:$B44,">"&'1_PHIEU_TU_VAN'!$K$10)+1),MIN(EDATE('1_PHIEU_TU_VAN'!$K$9,35),'1_PHIEU_TU_VAN'!$K$10))) -> 47360 | C45: =IF(B45="","",IF(B45='1_PHIEU_TU_VAN'!$K$9,"Ký HĐMB",IF(B45='1_PHIEU_TU_VAN'!$K$10,"Nhận nhà dự kiến",IF(B45<'1_PHIEU_TU_VAN'!$K$10,"Sau 35 tháng","Sau nhận nhà "&TEXT(COUNTIF($B$10:B45,">"&'1_PHIEU_TU_VAN'!$K$10),"00")&" tháng")))) -> Sau nhận nhà 26 tháng | D45: =IF(B45="","",IF(B45='1_PHIEU_TU_VAN'!$K$10,MAX(0,'8_THAM_SO'!$C$4-N($G44)),IF(B45<'1_PHIEU_TU_VAN'!$K$10,0.5%,IF(N($G44)>=95%,0,MIN(IF(COUNTIF($B$10:B45,">"&'1_PHIEU_TU_VAN'!$K$10)<=12,1.5%,2%),95%-N($G44)))))) -> 0.02 | E45: =IF(D45="","",$G$5*D45) -> 189926000 | F45: =IF(G45="","",$G$5*G45) -> 6.742373e+09 | G45: =IF(D45="","",N($G44)+D45) -> 0.71 | H45: =IF(B45="","",IF(B45='1_PHIEU_TU_VAN'!$K$9,"Đã bao gồm 100 triệu đặt cọc",IF(B45='1_PHIEU_TU_VAN'!$K$10,"Mốc nhận nhà dự kiến","")))
A46: =IF(B46="","","Đợt "&COUNT($B$10:B46)) -> Đợt 37 | B46: =IF(N($G45)>=95%,"",IF(COUNTIF($B$10:$B45,'1_PHIEU_TU_VAN'!$K$10)>0,EDATE('1_PHIEU_TU_VAN'!$K$10,COUNTIF($B$10:$B45,">"&'1_PHIEU_TU_VAN'!$K$10)+1),MIN(EDATE('1_PHIEU_TU_VAN'!$K$9,36),'1_PHIEU_TU_VAN'!$K$10))) -> 47391 | C46: =IF(B46="","",IF(B46='1_PHIEU_TU_VAN'!$K$9,"Ký HĐMB",IF(B46='1_PHIEU_TU_VAN'!$K$10,"Nhận nhà dự kiến",IF(B46<'1_PHIEU_TU_VAN'!$K$10,"Sau 36 tháng","Sau nhận nhà "&TEXT(COUNTIF($B$10:B46,">"&'1_PHIEU_TU_VAN'!$K$10),"00")&" tháng")))) -> Sau nhận nhà 27 tháng | D46: =IF(B46="","",IF(B46='1_PHIEU_TU_VAN'!$K$10,MAX(0,'8_THAM_SO'!$C$4-N($G45)),IF(B46<'1_PHIEU_TU_VAN'!$K$10,0.5%,IF(N($G45)>=95%,0,MIN(IF(COUNTIF($B$10:B46,">"&'1_PHIEU_TU_VAN'!$K$10)<=12,1.5%,2%),95%-N($G45)))))) -> 0.02 | E46: =IF(D46="","",$G$5*D46) -> 189926000 | F46: =IF(G46="","",$G$5*G46) -> 6.932299e+09 | G46: =IF(D46="","",N($G45)+D46) -> 0.73 | H46: =IF(B46="","",IF(B46='1_PHIEU_TU_VAN'!$K$9,"Đã bao gồm 100 triệu đặt cọc",IF(B46='1_PHIEU_TU_VAN'!$K$10,"Mốc nhận nhà dự kiến","")))
A47: =IF(B47="","","Đợt "&COUNT($B$10:B47)) -> Đợt 38 | B47: =IF(N($G46)>=95%,"",IF(COUNTIF($B$10:$B46,'1_PHIEU_TU_VAN'!$K$10)>0,EDATE('1_PHIEU_TU_VAN'!$K$10,COUNTIF($B$10:$B46,">"&'1_PHIEU_TU_VAN'!$K$10)+1),MIN(EDATE('1_PHIEU_TU_VAN'!$K$9,37),'1_PHIEU_TU_VAN'!$K$10))) -> 47421 | C47: =IF(B47="","",IF(B47='1_PHIEU_TU_VAN'!$K$9,"Ký HĐMB",IF(B47='1_PHIEU_TU_VAN'!$K$10,"Nhận nhà dự kiến",IF(B47<'1_PHIEU_TU_VAN'!$K$10,"Sau 37 tháng","Sau nhận nhà "&TEXT(COUNTIF($B$10:B47,">"&'1_PHIEU_TU_VAN'!$K$10),"00")&" tháng")))) -> Sau nhận nhà 28 tháng | D47: =IF(B47="","",IF(B47='1_PHIEU_TU_VAN'!$K$10,MAX(0,'8_THAM_SO'!$C$4-N($G46)),IF(B47<'1_PHIEU_TU_VAN'!$K$10,0.5%,IF(N($G46)>=95%,0,MIN(IF(COUNTIF($B$10:B47,">"&'1_PHIEU_TU_VAN'!$K$10)<=12,1.5%,2%),95%-N($G46)))))) -> 0.02 | E47: =IF(D47="","",$G$5*D47) -> 189926000 | F47: =IF(G47="","",$G$5*G47) -> 7.122225e+09 | G47: =IF(D47="","",N($G46)+D47) -> 0.75 | H47: =IF(B47="","",IF(B47='1_PHIEU_TU_VAN'!$K$9,"Đã bao gồm 100 triệu đặt cọc",IF(B47='1_PHIEU_TU_VAN'!$K$10,"Mốc nhận nhà dự kiến","")))
A48: =IF(B48="","","Đợt "&COUNT($B$10:B48)) -> Đợt 39 | B48: =IF(N($G47)>=95%,"",IF(COUNTIF($B$10:$B47,'1_PHIEU_TU_VAN'!$K$10)>0,EDATE('1_PHIEU_TU_VAN'!$K$10,COUNTIF($B$10:$B47,">"&'1_PHIEU_TU_VAN'!$K$10)+1),MIN(EDATE('1_PHIEU_TU_VAN'!$K$9,38),'1_PHIEU_TU_VAN'!$K$10))) -> 47452 | C48: =IF(B48="","",IF(B48='1_PHIEU_TU_VAN'!$K$9,"Ký HĐMB",IF(B48='1_PHIEU_TU_VAN'!$K$10,"Nhận nhà dự kiến",IF(B48<'1_PHIEU_TU_VAN'!$K$10,"Sau 38 tháng","Sau nhận nhà "&TEXT(COUNTIF($B$10:B48,">"&'1_PHIEU_TU_VAN'!$K$10),"00")&" tháng")))) -> Sau nhận nhà 29 tháng | D48: =IF(B48="","",IF(B48='1_PHIEU_TU_VAN'!$K$10,MAX(0,'8_THAM_SO'!$C$4-N($G47)),IF(B48<'1_PHIEU_TU_VAN'!$K$10,0.5%,IF(N($G47)>=95%,0,MIN(IF(COUNTIF($B$10:B48,">"&'1_PHIEU_TU_VAN'!$K$10)<=12,1.5%,2%),95%-N($G47)))))) -> 0.02 | E48: =IF(D48="","",$G$5*D48) -> 189926000 | F48: =IF(G48="","",$G$5*G48) -> 7.312151e+09 | G48: =IF(D48="","",N($G47)+D48) -> 0.77 | H48: =IF(B48="","",IF(B48='1_PHIEU_TU_VAN'!$K$9,"Đã bao gồm 100 triệu đặt cọc",IF(B48='1_PHIEU_TU_VAN'!$K$10,"Mốc nhận nhà dự kiến","")))
A49: =IF(B49="","","Đợt "&COUNT($B$10:B49)) -> Đợt 40 | B49: =IF(N($G48)>=95%,"",IF(COUNTIF($B$10:$B48,'1_PHIEU_TU_VAN'!$K$10)>0,EDATE('1_PHIEU_TU_VAN'!$K$10,COUNTIF($B$10:$B48,">"&'1_PHIEU_TU_VAN'!$K$10)+1),MIN(EDATE('1_PHIEU_TU_VAN'!$K$9,39),'1_PHIEU_TU_VAN'!$K$10))) -> 47482 | C49: =IF(B49="","",IF(B49='1_PHIEU_TU_VAN'!$K$9,"Ký HĐMB",IF(B49='1_PHIEU_TU_VAN'!$K$10,"Nhận nhà dự kiến",IF(B49<'1_PHIEU_TU_VAN'!$K$10,"Sau 39 tháng","Sau nhận nhà "&TEXT(COUNTIF($B$10:B49,">"&'1_PHIEU_TU_VAN'!$K$10),"00")&" tháng")))) -> Sau nhận nhà 30 tháng | D49: =IF(B49="","",IF(B49='1_PHIEU_TU_VAN'!$K$10,MAX(0,'8_THAM_SO'!$C$4-N($G48)),IF(B49<'1_PHIEU_TU_VAN'!$K$10,0.5%,IF(N($G48)>=95%,0,MIN(IF(COUNTIF($B$10:B49,">"&'1_PHIEU_TU_VAN'!$K$10)<=12,1.5%,2%),95%-N($G48)))))) -> 0.02 | E49: =IF(D49="","",$G$5*D49) -> 189926000 | F49: =IF(G49="","",$G$5*G49) -> 7.502077e+09 | G49: =IF(D49="","",N($G48)+D49) -> 0.79 | H49: =IF(B49="","",IF(B49='1_PHIEU_TU_VAN'!$K$9,"Đã bao gồm 100 triệu đặt cọc",IF(B49='1_PHIEU_TU_VAN'!$K$10,"Mốc nhận nhà dự kiến","")))
A50: =IF(B50="","","Đợt "&COUNT($B$10:B50)) -> Đợt 41 | B50: =IF(N($G49)>=95%,"",IF(COUNTIF($B$10:$B49,'1_PHIEU_TU_VAN'!$K$10)>0,EDATE('1_PHIEU_TU_VAN'!$K$10,COUNTIF($B$10:$B49,">"&'1_PHIEU_TU_VAN'!$K$10)+1),MIN(EDATE('1_PHIEU_TU_VAN'!$K$9,40),'1_PHIEU_TU_VAN'!$K$10))) -> 47513 | C50: =IF(B50="","",IF(B50='1_PHIEU_TU_VAN'!$K$9,"Ký HĐMB",IF(B50='1_PHIEU_TU_VAN'!$K$10,"Nhận nhà dự kiến",IF(B50<'1_PHIEU_TU_VAN'!$K$10,"Sau 40 tháng","Sau nhận nhà "&TEXT(COUNTIF($B$10:B50,">"&'1_PHIEU_TU_VAN'!$K$10),"00")&" tháng")))) -> Sau nhận nhà 31 tháng | D50: =IF(B50="","",IF(B50='1_PHIEU_TU_VAN'!$K$10,MAX(0,'8_THAM_SO'!$C$4-N($G49)),IF(B50<'1_PHIEU_TU_VAN'!$K$10,0.5%,IF(N($G49)>=95%,0,MIN(IF(COUNTIF($B$10:B50,">"&'1_PHIEU_TU_VAN'!$K$10)<=12,1.5%,2%),95%-N($G49)))))) -> 0.02 | E50: =IF(D50="","",$G$5*D50) -> 189926000 | F50: =IF(G50="","",$G$5*G50) -> 7.692003e+09 | G50: =IF(D50="","",N($G49)+D50) -> 0.81 | H50: =IF(B50="","",IF(B50='1_PHIEU_TU_VAN'!$K$9,"Đã bao gồm 100 triệu đặt cọc",IF(B50='1_PHIEU_TU_VAN'!$K$10,"Mốc nhận nhà dự kiến","")))
A51: =IF(B51="","","Đợt "&COUNT($B$10:B51)) -> Đợt 42 | B51: =IF(N($G50)>=95%,"",IF(COUNTIF($B$10:$B50,'1_PHIEU_TU_VAN'!$K$10)>0,EDATE('1_PHIEU_TU_VAN'!$K$10,COUNTIF($B$10:$B50,">"&'1_PHIEU_TU_VAN'!$K$10)+1),MIN(EDATE('1_PHIEU_TU_VAN'!$K$9,41),'1_PHIEU_TU_VAN'!$K$10))) -> 47542 | C51: =IF(B51="","",IF(B51='1_PHIEU_TU_VAN'!$K$9,"Ký HĐMB",IF(B51='1_PHIEU_TU_VAN'!$K$10,"Nhận nhà dự kiến",IF(B51<'1_PHIEU_TU_VAN'!$K$10,"Sau 41 tháng","Sau nhận nhà "&TEXT(COUNTIF($B$10:B51,">"&'1_PHIEU_TU_VAN'!$K$10),"00")&" tháng")))) -> Sau nhận nhà 32 tháng | D51: =IF(B51="","",IF(B51='1_PHIEU_TU_VAN'!$K$10,MAX(0,'8_THAM_SO'!$C$4-N($G50)),IF(B51<'1_PHIEU_TU_VAN'!$K$10,0.5%,IF(N($G50)>=95%,0,MIN(IF(COUNTIF($B$10:B51,">"&'1_PHIEU_TU_VAN'!$K$10)<=12,1.5%,2%),95%-N($G50)))))) -> 0.02 | E51: =IF(D51="","",$G$5*D51) -> 189926000 | F51: =IF(G51="","",$G$5*G51) -> 7.881929e+09 | G51: =IF(D51="","",N($G50)+D51) -> 0.83 | H51: =IF(B51="","",IF(B51='1_PHIEU_TU_VAN'!$K$9,"Đã bao gồm 100 triệu đặt cọc",IF(B51='1_PHIEU_TU_VAN'!$K$10,"Mốc nhận nhà dự kiến","")))
A52: =IF(B52="","","Đợt "&COUNT($B$10:B52)) -> Đợt 43 | B52: =IF(N($G51)>=95%,"",IF(COUNTIF($B$10:$B51,'1_PHIEU_TU_VAN'!$K$10)>0,EDATE('1_PHIEU_TU_VAN'!$K$10,COUNTIF($B$10:$B51,">"&'1_PHIEU_TU_VAN'!$K$10)+1),MIN(EDATE('1_PHIEU_TU_VAN'!$K$9,42),'1_PHIEU_TU_VAN'!$K$10))) -> 47572 | C52: =IF(B52="","",IF(B52='1_PHIEU_TU_VAN'!$K$9,"Ký HĐMB",IF(B52='1_PHIEU_TU_VAN'!$K$10,"Nhận nhà dự kiến",IF(B52<'1_PHIEU_TU_VAN'!$K$10,"Sau 42 tháng","Sau nhận nhà "&TEXT(COUNTIF($B$10:B52,">"&'1_PHIEU_TU_VAN'!$K$10),"00")&" tháng")))) -> Sau nhận nhà 33 tháng | D52: =IF(B52="","",IF(B52='1_PHIEU_TU_VAN'!$K$10,MAX(0,'8_THAM_SO'!$C$4-N($G51)),IF(B52<'1_PHIEU_TU_VAN'!$K$10,0.5%,IF(N($G51)>=95%,0,MIN(IF(COUNTIF($B$10:B52,">"&'1_PHIEU_TU_VAN'!$K$10)<=12,1.5%,2%),95%-N($G51)))))) -> 0.02 | E52: =IF(D52="","",$G$5*D52) -> 189926000 | F52: =IF(G52="","",$G$5*G52) -> 8.071855e+09 | G52: =IF(D52="","",N($G51)+D52) -> 0.85 | H52: =IF(B52="","",IF(B52='1_PHIEU_TU_VAN'!$K$9,"Đã bao gồm 100 triệu đặt cọc",IF(B52='1_PHIEU_TU_VAN'!$K$10,"Mốc nhận nhà dự kiến","")))
A53: =IF(B53="","","Đợt "&COUNT($B$10:B53)) -> Đợt 44 | B53: =IF(N($G52)>=95%,"",IF(COUNTIF($B$10:$B52,'1_PHIEU_TU_VAN'!$K$10)>0,EDATE('1_PHIEU_TU_VAN'!$K$10,COUNTIF($B$10:$B52,">"&'1_PHIEU_TU_VAN'!$K$10)+1),MIN(EDATE('1_PHIEU_TU_VAN'!$K$9,43),'1_PHIEU_TU_VAN'!$K$10))) -> 47603 | C53: =IF(B53="","",IF(B53='1_PHIEU_TU_VAN'!$K$9,"Ký HĐMB",IF(B53='1_PHIEU_TU_VAN'!$K$10,"Nhận nhà dự kiến",IF(B53<'1_PHIEU_TU_VAN'!$K$10,"Sau 43 tháng","Sau nhận nhà "&TEXT(COUNTIF($B$10:B53,">"&'1_PHIEU_TU_VAN'!$K$10),"00")&" tháng")))) -> Sau nhận nhà 34 tháng | D53: =IF(B53="","",IF(B53='1_PHIEU_TU_VAN'!$K$10,MAX(0,'8_THAM_SO'!$C$4-N($G52)),IF(B53<'1_PHIEU_TU_VAN'!$K$10,0.5%,IF(N($G52)>=95%,0,MIN(IF(COUNTIF($B$10:B53,">"&'1_PHIEU_TU_VAN'!$K$10)<=12,1.5%,2%),95%-N($G52)))))) -> 0.02 | E53: =IF(D53="","",$G$5*D53) -> 189926000 | F53: =IF(G53="","",$G$5*G53) -> 8.261781e+09 | G53: =IF(D53="","",N($G52)+D53) -> 0.87 | H53: =IF(B53="","",IF(B53='1_PHIEU_TU_VAN'!$K$9,"Đã bao gồm 100 triệu đặt cọc",IF(B53='1_PHIEU_TU_VAN'!$K$10,"Mốc nhận nhà dự kiến","")))
A54: =IF(B54="","","Đợt "&COUNT($B$10:B54)) -> Đợt 45 | B54: =IF(N($G53)>=95%,"",IF(COUNTIF($B$10:$B53,'1_PHIEU_TU_VAN'!$K$10)>0,EDATE('1_PHIEU_TU_VAN'!$K$10,COUNTIF($B$10:$B53,">"&'1_PHIEU_TU_VAN'!$K$10)+1),MIN(EDATE('1_PHIEU_TU_VAN'!$K$9,44),'1_PHIEU_TU_VAN'!$K$10))) -> 47633 | C54: =IF(B54="","",IF(B54='1_PHIEU_TU_VAN'!$K$9,"Ký HĐMB",IF(B54='1_PHIEU_TU_VAN'!$K$10,"Nhận nhà dự kiến",IF(B54<'1_PHIEU_TU_VAN'!$K$10,"Sau 44 tháng","Sau nhận nhà "&TEXT(COUNTIF($B$10:B54,">"&'1_PHIEU_TU_VAN'!$K$10),"00")&" tháng")))) -> Sau nhận nhà 35 tháng | D54: =IF(B54="","",IF(B54='1_PHIEU_TU_VAN'!$K$10,MAX(0,'8_THAM_SO'!$C$4-N($G53)),IF(B54<'1_PHIEU_TU_VAN'!$K$10,0.5%,IF(N($G53)>=95%,0,MIN(IF(COUNTIF($B$10:B54,">"&'1_PHIEU_TU_VAN'!$K$10)<=12,1.5%,2%),95%-N($G53)))))) -> 0.02 | E54: =IF(D54="","",$G$5*D54) -> 189926000 | F54: =IF(G54="","",$G$5*G54) -> 8.451707e+09 | G54: =IF(D54="","",N($G53)+D54) -> 0.89 | H54: =IF(B54="","",IF(B54='1_PHIEU_TU_VAN'!$K$9,"Đã bao gồm 100 triệu đặt cọc",IF(B54='1_PHIEU_TU_VAN'!$K$10,"Mốc nhận nhà dự kiến","")))
A55: =IF(B55="","","Đợt "&COUNT($B$10:B55)) -> Đợt 46 | B55: =IF(N($G54)>=95%,"",IF(COUNTIF($B$10:$B54,'1_PHIEU_TU_VAN'!$K$10)>0,EDATE('1_PHIEU_TU_VAN'!$K$10,COUNTIF($B$10:$B54,">"&'1_PHIEU_TU_VAN'!$K$10)+1),MIN(EDATE('1_PHIEU_TU_VAN'!$K$9,45),'1_PHIEU_TU_VAN'!$K$10))) -> 47664 | C55: =IF(B55="","",IF(B55='1_PHIEU_TU_VAN'!$K$9,"Ký HĐMB",IF(B55='1_PHIEU_TU_VAN'!$K$10,"Nhận nhà dự kiến",IF(B55<'1_PHIEU_TU_VAN'!$K$10,"Sau 45 tháng","Sau nhận nhà "&TEXT(COUNTIF($B$10:B55,">"&'1_PHIEU_TU_VAN'!$K$10),"00")&" tháng")))) -> Sau nhận nhà 36 tháng | D55: =IF(B55="","",IF(B55='1_PHIEU_TU_VAN'!$K$10,MAX(0,'8_THAM_SO'!$C$4-N($G54)),IF(B55<'1_PHIEU_TU_VAN'!$K$10,0.5%,IF(N($G54)>=95%,0,MIN(IF(COUNTIF($B$10:B55,">"&'1_PHIEU_TU_VAN'!$K$10)<=12,1.5%,2%),95%-N($G54)))))) -> 0.02 | E55: =IF(D55="","",$G$5*D55) -> 189926000 | F55: =IF(G55="","",$G$5*G55) -> 8.641633e+09 | G55: =IF(D55="","",N($G54)+D55) -> 0.91 | H55: =IF(B55="","",IF(B55='1_PHIEU_TU_VAN'!$K$9,"Đã bao gồm 100 triệu đặt cọc",IF(B55='1_PHIEU_TU_VAN'!$K$10,"Mốc nhận nhà dự kiến","")))
A56: =IF(B56="","","Đợt "&COUNT($B$10:B56)) -> Đợt 47 | B56: =IF(N($G55)>=95%,"",IF(COUNTIF($B$10:$B55,'1_PHIEU_TU_VAN'!$K$10)>0,EDATE('1_PHIEU_TU_VAN'!$K$10,COUNTIF($B$10:$B55,">"&'1_PHIEU_TU_VAN'!$K$10)+1),MIN(EDATE('1_PHIEU_TU_VAN'!$K$9,46),'1_PHIEU_TU_VAN'!$K$10))) -> 47694 | C56: =IF(B56="","",IF(B56='1_PHIEU_TU_VAN'!$K$9,"Ký HĐMB",IF(B56='1_PHIEU_TU_VAN'!$K$10,"Nhận nhà dự kiến",IF(B56<'1_PHIEU_TU_VAN'!$K$10,"Sau 46 tháng","Sau nhận nhà "&TEXT(COUNTIF($B$10:B56,">"&'1_PHIEU_TU_VAN'!$K$10),"00")&" tháng")))) -> Sau nhận nhà 37 tháng | D56: =IF(B56="","",IF(B56='1_PHIEU_TU_VAN'!$K$10,MAX(0,'8_THAM_SO'!$C$4-N($G55)),IF(B56<'1_PHIEU_TU_VAN'!$K$10,0.5%,IF(N($G55)>=95%,0,MIN(IF(COUNTIF($B$10:B56,">"&'1_PHIEU_TU_VAN'!$K$10)<=12,1.5%,2%),95%-N($G55)))))) -> 0.02 | E56: =IF(D56="","",$G$5*D56) -> 189926000 | F56: =IF(G56="","",$G$5*G56) -> 8.831559e+09 | G56: =IF(D56="","",N($G55)+D56) -> 0.93 | H56: =IF(B56="","",IF(B56='1_PHIEU_TU_VAN'!$K$9,"Đã bao gồm 100 triệu đặt cọc",IF(B56='1_PHIEU_TU_VAN'!$K$10,"Mốc nhận nhà dự kiến","")))
A57: =IF(B57="","","Đợt "&COUNT($B$10:B57)) -> Đợt 48 | B57: =IF(N($G56)>=95%,"",IF(COUNTIF($B$10:$B56,'1_PHIEU_TU_VAN'!$K$10)>0,EDATE('1_PHIEU_TU_VAN'!$K$10,COUNTIF($B$10:$B56,">"&'1_PHIEU_TU_VAN'!$K$10)+1),MIN(EDATE('1_PHIEU_TU_VAN'!$K$9,46),'1_PHIEU_TU_VAN'!$K$10))) -> 47725 | C57: =IF(B57="","",IF(B57='1_PHIEU_TU_VAN'!$K$9,"Ký HĐMB",IF(B57='1_PHIEU_TU_VAN'!$K$10,"Nhận nhà dự kiến",IF(B57<'1_PHIEU_TU_VAN'!$K$10,"Sau 46 tháng","Sau nhận nhà "&TEXT(COUNTIF($B$10:B57,">"&'1_PHIEU_TU_VAN'!$K$10),"00")&" tháng")))) -> Sau nhận nhà 38 tháng | D57: =IF(B57="","",IF(B57='1_PHIEU_TU_VAN'!$K$10,MAX(0,'8_THAM_SO'!$C$4-N($G56)),IF(B57<'1_PHIEU_TU_VAN'!$K$10,0.5%,IF(N($G56)>=95%,0,MIN(IF(COUNTIF($B$10:B57,">"&'1_PHIEU_TU_VAN'!$K$10)<=12,1.5%,2%),95%-N($G56)))))) -> 0.02 | E57: =IF(D57="","",$G$5*D57) -> 1.89926e+08 | F57: =IF(G57="","",$G$5*G57) -> 9021485000 | G57: =IF(D57="","",N($G56)+D57) -> 0.95 | H57: =IF(B57="","",IF(B57='1_PHIEU_TU_VAN'!$K$9,"Đã bao gồm 100 triệu đặt cọc",IF(B57='1_PHIEU_TU_VAN'!$K$10,"Mốc nhận nhà dự kiến","")))
A58: ="Đợt "&(COUNT($B$10:$B$56)+1) -> Đợt 48 | C58: Thông báo cấp GCN | D58: 0.05 | E58: =$G$5*D58 -> 474815000 | F58: =$G$5*G58 -> 9496300000 | G58: =IF(D58="","",N($G57)+D58) -> 1
A59: TỔNG | D59: =SUM($D$10:$D$58) -> 1 | E59: =SUM($E$10:$E$58) -> 9.4963e+09 | H59: Chưa gồm phí bảo trì 2%

Sheet 8_THAM_SO
A1: LEGACY 66 | THAM SỐ MÔ PHỎNG BOOKING
A3: PTTT | B3: CK PTTT | C3: Lũy kế đến nhận nhà | D3: Sau nhận nhà | E3: GCN | F3: Gợi ý
A4: 48 tháng | B4: 0 | C4: 0.25 | D4: 0.7 | E4: 0.05 | F4: Nhẹ dòng tiền nhất
A5: 36 tháng | B5: 0.01 | C5: 0.3 | D5: 0.65 | E5: 0.05 | F5: Nhẹ dòng tiền
A6: Chuẩn 24 tháng | B6: 0.02 | C6: 0.5 | D6: 0.45 | E6: 0.05 | F6: Cân bằng dòng tiền
A7: Nhanh 50 | B7: 0.05 | C7: =95% -> 0.95 | D7: =0% -> 0 | E7: 0.05 | F7: Tối ưu giá, giữ vốn sau nhận nhà
A8: Nhanh 70 | B8: 0.06 | C8: 0.95 | D8: 0 | E8: 0.05 | F8: Giá tốt nhất, vốn vào nhanh
A9: Vay ngân hàng | B9: 0 | C9: 0.95 | D9: 0 | E9: 0.05 | F9: Giảm vốn tự có nhờ ngân hàng
A12: THAM SỐ CHUNG | B12: GIÁ TRỊ | D12: THAM SỐ VAY | E12: GIÁ TRỊ | F12: GHI CHÚ
A13: Đặt cọc dự kiến | B13: 100000000 | D13: Tỷ lệ vốn KH | E13: 0.3 | F13: Dự kiến
A14: VAT | B14: 0.1 | D14: Tỷ lệ ngân hàng | E14: 0.7 | F14: Dự kiến
A15: Phí bảo trì | B15: 0.02 | D15: HTLS | E15: 18 | F15: tháng
A16: Early Bird | B16: 0.03 | D16: Ân hạn gốc | E16: 36 | F16: tháng
A17: CK sỉ 2 SP | B17: 0.005 | D17: Mốc nhận nhà cố định | E17: ='1_PHIEU_TU_VAN'!$K$10 -> 46568 | F17: Theo Sheet 01
A18: CK sỉ 3-4 SP | B18: 0.01
A19: CK sỉ từ 5 SP | B19: 0.015
A22: LƯU Ý
A23: Giá, chiết khấu và lịch thanh toán là giả định phục vụ Booking/Rumor, không phải báo giá chính thức.
A24: Khi Chủ đầu tư ban hành bảng giá/CSBH chính thức, cần cập nhật lại tham số trước khi phát hành phiếu chính thức.
